BEGIN:VCALENDAR
VERSION:2.0
PRODID:IEEE vTools.Events//EN
CALSCALE:GREGORIAN
BEGIN:VTIMEZONE
TZID:US/Eastern
BEGIN:DAYLIGHT
DTSTART:20220313T030000
TZOFFSETFROM:-0500
TZOFFSETTO:-0400
RRULE:FREQ=YEARLY;BYDAY=2SU;BYMONTH=3
TZNAME:EDT
END:DAYLIGHT
BEGIN:STANDARD
DTSTART:20221106T010000
TZOFFSETFROM:-0400
TZOFFSETTO:-0500
RRULE:FREQ=YEARLY;BYDAY=1SU;BYMONTH=11
TZNAME:EST
END:STANDARD
END:VTIMEZONE
BEGIN:VEVENT
DTSTAMP:20221030T175420Z
UID:0993E1B2-A715-44E0-9470-445416E65EC7
DTSTART;TZID=US/Eastern:20221027T120000
DTEND;TZID=US/Eastern:20221027T133000
DESCRIPTION:This In-Person Life Grade Luncheon is scheduled for October 27.
  The topic of this year’s meeting is: Towards the 100% Clean Energy Futu
 re\n\n- Opportunities and challenges related to the 100 % clean energy sys
 tem\n- Distributed energy resources (DERs) widespread\n- Role of smart inv
 erters and fast electronics to regulate the voltage\n- Mother Nature grid 
 challenges\n- The smarter grid &amp; emerging technologies role\n- Inertia cha
 llenges\n- Role of data\, big data\, Machine Learning and Artificial Intel
 ligence\n\nCo-sponsored by: PES - Ron Quade and IAS - Ken Oexle\n\nSpeaker
 (s): Mousa\, Ahmed\, \n\nAgenda: \n- Opportunities and challenges related 
 to the 100 % clean energy system\n- Distributed energy resources (DERs) wi
 despread\n- Role of smart inverters and fast electronics to regulate the v
 oltage\n- Mother Nature grid challenges\n- The smarter grid &amp; emerging tec
 hnologies role\n- Inertia challenges\n- Role of data\, big data\, Machine 
 Learning and Artificial Intelligence\n\nAll members in &quot;good standing&quot; (go
 od standing refers to active Life members who have paid their IEEE dues fo
 r calendar year 2022) of the North New Jersey Section Life Member Affinity
  Group are eligible to attend plus invited guests.\n\nRoom: Parking is fre
 e and more than adequate.\, Bldg: Greek Taverna\, 292 Broomfield Avenue\, 
 Montclair\, New Jersey\, United States\, 07042
LOCATION:Room: Parking is free and more than adequate.\, Bldg: Greek Tavern
 a\, 292 Broomfield Avenue\, Montclair\, New Jersey\, United States\, 07042
ORGANIZER:millerm@ieee.org
SEQUENCE:7
SUMMARY:Towards the 100% clean energy future – How can IEEE Help? Life Me
 mber Award In-Person Luncheon
URL;VALUE=URI:https://events.vtools.ieee.org/m/323673
X-ALT-DESC:Description: &lt;br /&gt;&lt;p&gt;This In-Person Life Grade Luncheon is sche
 duled for October 27. The topic of this year&amp;rsquo\;s meeting is: Towards 
 the 100% Clean Energy Future&lt;/p&gt;\n&lt;ul&gt;\n&lt;li&gt;Opportunities and challenges r
 elated to the 100 % clean energy system&lt;/li&gt;\n&lt;li&gt;Distributed energy resou
 rces (DERs) widespread&lt;/li&gt;\n&lt;li&gt;Role of smart inverters and fast electron
 ics to regulate the voltage&lt;/li&gt;\n&lt;li&gt;Mother Nature grid challenges&lt;/li&gt;\n
 &lt;li&gt;The smarter grid &amp;amp\; emerging technologies role&lt;/li&gt;\n&lt;li&gt;Inertia c
 hallenges&lt;/li&gt;\n&lt;li&gt;Role of data\, big data\, Machine Learning and Artific
 ial Intelligence&lt;/li&gt;\n&lt;/ul&gt;&lt;br /&gt;&lt;br /&gt;Agenda: &lt;br /&gt;&lt;ul&gt;\n&lt;li&gt;Opportunit
 ies and challenges related to the 100 % clean energy system&lt;/li&gt;\n&lt;li&gt;Dist
 ributed energy resources (DERs) widespread&lt;/li&gt;\n&lt;li&gt;Role of smart inverte
 rs and fast electronics to regulate the voltage&lt;/li&gt;\n&lt;li&gt;Mother Nature gr
 id challenges&lt;/li&gt;\n&lt;li&gt;The smarter grid &amp;amp\; emerging technologies role
 &lt;/li&gt;\n&lt;li&gt;Inertia challenges&lt;/li&gt;\n&lt;li&gt;Role of data\, big data\, Machine 
 Learning and Artificial Intelligence&lt;/li&gt;\n&lt;/ul&gt;\n&lt;p&gt;All members in &quot;good 
 standing&quot; (good standing refers to active Life members who have paid their
  IEEE dues for calendar year 2022) of the North New Jersey Section Life Me
 mber Affinity Group are eligible to attend plus invited guests.&lt;/p&gt;
END:VEVENT
END:VCALENDAR

