BEGIN:VCALENDAR
VERSION:2.0
PRODID:IEEE vTools.Events//EN
CALSCALE:GREGORIAN
BEGIN:VTIMEZONE
TZID:America/Denver
BEGIN:DAYLIGHT
DTSTART:20220313T030000
TZOFFSETFROM:-0700
TZOFFSETTO:-0600
RRULE:FREQ=YEARLY;BYDAY=2SU;BYMONTH=3
TZNAME:MDT
END:DAYLIGHT
BEGIN:STANDARD
DTSTART:20221106T010000
TZOFFSETFROM:-0600
TZOFFSETTO:-0700
RRULE:FREQ=YEARLY;BYDAY=1SU;BYMONTH=11
TZNAME:MST
END:STANDARD
END:VTIMEZONE
BEGIN:VEVENT
DTSTAMP:20221012T183423Z
UID:995373F6-E5FE-4757-B8E7-727879544D54
DTSTART;TZID=America/Denver:20221005T120000
DTEND;TZID=America/Denver:20221005T130000
DESCRIPTION:IEEE EXCOM meeting will be held on the first Wednesdays of the 
 month from 12pm to 1pm in the Outlet (basement of Brown Hall)\n\nRoom: The
  Outlet (basement)\, Bldg: Brown Hall\, 1600 Illinois St\, Golden\, Colora
 do\, United States\, 80401
LOCATION:Room: The Outlet (basement)\, Bldg: Brown Hall\, 1600 Illinois St\
 , Golden\, Colorado\, United States\, 80401
ORGANIZER:efelger@mines.edu
SEQUENCE:3
SUMMARY:IEEE Mines EXCOM meeting
URL;VALUE=URI:https://events.vtools.ieee.org/m/324266
X-ALT-DESC:Description: &lt;br /&gt;&lt;p&gt;IEEE EXCOM meeting will be held on the fir
 st Wednesdays of the month from 12pm to 1pm in the Outlet (basement of Bro
 wn Hall)&lt;/p&gt;
END:VEVENT
END:VCALENDAR

