BEGIN:VCALENDAR
VERSION:2.0
PRODID:IEEE vTools.Events//EN
CALSCALE:GREGORIAN
BEGIN:VTIMEZONE
TZID:America/New_York
BEGIN:DAYLIGHT
DTSTART:20230312T030000
TZOFFSETFROM:-0500
TZOFFSETTO:-0400
RRULE:FREQ=YEARLY;BYDAY=2SU;BYMONTH=3
TZNAME:EDT
END:DAYLIGHT
BEGIN:STANDARD
DTSTART:20221106T010000
TZOFFSETFROM:-0400
TZOFFSETTO:-0500
RRULE:FREQ=YEARLY;BYDAY=1SU;BYMONTH=11
TZNAME:EST
END:STANDARD
END:VTIMEZONE
BEGIN:VEVENT
DTSTAMP:20221208T034119Z
UID:695C9550-1B72-4DF7-9D4F-65113138A7DF
DTSTART;TZID=America/New_York:20221207T140000
DTEND;TZID=America/New_York:20221207T150000
DESCRIPTION:Semiconductor Quantum Dots\, why are they so quantum? Genesis\,
  prospects &amp; challenges\n\nFrédéric Grillot\, Professor\, Télécom Pari
 s (France) &amp; the University of New-Mexico (USA)\n\nAbout the Talk\n\nSemic
 onductor nanostructures with low dimensionality like quantum dots are one 
 the best attractive solutions for achieving high performance photonic devi
 ces. When one or more spatial dimensions of the nanocrystal approach the d
 e Broglie wavelength\, nanoscale size effects create a spatial quantizatio
 n of carriers along with various other phenomena based on quantum mechanic
 s. Thanks to their compactness\, great thermal stability and large reflect
 ion immunity\, semiconductor quantum dot lasers are very promising candida
 tes for low energy consumption and isolation free photonic integrated circ
 uits. When directly grown on silicon\, they even show a four-wave mixing e
 fficiency much superior compared to the conventional quantum well devices.
  This remarkable result paves the way for achieving high-efficiency freque
 ncy comb generation from a photonic chip. Quantum dot lasers also exhibit 
 a strong potential for applications in optical routing and optical atomic 
 clock.Last but not least\, a quantum dot single photon source is a buildin
 g block in secure communications\, and therefore can be applied to quantum
  information processing for applications such as quantum computers. This l
 ecture will review the recent findings and prospects on nanostructure base
 d light emitters made with quantum-dot technology. Many applications rangi
 ng from silicon-based integrated solutions to quantum information systems 
 will be presented. In addition\, the lecture will highlight the importance
  of nanotechnologies on industry and society especially for shaping the fu
 ture information and communication society.\n\nAbout the Speaker\n\nhttps:
 //perso.telecom-paristech.fr/grillot/moi.png\n\nFrédéric Grillot is curr
 ently a Full Professor at Télécom Paris (France) and a Research Professo
 r at the University of New-Mexico (USA). His research interests include\, 
 but are not limited to\, advanced quantum confined devices using III-V com
 pound semiconductors\, quantum dots quantum dashes\, light-emitters based 
 on intersubband transitions\, non-classical light\, nonlinear dynamics and
  optical chaos in semiconductor lasers systems as well as microwave and si
 licon photonics applications.\n\nProfessor Grillot has made outstanding te
 chnical contributions in photonics and optical communications. He has inte
 nsively contributed to the development of quantum dot devices enabling the
 ir utilization as future active devices with superior performance. In part
 icular\, his recent achievements on epitaxial quantum dot lasers on silico
 n are crucial for the development of isolation-free integrated technologie
 s. Among his major achievements\, he also reported the first private optic
 al communication using mid-infrared chaotic light\, giant pulses emission 
 in quantum cascade devices as well as multigigabits operation in the therm
 al atmospheric window with unipolar quantum optoelectronics. Overall\, his
  research is a strong input to the advancement of science and to the emerg
 ing practical applications in computer and quantum technologies\, as well 
 as in more traditional areas such as optical communications.\n\nProfessor 
 Grillot strongly contributes to promote and support the development of the
  general optics community. He has served diligently and successfully Optic
 a in particular as an Associate Editor of Optics Express\, now as a Deputy
  Editor since September 2022. As of now\, he has published more than 130 j
 ournal articles\, 3 book chapters\, and delivered many invited talks in ma
 jor international conferences and workshops. Frédéric Grillot is also a 
 Fellow Member of the SPIE as well as a Senior Member of Optica and the IEE
 E Photonics Society. In 2022\, he received the IEEE Photonics Society Dist
 inguished Lecturer Award which honors excellent speakers who have made tec
 hnical\, industrial or entrepreneurial contributions to the field of photo
 nics.\n\nSponsors: IEEE Princeton/Central Jersey Section\n\nIEEE Photonics
  Society PCJ Chapter\n\nIEEE Region 1\n\nAll are welcome! You do not have 
 to be a member of the IEEE to attend. The registration is free and require
 d.\n\nRegistration Required:\nhttps://events.vtools.ieee.org/m/324300\n\nT
 ime: 2~3PM (Eastern Time)\, Wednesday Dec 7th 2022\n\nZoom: https://future
 wei.zoom.us/j/6135444997\n\nZoom ID: 613 544 4997\n\nCo-sponsored by: IEEE
  Princeton/Central Jersey Section\, IEEE Photonics Society PCJ Chapter and
  Region 1\n\nVirtual: https://events.vtools.ieee.org/m/324300
LOCATION:Virtual: https://events.vtools.ieee.org/m/324300
ORGANIZER:yuanqiu.luo@futurewei.com
SEQUENCE:28
SUMMARY:IEEE PCJS 75th Anniversary Zoom Webinar Series\, Photonics Chapter\
 , Semiconductor Quantum Dots
URL;VALUE=URI:https://events.vtools.ieee.org/m/324300
X-ALT-DESC:Description: &lt;br /&gt;&lt;p style=&quot;text-align: center\;&quot;&gt;&lt;span style=&quot;
 font-family: Calibri\, sans-serif\; font-size: 18pt\;&quot;&gt;&lt;strong&gt;Semiconduct
 or Quantum Dots\, why are they so quantum? Genesis\, prospects &amp;amp\; chal
 lenges&lt;/strong&gt;&lt;/span&gt;&lt;/p&gt;\n&lt;p&gt;&lt;strong&gt;&amp;nbsp\; &amp;nbsp\; &amp;nbsp\; &amp;nbsp\; &amp;nb
 sp\; &amp;nbsp\; &amp;nbsp\; &amp;nbsp\; &amp;nbsp\; &lt;/strong&gt;&lt;/p&gt;\n&lt;p style=&quot;text-align: 
 center\;&quot;&gt;&lt;strong&gt;&amp;nbsp\; &amp;nbsp\; &lt;span style=&quot;font-family: arial\, helvet
 ica\, sans-serif\;&quot;&gt;&lt;span style=&quot;font-size: 14pt\;&quot;&gt;Fr&amp;eacute\;d&amp;eacute\;r
 ic Grillot\, Professor\, T&amp;eacute\;l&amp;eacute\;com Paris (France) &amp;amp\; the
  University of New-Mexico (USA)&lt;/span&gt;&lt;/span&gt;&lt;/strong&gt;&lt;/p&gt;\n&lt;p&gt;&amp;nbsp\;&lt;/p&gt;
 \n&lt;p&gt;&lt;span style=&quot;font-family: arial\, helvetica\, sans-serif\; font-size:
  14pt\;&quot;&gt;&lt;strong&gt;About the Talk&lt;/strong&gt;&lt;/span&gt;&lt;/p&gt;\n&lt;p style=&quot;text-align:
  justify\;&quot;&gt;&lt;span style=&quot;font-family: arial\, helvetica\, sans-serif\; fon
 t-size: 14pt\;&quot;&gt;Semiconductor nanostructures with low dimensionality like 
 quantum dots are one the best attractive solutions for achieving high perf
 ormance photonic devices. When one or more spatial dimensions of the nanoc
 rystal approach the de Broglie wavelength\, nanoscale size effects create 
 a spatial quantization of carriers along with various other phenomena base
 d on quantum mechanics. Thanks to their compactness\, great thermal stabil
 ity and large reflection immunity\, semiconductor quantum dot lasers are v
 ery promising candidates for low energy consumption and isolation free pho
 tonic integrated circuits. When directly grown on silicon\, they even show
  a four-wave mixing efficiency much superior compared to the conventional 
 quantum well devices. This remarkable result paves the way for achieving h
 igh-efficiency frequency comb generation from a photonic chip. Quantum dot
  lasers also exhibit a strong potential for applications in optical routin
 g and optical atomic clock.Last but not least\, a quantum dot single photo
 n source is a building block in secure communications\, and therefore can 
 be applied to quantum information processing for applications such as quan
 tum computers. This lecture will review the recent findings and prospects 
 on nanostructure based light emitters made with quantum-dot technology. Ma
 ny applications ranging from silicon-based integrated solutions to quantum
  information systems will be presented. In addition\, the lecture will hig
 hlight the importance of nanotechnologies on industry and society especial
 ly for shaping the future information and communication society.&lt;/span&gt;&lt;/p
 &gt;\n&lt;p&gt;&amp;nbsp\;&lt;/p&gt;\n&lt;p&gt;&lt;span style=&quot;font-family: arial\, helvetica\, sans-s
 erif\; font-size: 14pt\;&quot;&gt;&lt;strong&gt;About the Speaker&lt;/strong&gt;&lt;/span&gt;&lt;/p&gt;\n&lt;
 p style=&quot;text-align: justify\;&quot;&gt;&lt;span style=&quot;font-family: arial\, helvetic
 a\, sans-serif\;&quot;&gt;&lt;a href=&quot;https://perso.telecom-paristech.fr/grillot/moi.
 png&quot;&gt;&lt;img style=&quot;float: left\; height: 157px\; margin: 20px\; width: 157px
 \;&quot; src=&quot;https://perso.telecom-paristech.fr/grillot/moi.png&quot; alt=&quot;&quot; /&gt;&lt;/a&gt;
 &lt;/span&gt;&lt;/p&gt;\n&lt;p style=&quot;text-align: justify\;&quot;&gt;&lt;span style=&quot;font-family: ar
 ial\, helvetica\, sans-serif\; font-size: 14pt\;&quot;&gt;Fr&amp;eacute\;d&amp;eacute\;ric
  Grillot is currently a Full Professor at T&amp;eacute\;l&amp;eacute\;com Paris (F
 rance) and a Research Professor at the University of New-Mexico (USA). His
  research interests include\, but are not limited to\, advanced quantum&amp;nb
 sp\;confined devices using III-V compound semiconductors\, quantum dots qu
 antum dashes\, light-emitters based on intersubband transitions\, non-clas
 sical light\, nonlinear dynamics and optical chaos in semiconductor&amp;nbsp\;
 lasers systems as well as microwave and silicon photonics applications.&lt;/s
 pan&gt;&lt;/p&gt;\n&lt;p style=&quot;text-align: justify\;&quot;&gt;&lt;span style=&quot;font-family: arial
 \, helvetica\, sans-serif\; font-size: 14pt\;&quot;&gt;Professor Grillot has made 
 outstanding technical contributions in photonics and optical communication
 s. He has intensively contributed to the development of quantum dot device
 s enabling their utilization as future&amp;nbsp\;active devices with superior 
 performance. In particular\, his recent achievements on epitaxial quantum 
 dot lasers on silicon are crucial for the development of isolation-free in
 tegrated technologies. Among his major&amp;nbsp\;achievements\, he also report
 ed the first private optical communication using mid-infrared chaotic ligh
 t\, giant pulses emission in quantum cascade devices as well as multigigab
 its operation in the thermal&amp;nbsp\;atmospheric window with unipolar quantu
 m optoelectronics. Overall\, his research is a strong input to the advance
 ment of science and to the emerging practical applications in computer and
  quantum technologies\,&amp;nbsp\;as well as in more traditional areas such as
  optical communications.&lt;/span&gt;&lt;/p&gt;\n&lt;p style=&quot;text-align: justify\;&quot;&gt;&lt;spa
 n style=&quot;font-family: arial\, helvetica\, sans-serif\; font-size: 14pt\;&quot;&gt;
 Professor Grillot strongly contributes to promote and support the developm
 ent of the general optics community. He has served diligently and successf
 ully Optica in particular as an Associate Editor of Optics Express\,&amp;nbsp\
 ;now as a Deputy Editor since September 2022. As of now\, he has published
  more than 130 journal articles\, 3 book chapters\, and delivered many inv
 ited talks in major international conferences and workshops.&amp;nbsp\;Fr&amp;eacu
 te\;d&amp;eacute\;ric Grillot is also a Fellow Member of the SPIE as well as a
  Senior Member of Optica and the IEEE Photonics Society. In 2022\, he rece
 ived the IEEE Photonics Society Distinguished Lecturer Award which honors&amp;
 nbsp\;excellent speakers who have made technical\, industrial or entrepren
 eurial contributions to the field of photonics.&lt;/span&gt;&lt;/p&gt;\n&lt;p&gt;&amp;nbsp\;&lt;/p&gt;
 \n&lt;p&gt;&lt;span style=&quot;font-family: arial\, helvetica\, sans-serif\; font-size:
  14pt\;&quot;&gt;&lt;strong&gt;Sponsors:&lt;/strong&gt;&amp;nbsp\;&amp;nbsp\;IEEE Princeton/Central Je
 rsey Section&lt;/span&gt;&lt;/p&gt;\n&lt;p&gt;&lt;span style=&quot;font-family: arial\, helvetica\, 
 sans-serif\; font-size: 14pt\;&quot;&gt;&amp;nbsp\;&amp;nbsp\;&amp;nbsp\;&amp;nbsp\;&amp;nbsp\;&amp;nbsp\;
 &amp;nbsp\;&amp;nbsp\;&amp;nbsp\;&amp;nbsp\;&amp;nbsp\;&amp;nbsp\;&amp;nbsp\;&amp;nbsp\;&amp;nbsp\;&amp;nbsp\;&amp;nbs
 p\;&amp;nbsp\; IEEE Photonics Society PCJ Chapter&lt;/span&gt;&lt;/p&gt;\n&lt;p&gt;&lt;span style=&quot;
 font-family: arial\, helvetica\, sans-serif\; font-size: 14pt\;&quot;&gt;&amp;nbsp\; &amp;
 nbsp\; &amp;nbsp\; &amp;nbsp\; &amp;nbsp\; &amp;nbsp\; &amp;nbsp\; &amp;nbsp\; &amp;nbsp\; &amp;nbsp\;IEEE
  Region 1&lt;/span&gt;&lt;/p&gt;\n&lt;p&gt;&lt;span style=&quot;font-family: arial\, helvetica\, san
 s-serif\; font-size: 14pt\;&quot;&gt;All are welcome!&amp;nbsp\;You do not have to be 
 a member of the IEEE to attend. The registration is free and required.&lt;/sp
 an&gt;&lt;/p&gt;\n&lt;p&gt;&lt;span style=&quot;font-family: arial\, helvetica\, sans-serif\; fon
 t-size: 14pt\;&quot;&gt;&lt;strong&gt;Registration Required:&lt;br /&gt;&lt;/strong&gt;&lt;a href=&quot;http
 s://events.vtools.ieee.org/m/324300&quot;&gt;https://events.vtools.ieee.org/m/3243
 00&lt;/a&gt;&lt;/span&gt;&lt;/p&gt;\n&lt;p&gt;&lt;span style=&quot;font-family: arial\, helvetica\, sans-s
 erif\; font-size: 14pt\;&quot;&gt;&lt;strong&gt;Time&lt;/strong&gt;:&amp;nbsp\;&amp;nbsp\;2~3PM (Easte
 rn Time)\, Wednesday Dec 7&lt;sup&gt;th&lt;/sup&gt;&amp;nbsp\;2022&lt;/span&gt;&lt;/p&gt;\n&lt;p&gt;&lt;span st
 yle=&quot;font-family: arial\, helvetica\, sans-serif\; font-size: 14pt\;&quot;&gt;&lt;str
 ong&gt;Zoom:&lt;/strong&gt;&amp;nbsp\;&lt;a href=&quot;https://futurewei.zoom.us/j/6135444997&quot;&gt;
 https://futurewei.zoom.us/j/6135444997&lt;/a&gt;&lt;/span&gt;&lt;/p&gt;\n&lt;p&gt;&lt;span style=&quot;fon
 t-family: arial\, helvetica\, sans-serif\; font-size: 14pt\;&quot;&gt;&lt;strong&gt;Zoom
  ID:&lt;/strong&gt;&amp;nbsp\;613 544 4997&lt;/span&gt;&lt;/p&gt;\n&lt;p&gt;&amp;nbsp\;&lt;/p&gt;
END:VEVENT
END:VCALENDAR

