BEGIN:VCALENDAR
VERSION:2.0
PRODID:IEEE vTools.Events//EN
CALSCALE:GREGORIAN
BEGIN:VTIMEZONE
TZID:America/Denver
BEGIN:DAYLIGHT
DTSTART:20220313T030000
TZOFFSETFROM:-0700
TZOFFSETTO:-0600
RRULE:FREQ=YEARLY;BYDAY=2SU;BYMONTH=3
TZNAME:MDT
END:DAYLIGHT
BEGIN:STANDARD
DTSTART:20221106T010000
TZOFFSETFROM:-0600
TZOFFSETTO:-0700
RRULE:FREQ=YEARLY;BYDAY=1SU;BYMONTH=11
TZNAME:MST
END:STANDARD
END:VTIMEZONE
BEGIN:VEVENT
DTSTAMP:20221108T023806Z
UID:F369F059-7053-4140-BE70-B796995AB079
DTSTART;TZID=America/Denver:20221020T180000
DTEND;TZID=America/Denver:20221020T190000
DESCRIPTION:A Presentation on how the understanding of brain plasticity has
  enabled robotic developments for aids in the recovery of brain injuries.\
 n\nSpeaker(s): Dr. Hermano Igo Krebs\, \n\nVirtual: https://events.vtools.
 ieee.org/m/324456
LOCATION:Virtual: https://events.vtools.ieee.org/m/324456
ORGANIZER:lwhitby@ieee.org
SEQUENCE:3
SUMMARY:How Robotics are Revolutionizing Rehabilitation
URL;VALUE=URI:https://events.vtools.ieee.org/m/324456
X-ALT-DESC:Description: &lt;br /&gt;&lt;p&gt;A Presentation on how the understanding of
  brain plasticity has enabled robotic developments for aids in the recover
 y of brain injuries.&lt;/p&gt;
END:VEVENT
END:VCALENDAR

