BEGIN:VCALENDAR
VERSION:2.0
PRODID:IEEE vTools.Events//EN
CALSCALE:GREGORIAN
BEGIN:VTIMEZONE
TZID:America/New_York
BEGIN:DAYLIGHT
DTSTART:20220313T030000
TZOFFSETFROM:-0500
TZOFFSETTO:-0400
RRULE:FREQ=YEARLY;BYDAY=2SU;BYMONTH=3
TZNAME:EDT
END:DAYLIGHT
BEGIN:STANDARD
DTSTART:20221106T010000
TZOFFSETFROM:-0400
TZOFFSETTO:-0500
RRULE:FREQ=YEARLY;BYDAY=1SU;BYMONTH=11
TZNAME:EST
END:STANDARD
END:VTIMEZONE
BEGIN:VEVENT
DTSTAMP:20220919T031345Z
UID:C3A1CCAB-26A7-4BFF-99C3-6AA999DEEA84
DTSTART;TZID=America/New_York:20220909T170000
DTEND;TZID=America/New_York:20220909T183000
DESCRIPTION:Old and new members will look at the old go-kart frame and supp
 lies\, then brainstorm ideas on how we would like to start building up the
  go-kart\n\nCo-sponsored by: Dr. Jamison Heard \n\nRoom: 2580 (Xerox Audit
 orium)\, Bldg: James E. Gleason (Building 9)\, 77 Lomb Memorial Drive\, Ro
 chester\, New York\, United States\, 14623
LOCATION:Room: 2580 (Xerox Auditorium)\, Bldg: James E. Gleason (Building 9
 )\, 77 Lomb Memorial Drive\, Rochester\, New York\, United States\, 14623
ORGANIZER:cn6648@rit.edu
SEQUENCE:0
SUMMARY:RIT IEEE 9/9/2022 - Gokart Introduction 
URL;VALUE=URI:https://events.vtools.ieee.org/m/324469
X-ALT-DESC:Description: &lt;br /&gt;&lt;p&gt;Old and new members will look at the old g
 o-kart frame and supplies\, then brainstorm ideas on how we would like to 
 start building up the go-kart&amp;nbsp\;&lt;/p&gt;
END:VEVENT
END:VCALENDAR

