BEGIN:VCALENDAR
VERSION:2.0
PRODID:IEEE vTools.Events//EN
CALSCALE:GREGORIAN
BEGIN:VTIMEZONE
TZID:Canada/Eastern
BEGIN:DAYLIGHT
DTSTART:20220313T030000
TZOFFSETFROM:-0500
TZOFFSETTO:-0400
RRULE:FREQ=YEARLY;BYDAY=2SU;BYMONTH=3
TZNAME:EDT
END:DAYLIGHT
BEGIN:STANDARD
DTSTART:20221106T010000
TZOFFSETFROM:-0400
TZOFFSETTO:-0500
RRULE:FREQ=YEARLY;BYDAY=1SU;BYMONTH=11
TZNAME:EST
END:STANDARD
END:VTIMEZONE
BEGIN:VEVENT
DTSTAMP:20220922T005914Z
UID:704CCDD6-18B8-4A90-9075-F82BE719844A
DTSTART;TZID=Canada/Eastern:20220921T180000
DTEND;TZID=Canada/Eastern:20220921T204500
DESCRIPTION:Réunion exécutif septembre 2022\n\nAgenda: \n18h00: souper\n\
 n19h00: réunion\n\n1. Adoption de l’ordre du jour\n2. Adoption du compt
 e rendu de la réunion 2022.6+5\n3. Affaires découlant de la réunion 202
 2.6+5\n4. Finances\n4.1. États des comptes\n4.2. Factures : souper\, stat
 ionnements\, etc.\n5. Chapitres/Groupes d’affinités\n5.1. Chapitre Ordi
 nateur\n5.2. Chapitre Traitement du signal/Communications\n5.3. Chapitre A
 ES/OES/GRSS\n5.4. Chapitre EMBS/CAS\n5.5. Groupes d’affinités WIE/YP\n6
 . Branche étudiante\n7. Milestone IEEE micro-onde\n8. Conférences à ven
 ir\n8.1. NEWCAS\n– retour sur l’événement\n9. Divers\n10. Tour de ta
 ble\n11. Prochaine réunion\n\nRoom: PLT-1308\, Bldg: Pavillon Adrien-Poul
 iot\,  1065\, avenue de la Médecine\, Université Laval\, Québec\, Quebe
 c\, Canada\, G1V 0A6\, Virtual: https://events.vtools.ieee.org/m/324535
LOCATION:Room: PLT-1308\, Bldg: Pavillon Adrien-Pouliot\,  1065\, avenue de
  la Médecine\, Université Laval\, Québec\, Quebec\, Canada\, G1V 0A6\, 
 Virtual: https://events.vtools.ieee.org/m/324535
ORGANIZER:Xavier.Maldague@gel.ulaval.ca
SEQUENCE:5
SUMMARY:Rencontre Comité Exécutif Section 2022.7
URL;VALUE=URI:https://events.vtools.ieee.org/m/324535
X-ALT-DESC:Description: &lt;br /&gt;&lt;p&gt;R&amp;eacute\;union ex&amp;eacute\;cutif septembre
  2022&lt;/p&gt;&lt;br /&gt;&lt;br /&gt;Agenda: &lt;br /&gt;&lt;p&gt;18h00: souper&lt;/p&gt;\n&lt;p&gt;19h00: r&amp;eacut
 e\;union&lt;/p&gt;\n&lt;p&gt;1. Adoption de l&amp;rsquo\;ordre du jour&lt;br /&gt;2. Adoption du
  compte rendu de la r&amp;eacute\;union 2022.6+5&lt;br /&gt;3. Affaires d&amp;eacute\;co
 ulant de la r&amp;eacute\;union 2022.6+5&lt;br /&gt;4. Finances&lt;br /&gt;4.1. &amp;Eacute\;t
 ats des comptes&lt;br /&gt;4.2. Factures : souper\, stationnements\, etc.&lt;br /&gt;5
 . Chapitres/Groupes d&amp;rsquo\;affinit&amp;eacute\;s&lt;br /&gt;5.1. Chapitre Ordinate
 ur&lt;br /&gt;5.2. Chapitre Traitement du signal/Communications&lt;br /&gt;5.3. Chapit
 re AES/OES/GRSS&lt;br /&gt;5.4. Chapitre EMBS/CAS&lt;br /&gt;5.5. Groupes d&amp;rsquo\;aff
 init&amp;eacute\;s WIE/YP&lt;br /&gt;6. Branche &amp;eacute\;tudiante&lt;br /&gt;7. Milestone 
 IEEE micro-onde&lt;br /&gt;8. Conf&amp;eacute\;rences &amp;agrave\; venir&lt;br /&gt;8.1. NEWC
 AS&lt;br /&gt;&amp;ndash\; retour sur l&amp;rsquo\;&amp;eacute\;v&amp;eacute\;nement&lt;br /&gt;9. Div
 ers&lt;br /&gt;10. Tour de table&lt;br /&gt;11. Prochaine r&amp;eacute\;union&lt;/p&gt;
END:VEVENT
END:VCALENDAR

