BEGIN:VCALENDAR
VERSION:2.0
PRODID:IEEE vTools.Events//EN
CALSCALE:GREGORIAN
BEGIN:VTIMEZONE
TZID:America/New_York
BEGIN:DAYLIGHT
DTSTART:20220313T030000
TZOFFSETFROM:-0500
TZOFFSETTO:-0400
RRULE:FREQ=YEARLY;BYDAY=2SU;BYMONTH=3
TZNAME:EDT
END:DAYLIGHT
BEGIN:STANDARD
DTSTART:20221106T010000
TZOFFSETFROM:-0400
TZOFFSETTO:-0500
RRULE:FREQ=YEARLY;BYDAY=1SU;BYMONTH=11
TZNAME:EST
END:STANDARD
END:VTIMEZONE
BEGIN:VEVENT
DTSTAMP:20221107T193857Z
UID:CBAE5BF1-B8DE-417C-BCC6-64970650C1F9
DTSTART;TZID=America/New_York:20221005T163000
DTEND;TZID=America/New_York:20221005T180000
DESCRIPTION:Join UR IEEE\, Orolia Defense &amp; Security\, Bosch Security Syste
 ms\, and L3Harris to discuss hiring for internships and new grads! There w
 ill be an hour-long Q&amp;A with the company representatives followed by 30 mi
 nutes for personal networking.\n\nRoom: 601\, Bldg: Computer Studies Build
 ing\, 120 Trustee Road\, Rochester\, New York\, United States\, 14620
LOCATION:Room: 601\, Bldg: Computer Studies Building\, 120 Trustee Road\, R
 ochester\, New York\, United States\, 14620
ORGANIZER:akwak2@u.rochester.edu
SEQUENCE:3
SUMMARY:Hiring Panel with UR IEEE
URL;VALUE=URI:https://events.vtools.ieee.org/m/324623
X-ALT-DESC:Description: &lt;br /&gt;&lt;p&gt;Join UR IEEE\, Orolia Defense &amp;amp\; Secur
 ity\, Bosch Security Systems\, and L3Harris to discuss hiring for internsh
 ips and new grads! There will be an hour-long Q&amp;amp\;A with the company re
 presentatives followed by 30 minutes for personal networking.&lt;/p&gt;
END:VEVENT
END:VCALENDAR

