BEGIN:VCALENDAR
VERSION:2.0
PRODID:IEEE vTools.Events//EN
CALSCALE:GREGORIAN
BEGIN:VTIMEZONE
TZID:America/Lima
BEGIN:DAYLIGHT
DTSTART:20380118T221407
TZOFFSETFROM:-0500
TZOFFSETTO:-0500
RRULE:FREQ=YEARLY;BYDAY=3MO;BYMONTH=1
TZNAME:-05
END:DAYLIGHT
BEGIN:STANDARD
DTSTART:19940331T230000
TZOFFSETFROM:-0400
TZOFFSETTO:-0500
RRULE:FREQ=YEARLY;BYDAY=-1TH;BYMONTH=3
TZNAME:-05
END:STANDARD
END:VTIMEZONE
BEGIN:VEVENT
DTSTAMP:20221007T180106Z
UID:4354D4D4-1285-4B4B-8576-14B38815AE03
DTSTART;TZID=America/Lima:20220928T170000
DTEND;TZID=America/Lima:20220930T170000
DESCRIPTION:Se realizarán 3 talleres en 3 áreas: Mecánica\, Electrónica
  y Programación con el objetivo de que los asistentes diseñen y programe
 n una alcancía automática\n\nSpeaker(s): Jim Fabian Gonzales\, Jazmin Ro
 bertson Vasquez \n\nAgenda: \nEsperar asistentes\n\nPresentación del Pone
 nte\n\nExplicación de la teoria\n\nDesarrollo de la práctica en la plata
 forma\n\nActividad Recreacional: Kahoot\n\nDespedida y agradecimiento\n\nV
 irtual: https://events.vtools.ieee.org/m/324757
LOCATION:Virtual: https://events.vtools.ieee.org/m/324757
ORGANIZER:ras@utec.edu.pe
SEQUENCE:2
SUMMARY:Talleres Educativos: “Creando mi alcancía automática”
URL;VALUE=URI:https://events.vtools.ieee.org/m/324757
X-ALT-DESC:Description: &lt;br /&gt;&lt;p&gt;&lt;span style=&quot;font-weight: 400\;&quot;&gt;Se realiz
 ar&amp;aacute\;n 3 talleres en 3 &amp;aacute\;reas: Mec&amp;aacute\;nica\, Electr&amp;oacu
 te\;nica y Programaci&amp;oacute\;n con el objetivo de que los asistentes dise
 &amp;ntilde\;en y programen una alcanc&amp;iacute\;a autom&amp;aacute\;tica&lt;/span&gt;&lt;/p&gt;
 &lt;br /&gt;&lt;br /&gt;Agenda: &lt;br /&gt;&lt;p&gt;&lt;span style=&quot;font-weight: 400\;&quot;&gt;Esperar asis
 tentes&lt;/span&gt;&lt;/p&gt;\n&lt;p&gt;&lt;span style=&quot;font-weight: 400\;&quot;&gt;Presentaci&amp;oacute\;
 n del Ponente&lt;/span&gt;&lt;/p&gt;\n&lt;p&gt;&lt;span style=&quot;font-weight: 400\;&quot;&gt;Explicaci&amp;oa
 cute\;n de la teoria&lt;/span&gt;&lt;/p&gt;\n&lt;p&gt;&lt;span style=&quot;font-weight: 400\;&quot;&gt;Desar
 rollo de la pr&amp;aacute\;ctica en la plataforma&lt;/span&gt;&lt;/p&gt;\n&lt;p&gt;&lt;span style=&quot;
 font-weight: 400\;&quot;&gt;Actividad Recreacional: Kahoot&lt;/span&gt;&lt;/p&gt;\n&lt;p&gt;&lt;span st
 yle=&quot;font-weight: 400\;&quot;&gt;Despedida y agradecimiento&lt;/span&gt;&lt;/p&gt;
END:VEVENT
END:VCALENDAR

