BEGIN:VCALENDAR
VERSION:2.0
PRODID:IEEE vTools.Events//EN
CALSCALE:GREGORIAN
BEGIN:VTIMEZONE
TZID:Europe/Istanbul
BEGIN:DAYLIGHT
DTSTART:20380119T061407
TZOFFSETFROM:+0300
TZOFFSETTO:+0300
RRULE:FREQ=YEARLY;BYDAY=3TU;BYMONTH=1
TZNAME:+03
END:DAYLIGHT
BEGIN:STANDARD
DTSTART:20160907T000000
TZOFFSETFROM:+0300
TZOFFSETTO:+0300
RRULE:FREQ=YEARLY;BYDAY=1WE;BYMONTH=9
TZNAME:+03
END:STANDARD
END:VTIMEZONE
BEGIN:VEVENT
DTSTAMP:20221008T091906Z
UID:372E283F-72C6-45CA-9C66-A114CF46181C
DTSTART;TZID=Europe/Istanbul:20221004T122600
DTEND;TZID=Europe/Istanbul:20221005T122600
DESCRIPTION:Our virtual IEEE day will be titled “AUST IEEE Engineering Tr
 ivia”\n\nThis event is over the course of 2 days\, and aims to recruit n
 ew coming students to AUST’s IEEE Student Branch\, inform them about the
  importance of being an IEEE member\, host a fun and informative Engineeri
 ng trivia with prizes\, and celebrate IEEE day.\n\nThere will be a first p
 rize for the trivia winner (a computer mouse) and a second prize which is 
 an Anghami giftcard. Students who fill the form to be an IEEE member will 
 be receiving IEEE merch\n\nBeirut\, Lebanon\, Lebanon
LOCATION:Beirut\, Lebanon\, Lebanon
ORGANIZER:tatianakassem@ieee.org
SEQUENCE:2
SUMMARY:AUST IEEE Day Trivia Challenge
URL;VALUE=URI:https://events.vtools.ieee.org/m/324790
X-ALT-DESC:Description: &lt;br /&gt;&lt;p&gt;&lt;strong&gt;Our virtual IEEE day will be title
 d &amp;ldquo\;AUST IEEE Engineering Trivia&amp;rdquo\;&lt;/strong&gt;&lt;/p&gt;\n&lt;p&gt;&lt;strong&gt;Th
 is event is over the course of 2 days\, and aims to recruit new coming stu
 dents to AUST&amp;rsquo\;s IEEE Student Branch\, inform them about the importa
 nce of being an IEEE member\, host a fun and informative Engineering trivi
 a with prizes\, and celebrate IEEE day. &lt;/strong&gt;&lt;/p&gt;\n&lt;p&gt;&lt;strong&gt;There wi
 ll be a first prize for the trivia winner (a computer mouse) and a second 
 prize which is an Anghami giftcard. Students who fill the form to be an IE
 EE member will be receiving IEEE merch&lt;/strong&gt;&lt;/p&gt;
END:VEVENT
END:VCALENDAR

