BEGIN:VCALENDAR
VERSION:2.0
PRODID:IEEE vTools.Events//EN
CALSCALE:GREGORIAN
BEGIN:VTIMEZONE
TZID:America/Bogota
BEGIN:DAYLIGHT
DTSTART:20380118T221407
TZOFFSETFROM:-0500
TZOFFSETTO:-0500
RRULE:FREQ=YEARLY;BYDAY=3MO;BYMONTH=1
TZNAME:-05
END:DAYLIGHT
BEGIN:STANDARD
DTSTART:19930206T230000
TZOFFSETFROM:-0400
TZOFFSETTO:-0500
RRULE:FREQ=YEARLY;BYDAY=1SA;BYMONTH=2
TZNAME:-05
END:STANDARD
END:VTIMEZONE
BEGIN:VEVENT
DTSTAMP:20221004T224646Z
UID:9B5CE4D0-9E1D-4CA0-8250-C8AFED23ABB0
DTSTART;TZID=America/Bogota:20221004T080000
DTEND;TZID=America/Bogota:20221004T170000
DESCRIPTION:Labor Social que realizaremos con la esencia de ser agentes soc
 iales\, en nuestra propia comunidad educativa\, que nos brinda apoyo incon
 dicional en las actividades estudiantiles con IEEE.\n\nEdificio 850-Albroo
 k \, Panama\, Panama\, Panama
LOCATION:Edificio 850-Albrook \, Panama\, Panama\, Panama
ORGANIZER:sb-udelas@ieee.org
SEQUENCE:3
SUMMARY:IEEE DAY-Social Impact in our University
URL;VALUE=URI:https://events.vtools.ieee.org/m/324799
X-ALT-DESC:Description: &lt;br /&gt;&lt;p&gt;&lt;span style=&quot;font-family: georgia\, palati
 no\, serif\; font-size: 14pt\;&quot;&gt;&lt;em&gt;Labor Social que realizaremos con la e
 sencia de ser agentes sociales\, en nuestra propia comunidad educativa\, q
 ue nos brinda apoyo incondicional en las actividades estudiantiles con IEE
 E.&amp;nbsp\;&lt;/em&gt;&lt;/span&gt;&lt;/p&gt;
END:VEVENT
END:VCALENDAR

