BEGIN:VCALENDAR
VERSION:2.0
PRODID:IEEE vTools.Events//EN
CALSCALE:GREGORIAN
BEGIN:VTIMEZONE
TZID:America/Chicago
BEGIN:DAYLIGHT
DTSTART:20220313T030000
TZOFFSETFROM:-0600
TZOFFSETTO:-0500
RRULE:FREQ=YEARLY;BYDAY=2SU;BYMONTH=3
TZNAME:CDT
END:DAYLIGHT
BEGIN:STANDARD
DTSTART:20221106T010000
TZOFFSETFROM:-0500
TZOFFSETTO:-0600
RRULE:FREQ=YEARLY;BYDAY=1SU;BYMONTH=11
TZNAME:CST
END:STANDARD
END:VTIMEZONE
BEGIN:VEVENT
DTSTAMP:20221012T220748Z
UID:226BB2CB-3B1E-44E3-87F9-65EF03E56FA0
DTSTART;TZID=America/Chicago:20221004T123000
DTEND;TZID=America/Chicago:20221004T131000
DESCRIPTION:The guest speaker attending will be Contrell Jolly from AM/NS C
 alvert. He is a former Electrical Engineering USA student and will be spea
 king on electrical drawings seen in the workplace such as Single Line Draw
 ings (SLD) &amp; P&amp;IDs! The IEEE will be providing free pizza and drinks for e
 veryone!\n\nRoom: SH 2214\, Bldg:  Shelby Hall \,  150 Student Services Dr
  \, Mobile\, Alabama\, United States
LOCATION:Room: SH 2214\, Bldg:  Shelby Hall \,  150 Student Services Dr \, 
 Mobile\, Alabama\, United States
ORGANIZER:ieee@southalabama.edu
SEQUENCE:3
SUMMARY:AM/NS Calvert Technical Meeting
URL;VALUE=URI:https://events.vtools.ieee.org/m/325150
X-ALT-DESC:Description: &lt;br /&gt;&lt;div&gt;The guest speaker attending will be&amp;nbsp
 \;&lt;span class=&quot;gmail-il&quot;&gt;Contrell&lt;/span&gt; Jolly&amp;nbsp\;from&amp;nbsp\;AM/NS Calv
 ert.&amp;nbsp\; &lt;span class=&quot;gmail-il&quot;&gt;He &lt;/span&gt;is a former Electrical Engine
 ering USA student and will be speaking on electrical&amp;nbsp\; drawings seen 
 in the workplace such as Single Line Drawings (SLD) &amp;amp\; P&amp;amp\;IDs! The
  IEEE will be providing free pizza and drinks for everyone!&lt;/div&gt;
END:VEVENT
END:VCALENDAR

