BEGIN:VCALENDAR
VERSION:2.0
PRODID:IEEE vTools.Events//EN
CALSCALE:GREGORIAN
BEGIN:VTIMEZONE
TZID:America/New_York
BEGIN:DAYLIGHT
DTSTART:20220313T030000
TZOFFSETFROM:-0500
TZOFFSETTO:-0400
RRULE:FREQ=YEARLY;BYDAY=2SU;BYMONTH=3
TZNAME:EDT
END:DAYLIGHT
BEGIN:STANDARD
DTSTART:20221106T010000
TZOFFSETFROM:-0400
TZOFFSETTO:-0500
RRULE:FREQ=YEARLY;BYDAY=1SU;BYMONTH=11
TZNAME:EST
END:STANDARD
END:VTIMEZONE
BEGIN:VEVENT
DTSTAMP:20221020T160153Z
UID:CD0DF4FF-EC90-4C0A-B745-FD53926218E6
DTSTART;TZID=America/New_York:20221012T090000
DTEND;TZID=America/New_York:20221013T160000
DESCRIPTION:Dear Researcher\,\n\nPlease consider attending the 5th IBM / IE
 EE AI Compute Symposium on Oct. 12-13\, 2022. This is a free hybrid event 
 focusing on AI/ML computing research. The symposium will be held in-person
  at the IBM T. J. Watson Research Center\, Yorktown Heights\, NY. Virtual 
 attendance via livestream is also an option.\n\nThis event features eminen
 t distinguished speakers from academia and industry\, a panel\, as well as
  a student poster session. An award will be given to the best poster.\n\nS
 ee the symposium website for registration and more details.\n\nhttps://www
 .zurich.ibm.com/thinklab/AIcomputesymposium.html\n\nTogether with the IEEE
  Circuits and Systems Society and the IEEE Electron Device Society\, IBM R
 esearch is hosting the 5th AI Compute Symposium.  \n\nThe IBM and IEEE
  sponsored symposium will bring together dreamers\, thinkers\, and innovat
 ors in cutting-edge research for a two-day hybrid forum to explore AI Comp
 ute challenges and future research directions. This symposium is free of c
 harge\, but may limit the maximum number of virtual attendees\, with the f
 irst registrants having priority.\n\nDistinguished speakers include:\n\n- 
 Stefanie Chiras\, Red Hat\n- Jason Cong\, UC Los Angeles\n- Tamar Eilam\, 
 IBM Research\n- Tsu-Jae King Liu\, UC Berkeley\n- Robert Muchsel\, ADI\n- 
 Steve Teig\, Perceive\n- Aaron Voon-Yew Thean\, National University of Sin
 gapore\n- Susan Trolier-McKinstry\, Pennsylvania State University\n- Arun 
 Venkatachar\, Synopsys\n- Marian Verhelst\, KU Leuven\n\nRegistration &amp; Sy
 mposium Program\n\n[https://www.zurich.ibm.com/thinklab/AIcomputesymposium
 .html](C:\\Users\\mattziegler\\Library\\CloudStorage\\Box-Box\\IBM_CAS_EDS
 %20AI%20Compute%20Symp\\IBM_CAS_EDS%20AI%20Compute%20Symp%202022\\email_te
 mplates\\%0dhttps:\\www.zurich.ibm.com\\thinklab\\AIcomputesymposium.html)
 \n\nA registration confirmation email will be sent about a day after regis
 tering.\n\nAgenda: \nDay 1 (October 12\, 2022)\n\nTime	Topic\n9:00 - 9:15	
 Opening &amp; Introductions\n9:15 - 12:15	Presentations (40 minutes each: talk
  30 minutes\, Q&amp;A session 10 minutes)\n12:15 - 1:00	Lunch\n1:00 - 2:30	Pre
 sentations (40 minutes each: talk 30 minutes\, Q&amp;A session 10 minutes)\n2:
 30 - 3:00	Break\n3:00 - 5:00	Poster Session\n5:00 - 6:00	For in person par
 ticipants only: Optional Networking &amp; IBM Research Tour\n(Quantum Computer
 \, Material Research Laboratories\, Pictures at Watson Jeopardy! Stand)\n\
 nDay 2 (October 13\, 2022)\n\nTime	Topic\n9:00 - 9:15	Opening &amp; Recap\n9:1
 5 - 12:15	Presentations (40 minutes each: talk 30 minutes\, Q&amp;A session 10
  minutes)\n12:15 - 1:00	Lunch\n1:00 - 2:30	Sustainability Panel Session\n2
 :30 - 3:00	Award Ceremony &amp; Closing\n3:00 - 4:00	For in person participant
 s only: Optional IBM Research Tour\n(Quantum Computer\, Material Research 
 Laboratories\, Pictures at Watson Jeopardy! Stand)\n\nBldg: The main entra
 nce is on Route 134\, near the intersection of Route 134 and the Taconic P
 arkway.\, 1101 Kitchawan Road\, Yorktown Heights\, New York\, United State
 s\, 10598\, Virtual: https://events.vtools.ieee.org/m/325524
LOCATION:Bldg: The main entrance is on Route 134\, near the intersection of
  Route 134 and the Taconic Parkway.\, 1101 Kitchawan Road\, Yorktown Heigh
 ts\, New York\, United States\, 10598\, Virtual: https://events.vtools.iee
 e.org/m/325524
ORGANIZER:rvjoshi@us.ibm.com
SEQUENCE:5
SUMMARY:IBM / IEEE - AI Compute Symposium 2022 - a free hybrid research eve
 nt\, Oct 12-13
URL;VALUE=URI:https://events.vtools.ieee.org/m/325524
X-ALT-DESC:Description: &lt;br /&gt;&lt;p&gt;&lt;span style=&quot;font-family: arial\, helvetic
 a\, sans-serif\;&quot;&gt;Dear Researcher\,&lt;/span&gt;&lt;/p&gt;\n&lt;p&gt;&lt;span style=&quot;font-famil
 y: arial\, helvetica\, sans-serif\;&quot;&gt;Please consider attending the 5&lt;sup&gt;t
 h&lt;/sup&gt; IBM / IEEE AI Compute Symposium on Oct. 12-13\, 2022.&amp;nbsp\; This 
 is a free hybrid event focusing on AI/ML computing research.&amp;nbsp\; The sy
 mposium will be held in-person at the IBM T. J. Watson Research Center\, Y
 orktown Heights\, NY.&amp;nbsp\; Virtual attendance via livestream is also an 
 option.&lt;/span&gt;&lt;/p&gt;\n&lt;p&gt;&lt;span style=&quot;font-family: arial\, helvetica\, sans-
 serif\;&quot;&gt;This event features eminent distinguished speakers from academia 
 and industry\, a panel\, as well as a student poster session.&amp;nbsp\; An aw
 ard will be given to the best poster.&lt;/span&gt;&lt;/p&gt;\n&lt;p&gt;&lt;span style=&quot;font-fam
 ily: arial\, helvetica\, sans-serif\;&quot;&gt;See the symposium website for regis
 tration and more details.&lt;/span&gt;&lt;/p&gt;\n&lt;p&gt;&lt;span style=&quot;font-family: arial\,
  helvetica\, sans-serif\;&quot;&gt;&lt;a href=&quot;https://www.zurich.ibm.com/thinklab/AI
 computesymposium.html&quot;&gt;https://www.zurich.ibm.com/thinklab/AIcomputesympos
 ium.html&lt;/a&gt;&lt;/span&gt;&lt;/p&gt;\n&lt;p&gt;&lt;span style=&quot;font-family: arial\, helvetica\, 
 sans-serif\;&quot;&gt;Together with the IEEE Circuits and Systems Society and the 
 IEEE Electron Device Society\, IBM Research is hosting the 5&lt;sup&gt;th&lt;/sup&gt; 
 AI Compute Symposium.  &lt;/span&gt;&lt;/p&gt;\n&lt;p&gt;&lt;span style=&quot;font-family: arial
 \, helvetica\, sans-serif\;&quot;&gt;The IBM and IEEE sponsored symposium will bri
 ng together dreamers\, thinkers\, and innovators in cutting-edge research 
 for a two-day hybrid forum to explore AI Compute challenges and future res
 earch directions. This symposium is free of charge\, but may limit the max
 imum number of virtual attendees\, with the first registrants having prior
 ity.&lt;/span&gt;&lt;/p&gt;\n&lt;p&gt;&lt;span style=&quot;font-family: arial\, helvetica\, sans-ser
 if\;&quot;&gt;Distinguished speakers include:&lt;/span&gt;&lt;/p&gt;\n&lt;ul&gt;\n&lt;li&gt;&lt;span style=&quot;f
 ont-family: arial\, helvetica\, sans-serif\;&quot;&gt;Stefanie Chiras\, Red Hat&lt;/s
 pan&gt;&lt;/li&gt;\n&lt;li&gt;&lt;span style=&quot;font-family: arial\, helvetica\, sans-serif\;&quot;
 &gt;Jason Cong\,&amp;nbsp\;UC Los Angeles&lt;/span&gt;&lt;/li&gt;\n&lt;li&gt;&lt;span style=&quot;font-fami
 ly: arial\, helvetica\, sans-serif\;&quot;&gt;Tamar Eilam\, IBM Research&lt;/span&gt;&lt;/l
 i&gt;\n&lt;li&gt;&lt;span style=&quot;font-family: arial\, helvetica\, sans-serif\;&quot;&gt;Tsu-Ja
 e King Liu\, UC Berkeley&lt;/span&gt;&lt;/li&gt;\n&lt;li&gt;&lt;span style=&quot;font-family: arial\
 , helvetica\, sans-serif\;&quot;&gt;Robert Muchsel\, ADI&lt;/span&gt;&lt;/li&gt;\n&lt;li&gt;&lt;span st
 yle=&quot;font-family: arial\, helvetica\, sans-serif\;&quot;&gt;Steve Teig\, Perceive&lt;
 /span&gt;&lt;/li&gt;\n&lt;li&gt;&lt;span style=&quot;font-family: arial\, helvetica\, sans-serif\
 ;&quot;&gt;Aaron Voon-Yew Thean\, National University of Singapore&lt;/span&gt;&lt;/li&gt;\n&lt;l
 i&gt;&lt;span style=&quot;font-family: arial\, helvetica\, sans-serif\;&quot;&gt;Susan Trolie
 r-McKinstry\, Pennsylvania State University&lt;/span&gt;&lt;/li&gt;\n&lt;li&gt;&lt;span style=&quot;
 font-family: arial\, helvetica\, sans-serif\;&quot;&gt;Arun Venkatachar\, Synopsys
 &lt;/span&gt;&lt;/li&gt;\n&lt;li&gt;&lt;span style=&quot;font-family: arial\, helvetica\, sans-serif
 \;&quot;&gt;Marian Verhelst\, KU Leuven&lt;/span&gt;&lt;/li&gt;\n&lt;/ul&gt;\n&lt;p&gt;&lt;span style=&quot;font-f
 amily: arial\, helvetica\, sans-serif\;&quot;&gt;&lt;strong&gt;Registration &amp;amp\; Sympo
 sium Program&lt;/strong&gt;&lt;/span&gt;&lt;/p&gt;\n&lt;p&gt;&lt;span style=&quot;font-family: arial\, hel
 vetica\, sans-serif\;&quot;&gt;&lt;a href=&quot;C:\\Users\\mattziegler\\Library\\CloudStor
 age\\Box-Box\\IBM_CAS_EDS%20AI%20Compute%20Symp\\IBM_CAS_EDS%20AI%20Comput
 e%20Symp%202022\\email_templates\\%0dhttps:\\www.zurich.ibm.com\\thinklab\
 \AIcomputesymposium.html&quot;&gt;https://www.zurich.ibm.com/thinklab/AIcomputesym
 posium.html&lt;/a&gt;&lt;/span&gt;&lt;/p&gt;\n&lt;p&gt;&lt;span style=&quot;font-family: arial\, helvetica
 \, sans-serif\;&quot;&gt;A registration confirmation email will be sent about a da
 y after registering.&lt;/span&gt;&lt;/p&gt;\n&lt;p&gt;&amp;nbsp\;&lt;/p&gt;&lt;br /&gt;&lt;br /&gt;Agenda: &lt;br /&gt;&lt;
 table id=&quot;agenda&quot; class=&quot;ibm-data-table ibm-grid ibm-no-highlight&quot; data-sc
 rollaxis=&quot;x&quot;&gt;\n&lt;thead&gt;\n&lt;tr&gt;\n&lt;th colspan=&quot;2&quot;&gt;\n&lt;h4 class=&quot;ibm-h4 ibm-padd
 ing-top-1&quot;&gt;Day 1 (October 12\, 2022)&lt;/h4&gt;\n&lt;/th&gt;\n&lt;/tr&gt;\n&lt;tr&gt;\n&lt;th&gt;Time&lt;/t
 h&gt;\n&lt;th&gt;Topic&lt;/th&gt;\n&lt;/tr&gt;\n&lt;/thead&gt;\n&lt;tbody&gt;\n&lt;tr&gt;\n&lt;td&gt;9:00 - 9:15&lt;/td&gt;\n
 &lt;td&gt;Opening &amp;amp\; Introductions&lt;/td&gt;\n&lt;/tr&gt;\n&lt;tr&gt;\n&lt;td&gt;9:15 - 12:15&lt;/td&gt;\
 n&lt;td&gt;Presentations (40 minutes each: talk 30 minutes\, Q&amp;amp\;A session 10
  minutes)&lt;/td&gt;\n&lt;/tr&gt;\n&lt;tr&gt;\n&lt;td&gt;12:15 - 1:00&lt;/td&gt;\n&lt;td&gt;Lunch&lt;/td&gt;\n&lt;/tr&gt;\
 n&lt;tr&gt;\n&lt;td&gt;1:00 - 2:30&lt;/td&gt;\n&lt;td&gt;Presentations (40 minutes each: talk 30 m
 inutes\, Q&amp;amp\;A session 10 minutes)&lt;/td&gt;\n&lt;/tr&gt;\n&lt;tr&gt;\n&lt;td&gt;2:30 - 3:00&lt;/
 td&gt;\n&lt;td&gt;Break&lt;/td&gt;\n&lt;/tr&gt;\n&lt;tr&gt;\n&lt;td&gt;3:00 - 5:00&lt;/td&gt;\n&lt;td&gt;Poster Session
 &lt;/td&gt;\n&lt;/tr&gt;\n&lt;tr&gt;\n&lt;td&gt;5:00 - 6:00&lt;/td&gt;\n&lt;td&gt;&lt;strong&gt;For in person partic
 ipants only&lt;/strong&gt;: Optional Networking &amp;amp\; IBM Research Tour&lt;br /&gt;(&lt;
 em&gt;Quantum Computer\, Material Research Laboratories\, Pictures at Watson 
 Jeopardy! Stand&lt;/em&gt;)&lt;/td&gt;\n&lt;/tr&gt;\n&lt;tr&gt;\n&lt;th colspan=&quot;2&quot;&gt;\n&lt;h4 class=&quot;ibm-
 h4 ibm-padding-top-1&quot;&gt;Day 2 (October 13\, 2022)&lt;/h4&gt;\n&lt;/th&gt;\n&lt;/tr&gt;\n&lt;tr&gt;\n
 &lt;th&gt;Time&lt;/th&gt;\n&lt;th&gt;Topic&lt;/th&gt;\n&lt;/tr&gt;\n&lt;/tbody&gt;\n&lt;tbody&gt;\n&lt;tr&gt;\n&lt;td&gt;9:00 - 
 9:15&lt;/td&gt;\n&lt;td&gt;Opening &amp;amp\; Recap&lt;/td&gt;\n&lt;/tr&gt;\n&lt;tr&gt;\n&lt;td&gt;9:15 - 12:15&lt;/t
 d&gt;\n&lt;td&gt;Presentations (40 minutes each: talk 30 minutes\, Q&amp;amp\;A session
  10 minutes)&lt;/td&gt;\n&lt;/tr&gt;\n&lt;tr&gt;\n&lt;td&gt;12:15 - 1:00&lt;/td&gt;\n&lt;td&gt;Lunch&lt;/td&gt;\n&lt;/t
 r&gt;\n&lt;tr&gt;\n&lt;td&gt;1:00 - 2:30&lt;/td&gt;\n&lt;td&gt;Sustainability Panel Session&lt;/td&gt;\n&lt;/t
 r&gt;\n&lt;tr&gt;\n&lt;td&gt;2:30 - 3:00&lt;/td&gt;\n&lt;td&gt;Award Ceremony &amp;amp\; Closing&lt;/td&gt;\n&lt;/
 tr&gt;\n&lt;tr&gt;\n&lt;td&gt;3:00 - 4:00&lt;/td&gt;\n&lt;td&gt;&lt;strong&gt;For in person participants on
 ly&lt;/strong&gt;: Optional IBM Research Tour&lt;br /&gt;(&lt;em&gt;Quantum Computer\, Mater
 ial Research Laboratories\, Pictures at Watson Jeopardy! Stand&lt;/em&gt;)&lt;/td&gt;\
 n&lt;/tr&gt;\n&lt;/tbody&gt;\n&lt;/table&gt;
END:VEVENT
END:VCALENDAR

