BEGIN:VCALENDAR
VERSION:2.0
PRODID:IEEE vTools.Events//EN
CALSCALE:GREGORIAN
BEGIN:VTIMEZONE
TZID:America/Bogota
BEGIN:DAYLIGHT
DTSTART:20380118T221407
TZOFFSETFROM:-0500
TZOFFSETTO:-0500
RRULE:FREQ=YEARLY;BYDAY=3MO;BYMONTH=1
TZNAME:-05
END:DAYLIGHT
BEGIN:STANDARD
DTSTART:19930206T230000
TZOFFSETFROM:-0400
TZOFFSETTO:-0500
RRULE:FREQ=YEARLY;BYDAY=1SA;BYMONTH=2
TZNAME:-05
END:STANDARD
END:VTIMEZONE
BEGIN:VEVENT
DTSTAMP:20221016T023134Z
UID:DA7764A7-0835-49C9-8AC2-67B92C0C6B62
DTSTART;TZID=America/Bogota:20221014T110000
DTEND;TZID=America/Bogota:20221014T150000
DESCRIPTION:El IEEE Sección Panamá se fundó el 12 de Septiembre de 1972 
 con 24 miembros fundadores y a la fecha de hoy llevan más de 500 miembros
 .\n\nLa Rama Estudiantil IEEE de la Universidad Latina de Panamá se inaug
 uró en el 2006 y desde entonces ha crecido\, fundando en el Capítulo Té
 cnico Estudiantil EMBS IEEE de la Universidad Latina de Panamá en el 2009
  y el Grupo de Afinidad Estudiantil WIE de la Universidad Latina de Panam
 á en el 2015.\n\nLos jóvenes miembros estudiantiles de la Universidad La
 tina de Panamá los invita a formar parte del Conversatorio y posterior Fe
 ria IEEE.\n\nSpeaker(s): Ing. Gustavo Díaz\, Ing. Julio Garcia\, Ing. Tan
 ia Abrego &amp; Ing. Alexandra Montenegro\, Madeline Pérez\, Krystel Villarre
 ta y Oscar Ramos\n\nAgenda: \n11:00 - 11:10: Bienvenida\n\n11:10 - 11:15 P
 alabras de Bienvenida\n\n11:15 - 11:35: Pasado del IEEE\n\n11:35 - 12:20: 
 Presente del IEEE\n\n12:20 - 12:30: Video de Intermedio (SURPRISE)\n\n12:3
 0 - 12:50: Futuro del IEEE\n\n12:50 - 1:00: Despedida y Agradecimientos\n\
 n1:00 - 3:00 Feria IEEE + Brindis\n\nBldg: Universidad Latina de Panamá\,
  Ciudad de Panamá\, Panama\, Panama
LOCATION:Bldg: Universidad Latina de Panamá\, Ciudad de Panamá\, Panama\,
  Panama
ORGANIZER:ieeeramaulat@gmail.com
SEQUENCE:3
SUMMARY:IEEE DAY: PASADO\, PRESENTE Y FUTURO DE IEEE
URL;VALUE=URI:https://events.vtools.ieee.org/m/325736
X-ALT-DESC:Description: &lt;br /&gt;&lt;p&gt;&lt;span style=&quot;font-weight: 400\;&quot;&gt;El IEEE S
 ecci&amp;oacute\;n Panam&amp;aacute\; se fund&amp;oacute\; el 12 de Septiembre de 1972
  con 24 miembros fundadores y a la fecha de hoy llevan m&amp;aacute\;s de 500 
 miembros.&lt;/span&gt;&lt;/p&gt;\n&lt;p&gt;&amp;nbsp\;&lt;/p&gt;\n&lt;p&gt;&lt;span style=&quot;font-weight: 400\;&quot;&gt;
 La Rama Estudiantil IEEE de la Universidad Latina de Panam&amp;aacute\; se ina
 ugur&amp;oacute\; en el 2006 y desde entonces ha crecido\, fundando en el Cap&amp;
 iacute\;tulo T&amp;eacute\;cnico Estudiantil EMBS IEEE de la Universidad Latin
 a de Panam&amp;aacute\; en el 2009 y el Grupo de Afinidad Estudiantil WIE de l
 a Universidad Latina de Panam&amp;aacute\; en el 2015.&lt;/span&gt;&lt;/p&gt;\n&lt;p&gt;&amp;nbsp\;&lt;
 /p&gt;\n&lt;p&gt;&lt;span style=&quot;font-weight: 400\;&quot;&gt;Los j&amp;oacute\;venes miembros estu
 diantiles de la Universidad Latina de Panam&amp;aacute\; los invita a formar p
 arte del Conversatorio y posterior Feria IEEE.&lt;/span&gt;&lt;/p&gt;&lt;br /&gt;&lt;br /&gt;Agend
 a: &lt;br /&gt;&lt;p&gt;&lt;span style=&quot;font-weight: 400\;&quot;&gt;11:00 - 11:10: Bienvenida&lt;/sp
 an&gt;&lt;/p&gt;\n&lt;p&gt;&lt;span style=&quot;font-weight: 400\;&quot;&gt;11:10 - 11:15 Palabras de Bie
 nvenida&lt;/span&gt;&lt;/p&gt;\n&lt;p&gt;&lt;span style=&quot;font-weight: 400\;&quot;&gt;11:15 - 11:35: Pas
 ado del IEEE&lt;/span&gt;&lt;/p&gt;\n&lt;p&gt;&lt;span style=&quot;font-weight: 400\;&quot;&gt;11:35 - 12:20
 : Presente del IEEE&lt;/span&gt;&lt;/p&gt;\n&lt;p&gt;&lt;span style=&quot;font-weight: 400\;&quot;&gt;12:20 
 - 12:30: Video de Intermedio (SURPRISE)&lt;/span&gt;&lt;/p&gt;\n&lt;p&gt;&lt;span style=&quot;font-w
 eight: 400\;&quot;&gt;12:30 - 12:50: Futuro del IEEE&lt;/span&gt;&lt;/p&gt;\n&lt;p&gt;&lt;span style=&quot;f
 ont-weight: 400\;&quot;&gt;12:50 - 1:00: Despedida y Agradecimientos&lt;/span&gt;&lt;/p&gt;\n&lt;
 p&gt;&lt;span style=&quot;font-weight: 400\;&quot;&gt;1:00 - 3:00 Feria IEEE + Brindis&lt;/span&gt;
 &lt;/p&gt;
END:VEVENT
END:VCALENDAR

