BEGIN:VCALENDAR
VERSION:2.0
PRODID:IEEE vTools.Events//EN
CALSCALE:GREGORIAN
BEGIN:VTIMEZONE
TZID:America/Sao_Paulo
BEGIN:DAYLIGHT
DTSTART:20380119T001407
TZOFFSETFROM:-0300
TZOFFSETTO:-0300
RRULE:FREQ=YEARLY;BYDAY=3TU;BYMONTH=1
TZNAME:-03
END:DAYLIGHT
BEGIN:STANDARD
DTSTART:20190216T230000
TZOFFSETFROM:-0200
TZOFFSETTO:-0300
RRULE:FREQ=YEARLY;BYDAY=3SA;BYMONTH=2
TZNAME:-03
END:STANDARD
END:VTIMEZONE
BEGIN:VEVENT
DTSTAMP:20230416T124615Z
UID:D9680A6C-45B7-43E1-B5E5-727C635EEF7D
DTSTART;TZID=America/Sao_Paulo:20221003T130000
DTEND;TZID=America/Sao_Paulo:20221006T173000
DESCRIPTION:If you want to know more about Robotics and Automation\, Clinic
  Enginnering\, Mathematical Modeling\, Green Energy Opportunites\, Woman I
 n Enginnering\, Inovation\, Students Activities\, Arduino\, Power BI\, 3D 
 modeling and how to make your own circuits using KiCAD this is the event t
 hat you need! Almost a hole week of learning!\n\nCo-sponsored by: SENAI CI
 MATEC\n\nSENAI CIMATEC\, Orlando Gomes\, Salvador\, Bahia\, Brazil\, 41650
 -010
LOCATION:SENAI CIMATEC\, Orlando Gomes\, Salvador\, Bahia\, Brazil\, 41650-
 010
ORGANIZER:daniel.rocha@ieee.org
SEQUENCE:4
SUMMARY:IEEE DAY CIMATEC 2022
URL;VALUE=URI:https://events.vtools.ieee.org/m/325895
X-ALT-DESC:Description: &lt;br /&gt;&lt;p&gt;If you want to know more about Robotics an
 d Automation\, Clinic Enginnering\, Mathematical Modeling\, Green Energy O
 pportunites\, Woman In Enginnering\, Inovation\, Students Activities\, Ard
 uino\, Power BI\, 3D modeling and how to make your own circuits using KiCA
 D this is the event that you need! Almost a hole week of learning!&lt;/p&gt;
END:VEVENT
END:VCALENDAR

