BEGIN:VCALENDAR
VERSION:2.0
PRODID:IEEE vTools.Events//EN
CALSCALE:GREGORIAN
BEGIN:VTIMEZONE
TZID:America/New_York
BEGIN:DAYLIGHT
DTSTART:20220313T030000
TZOFFSETFROM:-0500
TZOFFSETTO:-0400
RRULE:FREQ=YEARLY;BYDAY=2SU;BYMONTH=3
TZNAME:EDT
END:DAYLIGHT
BEGIN:STANDARD
DTSTART:20221106T010000
TZOFFSETFROM:-0400
TZOFFSETTO:-0500
RRULE:FREQ=YEARLY;BYDAY=1SU;BYMONTH=11
TZNAME:EST
END:STANDARD
END:VTIMEZONE
BEGIN:VEVENT
DTSTAMP:20221028T150310Z
UID:A9C65E5B-8B7E-42C0-90B2-DBA17912C78A
DTSTART;TZID=America/New_York:20221027T183000
DTEND;TZID=America/New_York:20221027T200000
DESCRIPTION:Computing’s carbon footprint is a growing challenge as we see
  increased growth in computing at the edge and in the datacenter. Sustaina
 ble computing provides new research challenges that go beyond simply energ
 y efficiency\, as researchers need to account for the embodied carbon of m
 anufacturing devices\, the runtime operational emissions of these devices\
 , and the interplay of both with renewable energy sources. This talk will 
 highlight recent results and research challenges that we face as we seek t
 o evolve towards carbon-optimized computing systems.\n\nCo-sponsored by: N
 orthern Virginia Computer Society Chapter\n\nSpeaker(s): Dr. Udit Gupta\, 
 \n\nVirtual: https://events.vtools.ieee.org/m/325942
LOCATION:Virtual: https://events.vtools.ieee.org/m/325942
ORGANIZER:murtyp@ieee.org
SEQUENCE:9
SUMMARY:Sustainable Computing - IEEE Society on Social Implications of Tech
 nology Chapter Meeting
URL;VALUE=URI:https://events.vtools.ieee.org/m/325942
X-ALT-DESC:Description: &lt;br /&gt;&lt;p&gt;Computing&amp;rsquo\;s carbon footprint is a g
 rowing challenge as we see increased growth in computing at the edge and i
 n the datacenter. Sustainable computing provides new research challenges t
 hat go beyond simply energy efficiency\, as researchers need to account fo
 r the embodied carbon of manufacturing devices\, the runtime operational e
 missions of these devices\, and the interplay of both with renewable energ
 y sources. This&amp;nbsp\;talk&amp;nbsp\;will highlight recent results and researc
 h challenges that we face as we seek to evolve towards carbon-optimized co
 mputing systems.&amp;nbsp\;&lt;/p&gt;
END:VEVENT
END:VCALENDAR

