BEGIN:VCALENDAR
VERSION:2.0
PRODID:IEEE vTools.Events//EN
CALSCALE:GREGORIAN
BEGIN:VTIMEZONE
TZID:Asia/Kolkata
BEGIN:STANDARD
DTSTART:19451014T230000
TZOFFSETFROM:+0630
TZOFFSETTO:+0530
TZNAME:IST
END:STANDARD
END:VTIMEZONE
BEGIN:VEVENT
DTSTAMP:20221019T062418Z
UID:CD3CBEAC-42F4-4B2E-B5C2-02D2A27FEADA
DTSTART;TZID=Asia/Kolkata:20221008T100000
DTEND;TZID=Asia/Kolkata:20221008T140000
DESCRIPTION:Distinguished lecture Program and Inauguration of CEPT Universi
 ty student branch\n\nSpeaker(s): Dr Gulab Singh\, \n\nAgenda: \n10:00 AM W
 elcome\n\nInauguration CEPT University student branch and lighting of lamp
 \n\nActivities of IEEE Gujarat section: Satvik Khara\n\nActivities of IEEE
  GRSS Gujarat Chapter: Anup Das\n\nDistinguished Lecture by Dr Gulab Singh
 \, IEEE GRSS and IIT-B\n\nExperience sharing by past CEPT University stude
 nt members:\n\n- Pooja Shah IEEE GRSS Global Ambassador\n\n- Neha Sharma M
 indtree\, Chennai\n\n- Urvi Shroff JRF\, ISRO&#39;s Chandrayaan-2 project\n\n1
 :00 PM to 2:30 PM Networking and Lunch\n\nBldg: Faculty of Technology\, CE
 PT University\, Ahmedabad\, Gujarat\, India\, 380009
LOCATION:Bldg: Faculty of Technology\, CEPT University\, Ahmedabad\, Gujara
 t\, India\, 380009
ORGANIZER:shivmohan.isro@gmail.com 
SEQUENCE:6
SUMMARY:DLP and Inauguration of CEPT university student branch 
URL;VALUE=URI:https://events.vtools.ieee.org/m/326062
X-ALT-DESC:Description: &lt;br /&gt;&lt;p&gt;Distinguished lecture Program and Inaugura
 tion of CEPT University student branch&lt;/p&gt;&lt;br /&gt;&lt;br /&gt;Agenda: &lt;br /&gt;&lt;p&gt;10:
 00 AM&amp;nbsp\; Welcome&lt;/p&gt;\n&lt;p&gt;&amp;nbsp\;&amp;nbsp\;&amp;nbsp\;&amp;nbsp\;&amp;nbsp\;&amp;nbsp\;&amp;nb
 sp\;&amp;nbsp\;&amp;nbsp\;&amp;nbsp\;&amp;nbsp\;&amp;nbsp\;&amp;nbsp\;&amp;nbsp\;&amp;nbsp\;&amp;nbsp\; Inaugu
 ration CEPT University student branch and lighting of lamp&lt;/p&gt;\n&lt;p&gt;&amp;nbsp\;
 &amp;nbsp\;&amp;nbsp\;&amp;nbsp\;&amp;nbsp\;&amp;nbsp\;&amp;nbsp\;&amp;nbsp\;&amp;nbsp\;&amp;nbsp\;&amp;nbsp\;&amp;nbs
 p\;&amp;nbsp\;&amp;nbsp\;&amp;nbsp\; Activities of IEEE Gujarat section: Satvik Khara&lt;
 /p&gt;\n&lt;p&gt;&amp;nbsp\;&amp;nbsp\;&amp;nbsp\;&amp;nbsp\;&amp;nbsp\;&amp;nbsp\;&amp;nbsp\;&amp;nbsp\;&amp;nbsp\;&amp;nb
 sp\;&amp;nbsp\;&amp;nbsp\;&amp;nbsp\;&amp;nbsp\; Activities of IEEE GRSS Gujarat Chapter: 
 Anup Das&lt;/p&gt;\n&lt;p&gt;&amp;nbsp\;&amp;nbsp\;&amp;nbsp\;&amp;nbsp\;&amp;nbsp\;&amp;nbsp\;&amp;nbsp\;&amp;nbsp\;&amp;
 nbsp\;&amp;nbsp\;&amp;nbsp\;&amp;nbsp\;&amp;nbsp\;&amp;nbsp\; Distinguished Lecture by Dr Gula
 b Singh\, IEEE GRSS and IIT-B&lt;/p&gt;\n&lt;p&gt;&amp;nbsp\;&amp;nbsp\;&amp;nbsp\;&amp;nbsp\;&amp;nbsp\;&amp;
 nbsp\;&amp;nbsp\;&amp;nbsp\;&amp;nbsp\;&amp;nbsp\;&amp;nbsp\;&amp;nbsp\;&amp;nbsp\; Experience sharing
  by past CEPT University student members:&lt;/p&gt;\n&lt;p&gt;&amp;nbsp\;&amp;nbsp\;&amp;nbsp\;&amp;nb
 sp\;&amp;nbsp\;&amp;nbsp\;&amp;nbsp\;&amp;nbsp\;&amp;nbsp\;&amp;nbsp\;&amp;nbsp\; - Pooja Shah&amp;nbsp\; 
 IEEE GRSS Global Ambassador&lt;/p&gt;\n&lt;p&gt;&amp;nbsp\;&amp;nbsp\;&amp;nbsp\;&amp;nbsp\;&amp;nbsp\;&amp;nb
 sp\;&amp;nbsp\;&amp;nbsp\;&amp;nbsp\;&amp;nbsp\;&amp;nbsp\; - Neha Sharma&amp;nbsp\; Mindtree\, Ch
 ennai&lt;/p&gt;\n&lt;p&gt;&amp;nbsp\;&amp;nbsp\;&amp;nbsp\;&amp;nbsp\;&amp;nbsp\;&amp;nbsp\;&amp;nbsp\;&amp;nbsp\;&amp;nbs
 p\;&amp;nbsp\;&amp;nbsp\; - Urvi Shroff&amp;nbsp\;&amp;nbsp\; JRF\, ISRO&#39;s Chandrayaan-2 p
 roject&lt;/p&gt;\n&lt;p&gt;1:00 PM to 2:30 PM Networking and Lunch&lt;/p&gt;\n&lt;p&gt;&amp;nbsp\; &amp;nb
 sp\; &amp;nbsp\; &amp;nbsp\; &amp;nbsp\; &amp;nbsp\; &amp;nbsp\; &amp;nbsp\;&lt;/p&gt;
END:VEVENT
END:VCALENDAR

