BEGIN:VCALENDAR
VERSION:2.0
PRODID:IEEE vTools.Events//EN
CALSCALE:GREGORIAN
BEGIN:VTIMEZONE
TZID:Australia/Sydney
BEGIN:DAYLIGHT
DTSTART:20221002T030000
TZOFFSETFROM:+1000
TZOFFSETTO:+1100
RRULE:FREQ=YEARLY;BYDAY=1SU;BYMONTH=10
TZNAME:AEDT
END:DAYLIGHT
BEGIN:STANDARD
DTSTART:20230402T020000
TZOFFSETFROM:+1100
TZOFFSETTO:+1000
RRULE:FREQ=YEARLY;BYDAY=1SU;BYMONTH=4
TZNAME:AEST
END:STANDARD
END:VTIMEZONE
BEGIN:VEVENT
DTSTAMP:20230301T050307Z
UID:3EBBCF48-3930-414F-A10C-2158B6F2E373
DTSTART;TZID=Australia/Sydney:20230222T180000
DTEND;TZID=Australia/Sydney:20230222T193000
DESCRIPTION:Learn how to measure partial discharge in poxy cast three-phase
  transformers up to a voltage rating of 36kV ø – ø voltage.\n\nThe tes
 ting of 3PH epoxy cast power transformer for partial discharge is more a 
 “skilled art” than an absolute science. It takes much detailed experie
 nce to understand the complete subject of partial discharge testing. The u
 nderstanding of the circuit\, the power supply\, the filtering plus the ea
 rthing are fundamental concepts to understand before you can attempt to st
 udy and understand the measuring circuitry and the equipment testing proce
 ss.\n\nSpeaker(s): Michael Larkin\, \n\nHarricks Auditorium\, Mezzanine Le
 vel\, 44 Market ST\, Sydney\, New South Wales\, Australia\, 2000\, Virtual
 : https://events.vtools.ieee.org/m/326167
LOCATION:Harricks Auditorium\, Mezzanine Level\, 44 Market ST\, Sydney\, Ne
 w South Wales\, Australia\, 2000\, Virtual: https://events.vtools.ieee.org
 /m/326167
ORGANIZER:Talbingo@optusnet.com.au
SEQUENCE:11
SUMMARY:JILS - Investigating the partial discharge testing of 3 ø transfor
 mers 
URL;VALUE=URI:https://events.vtools.ieee.org/m/326167
X-ALT-DESC:Description: &lt;br /&gt;&lt;p&gt;Learn how to measure partial discharge in 
 poxy cast three-phase transformers up to a voltage rating of 36kV &amp;oslash\
 ; &amp;ndash\; &amp;oslash\; voltage.&lt;/p&gt;\n&lt;p&gt;The testing of 3PH epoxy cast power 
 transformer for partial discharge is more a &amp;ldquo\;skilled art&amp;rdquo\; th
 an an absolute science. It takes much detailed experience to understand th
 e complete subject of partial discharge testing. The understanding of the 
 circuit\, the power supply\, the filtering plus the earthing are fundament
 al concepts to understand before you can attempt to study and understand t
 he measuring circuitry and the equipment testing process.&lt;/p&gt;
END:VEVENT
END:VCALENDAR

