BEGIN:VCALENDAR
VERSION:2.0
PRODID:IEEE vTools.Events//EN
CALSCALE:GREGORIAN
BEGIN:VTIMEZONE
TZID:Portugal
BEGIN:DAYLIGHT
DTSTART:20230326T020000
TZOFFSETFROM:+0000
TZOFFSETTO:+0100
RRULE:FREQ=YEARLY;BYDAY=-1SU;BYMONTH=3
TZNAME:WEST
END:DAYLIGHT
BEGIN:STANDARD
DTSTART:20221030T010000
TZOFFSETFROM:+0100
TZOFFSETTO:+0000
RRULE:FREQ=YEARLY;BYDAY=-1SU;BYMONTH=10
TZNAME:WET
END:STANDARD
END:VTIMEZONE
BEGIN:VEVENT
DTSTAMP:20221125T094804Z
UID:7FED29C4-BD38-4CCC-9B43-EA4F57FF6D32
DTSTART;TZID=Portugal:20221124T170000
DTEND;TZID=Portugal:20221124T183000
DESCRIPTION:Tema ---\nSegurança no Ciberespaço\n\nPainel ---\n[Moderador]
  Rúben Viegas\, Accenture\nAna Ferreira\, U. Porto\nMário Antunes\, I.P.
  Leiria\nPedro Inácio\, U. Beira Interior\nPedro Pinto\, I.P. Viana do Ca
 stelo\n\nTópicos em discussão ---\n(i) Visão empresarial e académica: 
 desafios e oportunidades\n(ii) Security by design: estratégias na impleme
 ntação\n(iii) Relevância dos RHs na gestão de ciber riscos\n\nBiografi
 as dos Oradores ---\nem webinars.ieee-pt.org\n\nUma organização de ---\n
 IEEE Portugal Section\nAccenture\n\n+info em webinars.ieee-pt.org\n\nAgend
 a: \nTópicos em discussão ---\n(i) Visão empresarial e académica: desa
 fios e oportunidades\n(ii) Security by design: estratégias na implementa
 ção\n(iii) Relevância dos RHs na gestão de ciber riscos\n\nVirtual: ht
 tps://events.vtools.ieee.org/m/326500
LOCATION:Virtual: https://events.vtools.ieee.org/m/326500
ORGANIZER:igor.matias@ieee-pt.org
SEQUENCE:4
SUMMARY:IEEE-PT Engenharia em Discussão - Segurança no Ciberespaço
URL;VALUE=URI:https://events.vtools.ieee.org/m/326500
X-ALT-DESC:Description: &lt;br /&gt;&lt;div class=&quot;&quot;&gt;&lt;strong&gt;Tema ---&lt;/strong&gt;&lt;/div&gt;
 \n&lt;div class=&quot;&quot;&gt;Seguran&amp;ccedil\;a no Ciberespa&amp;ccedil\;o&lt;/div&gt;\n&lt;div class
 =&quot;&quot;&gt;&amp;nbsp\;&lt;/div&gt;\n&lt;div class=&quot;&quot;&gt;&lt;strong&gt;Painel ---&lt;/strong&gt;&lt;/div&gt;\n&lt;div c
 lass=&quot;&quot;&gt;[Moderador] R&amp;uacute\;ben Viegas\, Accenture&lt;/div&gt;\n&lt;div class=&quot;&quot;&gt;
 Ana Ferreira\, U. Porto&lt;/div&gt;\n&lt;div class=&quot;&quot;&gt;M&amp;aacute\;rio Antunes\, I.P. 
 Leiria&lt;/div&gt;\n&lt;div class=&quot;&quot;&gt;Pedro In&amp;aacute\;cio\, U. Beira Interior&lt;/div&gt;
 \n&lt;div class=&quot;&quot;&gt;Pedro Pinto\, I.P. Viana do Castelo&lt;/div&gt;\n&lt;div class=&quot;&quot;&gt;&amp;
 nbsp\;&lt;/div&gt;\n&lt;div class=&quot;&quot;&gt;&lt;strong&gt;T&amp;oacute\;picos em discuss&amp;atilde\;o -
 --&lt;/strong&gt;&lt;/div&gt;\n&lt;div class=&quot;&quot;&gt;(i) Vis&amp;atilde\;o empresarial e acad&amp;eacu
 te\;mica: desafios e oportunidades&lt;/div&gt;\n&lt;div class=&quot;&quot;&gt;(ii) Security by d
 esign: estrat&amp;eacute\;gias na implementa&amp;ccedil\;&amp;atilde\;o&lt;/div&gt;\n&lt;div cl
 ass=&quot;&quot;&gt;(iii) Relev&amp;acirc\;ncia dos RHs na gest&amp;atilde\;o de ciber riscos&lt;/
 div&gt;\n&lt;div class=&quot;&quot;&gt;&amp;nbsp\;&lt;/div&gt;\n&lt;div class=&quot;&quot;&gt;&lt;strong&gt;Biografias dos Or
 adores ---&lt;/strong&gt;&lt;/div&gt;\n&lt;div class=&quot;&quot;&gt;em &lt;a href=&quot;http://webinars.ieee-
 pt.org&quot; target=&quot;_blank&quot; rel=&quot;noopener&quot;&gt;webinars.ieee-pt.org&lt;/a&gt;&lt;/div&gt;\n&lt;di
 v class=&quot;&quot;&gt;&amp;nbsp\;&lt;/div&gt;\n&lt;div class=&quot;&quot;&gt;&lt;strong&gt;Uma organiza&amp;ccedil\;&amp;atil
 de\;o de ---&lt;/strong&gt;&amp;nbsp\;&lt;/div&gt;\n&lt;div class=&quot;&quot;&gt;IEEE Portugal Section&lt;/d
 iv&gt;\n&lt;div class=&quot;&quot;&gt;Accenture&lt;/div&gt;\n&lt;div class=&quot;&quot;&gt;&amp;nbsp\;&lt;/div&gt;\n&lt;div clas
 s=&quot;&quot;&gt;+info em &lt;a href=&quot;http://webinars.ieee-pt.org&quot; target=&quot;_blank&quot; rel=&quot;n
 oopener&quot;&gt;webinars.ieee-pt.org&lt;/a&gt;&lt;/div&gt;&lt;br /&gt;&lt;br /&gt;Agenda: &lt;br /&gt;&lt;div clas
 s=&quot;&quot;&gt;\n&lt;div class=&quot;&quot;&gt;\n&lt;div class=&quot;&quot;&gt;\n&lt;div class=&quot;&quot;&gt;&lt;strong&gt;T&amp;oacute\;pic
 os em discuss&amp;atilde\;o ---&lt;/strong&gt;&lt;/div&gt;\n&lt;div class=&quot;&quot;&gt;(i) Vis&amp;atilde\;
 o empresarial e acad&amp;eacute\;mica: desafios e oportunidades&lt;/div&gt;\n&lt;div cl
 ass=&quot;&quot;&gt;(ii) Security by design: estrat&amp;eacute\;gias na implementa&amp;ccedil\;
 &amp;atilde\;o&lt;/div&gt;\n&lt;div class=&quot;&quot;&gt;(iii) Relev&amp;acirc\;ncia dos RHs na gest&amp;at
 ilde\;o de ciber riscos&lt;/div&gt;\n&lt;/div&gt;\n&lt;/div&gt;\n&lt;/div&gt;
END:VEVENT
END:VCALENDAR

