BEGIN:VCALENDAR
VERSION:2.0
PRODID:IEEE vTools.Events//EN
CALSCALE:GREGORIAN
BEGIN:VTIMEZONE
TZID:America/New_York
BEGIN:DAYLIGHT
DTSTART:20220313T030000
TZOFFSETFROM:-0500
TZOFFSETTO:-0400
RRULE:FREQ=YEARLY;BYDAY=2SU;BYMONTH=3
TZNAME:EDT
END:DAYLIGHT
BEGIN:STANDARD
DTSTART:20221106T010000
TZOFFSETFROM:-0400
TZOFFSETTO:-0500
RRULE:FREQ=YEARLY;BYDAY=1SU;BYMONTH=11
TZNAME:EST
END:STANDARD
END:VTIMEZONE
BEGIN:VEVENT
DTSTAMP:20221024T142558Z
UID:EF862B02-47DF-4328-958B-C52A60766EC7
DTSTART;TZID=America/New_York:20221017T110000
DTEND;TZID=America/New_York:20221017T120000
DESCRIPTION:Channel link-level and system level modeling played a critical 
 role in proper design and deployment of all generations of wireless networ
 k systems. Particularly\, system level modeling has become an important ta
 sk for network planning\, network design\, and network optimization of wir
 eless cellular systems. System level simulations allow to evaluate the per
 formance of an entire network containing many Evolved Node B (eNodeB) sect
 ors serving a lot of user equipment (UEs) in urban\, suburban\, and rural 
 environments. Design and performance of new technology features require to
  be accurately verified and improved before deployment into commercial sys
 tems. Therefore\, real-world system performance modeling and predictions s
 hould be very reliable and should be based on repeatable measurements of h
 ow the model behaves in the actual environment. Both the wireless industry
  and academia have made a significant effort developing and defining new a
 nd updated channel models such as the 3GPP 3D channel model and the extend
 ed 3GPP extended channel model for milli-meter wave. New 3D geodata models
  with high-resolution and artificial intelligent (AI) algorithms are great
 ly enhancing the RF propagation modeling in line of sight (LOS) and non-li
 ne of sight (NLOS) beamformed signals and FD-MIMO antenna applications of 
 5G wireless network systems. In this talk\, we will review some of the key
  5G wideband wireless channel modeling including the 3rd Generation Partne
 rship Project (3GPP)\, NYU SIM\, and others. We will discuss some of the g
 eneral practical use cases of 5G network system modeling scenarios. Additi
 onally\, we will describe some of the practical challenges of channel and 
 system modeling in 5G wireless systems.\n\nSpeaker(s): Kafi Hassan\, \n\nR
 oom: BA 2185\, Bldg: Bahen Centre for Information Technology\, University 
 of Toronto\, 40 St George St\, Toronto\, Ontario\, Canada
LOCATION:Room: BA 2185\, Bldg: Bahen Centre for Information Technology\, Un
 iversity of Toronto\, 40 St George St\, Toronto\, Ontario\, Canada
ORGANIZER:Toronto_Chapter@comsoc.org
SEQUENCE:4
SUMMARY:IEEE ComSoc Distinguished Lecturer: Practical 5G Channel and System
  Modeling Techniques
URL;VALUE=URI:https://events.vtools.ieee.org/m/326638
X-ALT-DESC:Description: &lt;br /&gt;&lt;p&gt;&lt;span class=&quot;x_ContentPasted0&quot; style=&quot;colo
 r: black !important\;&quot;&gt;Channel link-level and system level modeling played
  a critical role in proper design and deployment of all generations of wir
 eless network systems. Particularly\, system level modeling has become an 
 important task for network planning\, network design\, and network optimiz
 ation of wireless cellular systems.&amp;nbsp\;&amp;nbsp\;System level simulations 
 allow to evaluate the performance of an entire network containing many Evo
 lved Node B (eNodeB) sectors serving a lot of user equipment (UEs) in urba
 n\, suburban\, and rural environments. Design and performance of new techn
 ology features require to be accurately verified and improved before deplo
 yment into commercial systems. Therefore\, real-world system performance m
 odeling and predictions should be very reliable and should be based on rep
 eatable measurements of how the model behaves in the actual environment. B
 oth the wireless industry and academia have made a significant effort deve
 loping and defining new and updated channel models such as the 3GPP 3D cha
 nnel model and the extended 3GPP extended channel model for milli-meter wa
 ve. New 3D geodata models with high-resolution and artificial intelligent 
 (AI) algorithms are greatly enhancing the RF propagation modeling in line 
 of sight (LOS) and non-line of sight (NLOS) beamformed signals and FD-MIMO
  antenna applications of 5G wireless network systems. In this talk\, we wi
 ll review some of the key 5G wideband wireless channel modeling including 
 the 3rd Generation Partnership Project (3GPP)\, NYU SIM\, and others. We w
 ill discuss some of the general practical use cases of 5G network system m
 odeling scenarios. Additionally\, we will describe some of the practical c
 hallenges of channel and system modeling in 5G wireless systems.&amp;nbsp\;&lt;/s
 pan&gt;&lt;/p&gt;
END:VEVENT
END:VCALENDAR

