BEGIN:VCALENDAR
VERSION:2.0
PRODID:IEEE vTools.Events//EN
CALSCALE:GREGORIAN
BEGIN:VTIMEZONE
TZID:America/New_York
BEGIN:DAYLIGHT
DTSTART:20220313T030000
TZOFFSETFROM:-0500
TZOFFSETTO:-0400
RRULE:FREQ=YEARLY;BYDAY=2SU;BYMONTH=3
TZNAME:EDT
END:DAYLIGHT
BEGIN:STANDARD
DTSTART:20221106T010000
TZOFFSETFROM:-0400
TZOFFSETTO:-0500
RRULE:FREQ=YEARLY;BYDAY=1SU;BYMONTH=11
TZNAME:EST
END:STANDARD
END:VTIMEZONE
BEGIN:VEVENT
DTSTAMP:20221019T121129Z
UID:10938221-6D5A-43FD-946D-2CC41D084678
DTSTART;TZID=America/New_York:20221013T190000
DTEND;TZID=America/New_York:20221013T210000
DESCRIPTION:Virtual ExCom for October\n\nAgenda: \nNNH Section ExCom Meetin
 g Agenda\n6PM THURSDAY Oct 13\nVirtual\, 7PM Webex\n1. Attendance\nQuorum 
 check -- David Casper\n2. approval of agenda including consent agenda [Not
 e\, Approval for minutes May\, August\, Sept is needed]\nConsent to approv
 al of outstanding minutes (in the appropriate month&#39;s ExCom directory area
 )\nhttps://drive.google.com/drive/folders/1sjLlQgHW90kJVcMzGF3exp7g0upQ-DS
 v?usp=sharing\n\nConsent to approval of outstanding treasurer reports\nhtt
 ps://docs.google.com/spreadsheets/d/1AwJV9IfbN1e_q6XJ91gQywHaP416bnXH/edit
 ?usp=sharing&amp;ouid=114974291909984370342&amp;rtpof=true&amp;sd=true\n\n3. Chairs Co
 mments\n4. Action Item Report\n5. Chapter/Affiliate Group Activity &amp; coord
 ination\n\nChapter/Affinity Group Activity topics\nCommunications and Sign
 al Processing Chair: Open\nComputer Society Chair: Wei Lu\nVice Chair: Sri
 dhar Raghavan\nTreasurer: Baris Kazar\nEngineering in Medicine and Biology
  Society Chair: Laura Wierschke\nSecretary: J Michael OConnor\nMicrowave T
 &amp;T/Antennas and Propagation Chair: Elizabeth H. Schenk\nVice Chair: Ian Ar
 mstrong\nPower and Energy Society Chair: Tom Mongeon\nReliability Society 
 Chair: Michael W. Bannan\nRobotics and Automation Society Chair: Sridhar R
 aghavan\n\nAffiliate Groups\nConsultants Network Chair: Open\nLife Members
  Chair: Alan Schecter\nSecretary: J Michael OConnor\nWomen In Engineering/
 Young Professionals Chair: Barbara Bancroft\n\n6. Standing Committee Activ
 ities:\nBrian Betts Wicked STEM event\nEducational Activities\ncoordinatin
 g with BAE/NH First to cover all three FIRST competition areas\n\nStudent/
 College chapters\nwhat can we do to energize/support existing/new chapters
 ??\nUNH\, SNHU!\, Dartmouth\, NHTI??\, Keene State\n\n7 Old Business\nActi
 on R1 offer to support fall YP/student engagement activity --Barbara\n8 Ne
 w Business\n\n9 Next Meeting -- Nov 10\, Second Tuesday\nModel -- in perso
 n once a quarter\, virtual other months\nPotential dinner target: Pressed 
 in Bedford (has meeting area)\; or Golden Corral (Buffet)\nId topics durin
 g virtual meeting for deeper discussion at in-person meetings\n10. For the
  good of the order --\n\n11 Adjourn to forum\n12 Forum topics (upcoming ev
 ents\, etc)\n\nVirtual: https://events.vtools.ieee.org/m/326735
LOCATION:Virtual: https://events.vtools.ieee.org/m/326735
ORGANIZER:Jim &lt;excom@jimisaak.com&gt;
SEQUENCE:3
SUMMARY:NH ExCom Meeting
URL;VALUE=URI:https://events.vtools.ieee.org/m/326735
X-ALT-DESC:Description: &lt;br /&gt;&lt;p&gt;Virtual ExCom for October&lt;/p&gt;\n&lt;p&gt;&lt;span st
 yle=&quot;text-decoration: underline\; color: #ba372a\; font-size: 18pt\;&quot;&gt;&lt;str
 ong&gt;&amp;nbsp\;&lt;/strong&gt;&lt;/span&gt;&lt;/p&gt;&lt;br /&gt;&lt;br /&gt;Agenda: &lt;br /&gt;&lt;p&gt;NNH Section Ex
 Com Meeting Agenda&lt;br /&gt;6PM THURSDAY Oct 13&lt;br /&gt;&amp;nbsp\; &amp;nbsp\; Virtual\,
  7PM Webex&lt;br /&gt;1. Attendance&amp;nbsp\;&lt;br /&gt;&amp;nbsp\; &amp;nbsp\;Quorum check -- D
 avid Casper&lt;br /&gt;2. approval of agenda including consent agenda [Note\, Ap
 proval for minutes May\, August\, Sept is needed]&lt;br /&gt;&amp;nbsp\; &amp;nbsp\; Con
 sent to approval of outstanding minutes (in the appropriate month&#39;s ExCom 
 directory area)&lt;br /&gt;&amp;nbsp\; &amp;nbsp\; https://drive.google.com/drive/folder
 s/1sjLlQgHW90kJVcMzGF3exp7g0upQ-DSv?usp=sharing&lt;br /&gt;&amp;nbsp\;&amp;nbsp\;&lt;br /&gt;C
 onsent to approval of outstanding treasurer reports&amp;nbsp\;&lt;br /&gt;&amp;nbsp\; &amp;n
 bsp\; https://docs.google.com/spreadsheets/d/1AwJV9IfbN1e_q6XJ91gQywHaP416
 bnXH/edit?usp=sharing&amp;amp\;ouid=114974291909984370342&amp;amp\;rtpof=true&amp;amp\
 ;sd=true&lt;br /&gt;&amp;nbsp\; &amp;nbsp\;&amp;nbsp\;&lt;br /&gt;3. Chairs Comments&lt;br /&gt;4. Actio
 n Item Report&lt;br /&gt;5. Chapter/Affiliate Group Activity &amp;amp\; coordination
 &lt;/p&gt;\n&lt;p&gt;Chapter/Affinity Group Activity topics&lt;br /&gt;&amp;nbsp\; &amp;nbsp\;Commun
 ications and Signal Processing &amp;nbsp\; &amp;nbsp\; Chair: Open&lt;br /&gt;&amp;nbsp\; &amp;n
 bsp\;Computer Society &amp;nbsp\; &amp;nbsp\; &amp;nbsp\; &amp;nbsp\; &amp;nbsp\; &amp;nbsp\; &amp;nbs
 p\; &amp;nbsp\; Chair: Wei Lu&lt;br /&gt;&amp;nbsp\; &amp;nbsp\; &amp;nbsp\; &amp;nbsp\; &amp;nbsp\; &amp;nb
 sp\; &amp;nbsp\; &amp;nbsp\; &amp;nbsp\; &amp;nbsp\; &amp;nbsp\; &amp;nbsp\; &amp;nbsp\; &amp;nbsp\;Vice C
 hair: Sridhar Raghavan&lt;br /&gt;&amp;nbsp\; &amp;nbsp\; &amp;nbsp\; &amp;nbsp\; &amp;nbsp\; &amp;nbsp\
 ; &amp;nbsp\; &amp;nbsp\; &amp;nbsp\; &amp;nbsp\; &amp;nbsp\; &amp;nbsp\; &amp;nbsp\; &amp;nbsp\;Treasurer
 : Baris Kazar&lt;br /&gt;&amp;nbsp\; &amp;nbsp\;Engineering in Medicine and Biology Soci
 ety &amp;nbsp\; &amp;nbsp\;Chair: Laura Wierschke&lt;br /&gt;&amp;nbsp\; &amp;nbsp\; &amp;nbsp\; &amp;nb
 sp\; &amp;nbsp\; &amp;nbsp\; &amp;nbsp\; &amp;nbsp\; &amp;nbsp\; &amp;nbsp\; &amp;nbsp\; &amp;nbsp\; &amp;nbsp
 \; &amp;nbsp\;Secretary: J Michael OConnor&lt;br /&gt;&amp;nbsp\; &amp;nbsp\;Microwave T&amp;amp
 \;T/Antennas and Propagation &amp;nbsp\; &amp;nbsp\; Chair: Elizabeth H. Schenk&lt;br
  /&gt;&amp;nbsp\; &amp;nbsp\;Vice Chair: Ian Armstrong&lt;br /&gt;&amp;nbsp\; &amp;nbsp\;Power and 
 Energy Society &amp;nbsp\; &amp;nbsp\; &amp;nbsp\; &amp;nbsp\; &amp;nbsp\; &amp;nbsp\; Chair: Tom 
 Mongeon&lt;br /&gt;&amp;nbsp\; &amp;nbsp\;Reliability Society &amp;nbsp\; &amp;nbsp\; &amp;nbsp\; &amp;n
 bsp\; &amp;nbsp\; &amp;nbsp\; &amp;nbsp\; &amp;nbsp\;Chair: Michael W. Bannan&lt;br /&gt;&amp;nbsp\;
  &amp;nbsp\;Robotics and Automation Society &amp;nbsp\; &amp;nbsp\; &amp;nbsp\; &amp;nbsp\; Ch
 air: Sridhar Raghavan&lt;br /&gt;&amp;nbsp\; &amp;nbsp\; &amp;nbsp\; &amp;nbsp\;&lt;br /&gt;Affiliate 
 Groups&lt;br /&gt;&amp;nbsp\; &amp;nbsp\;Consultants Network &amp;nbsp\; &amp;nbsp\; &amp;nbsp\; &amp;nb
 sp\; &amp;nbsp\; &amp;nbsp\; &amp;nbsp\; &amp;nbsp\; Chair: Open&lt;br /&gt;&amp;nbsp\; &amp;nbsp\;Life 
 Members &amp;nbsp\; &amp;nbsp\; &amp;nbsp\; &amp;nbsp\; &amp;nbsp\; &amp;nbsp\; &amp;nbsp\; &amp;nbsp\; Ch
 air: Alan Schecter&lt;br /&gt;&amp;nbsp\; &amp;nbsp\; &amp;nbsp\; &amp;nbsp\; &amp;nbsp\; &amp;nbsp\; &amp;n
 bsp\; &amp;nbsp\; &amp;nbsp\; &amp;nbsp\; &amp;nbsp\; &amp;nbsp\; &amp;nbsp\; &amp;nbsp\;Secretary: J 
 Michael OConnor&lt;br /&gt;&amp;nbsp\; &amp;nbsp\;Women In Engineering/Young Professiona
 ls &amp;nbsp\; &amp;nbsp\; Chair: Barbara Bancroft&lt;br /&gt;&amp;nbsp\; &amp;nbsp\;&lt;br /&gt;&amp;nbsp
 \; &amp;nbsp\;&lt;br /&gt;6. Standing Committee Activities:&amp;nbsp\;&lt;br /&gt;&amp;nbsp\; &amp;nbs
 p\; &amp;nbsp\;Brian Betts Wicked STEM event&lt;br /&gt;&amp;nbsp\; &amp;nbsp\; &amp;nbsp\;Educa
 tional Activities&amp;nbsp\;&lt;br /&gt;&amp;nbsp\; &amp;nbsp\; &amp;nbsp\; &amp;nbsp\; coordinating
  with BAE/NH First to cover all three FIRST competition areas&lt;br /&gt;&amp;nbsp\;
  &amp;nbsp\; &amp;nbsp\; &amp;nbsp\;&amp;nbsp\;&lt;br /&gt;&amp;nbsp\; &amp;nbsp\; &amp;nbsp\;Student/Colleg
 e chapters&lt;br /&gt;&amp;nbsp\; &amp;nbsp\; &amp;nbsp\; &amp;nbsp\; what can we do to energize
 /support existing/new chapters??&lt;br /&gt;&amp;nbsp\; &amp;nbsp\; &amp;nbsp\; &amp;nbsp\; UNH\
 , SNHU!\, Dartmouth\, NHTI??\, Keene State&lt;br /&gt;&amp;nbsp\; &amp;nbsp\; &amp;nbsp\; &amp;n
 bsp\;&amp;nbsp\;&lt;br /&gt;7 Old Business&lt;br /&gt;&amp;nbsp\; &amp;nbsp\; &amp;nbsp\;Action R1 off
 er to support fall YP/student engagement activity --Barbara&lt;br /&gt;8 New Bus
 iness&lt;br /&gt;&amp;nbsp\; &amp;nbsp\;&amp;nbsp\;&lt;br /&gt;9 Next Meeting &amp;nbsp\;-- &amp;nbsp\;Nov
  10\, Second Tuesday&lt;br /&gt;&amp;nbsp\; &amp;nbsp\; Model -- in person once a quarte
 r\, virtual other months&lt;br /&gt;&amp;nbsp\; &amp;nbsp\; Potential dinner target: Pre
 ssed in Bedford (has meeting area)\; or Golden Corral (Buffet)&lt;br /&gt;&amp;nbsp\
 ; &amp;nbsp\; Id topics during virtual meeting for deeper discussion at in-per
 son meetings&lt;br /&gt;10. For the good of the order --&lt;br /&gt;&amp;nbsp\; &amp;nbsp\;&amp;nb
 sp\;&lt;br /&gt;11 Adjourn to forum&lt;br /&gt;12 Forum topics (upcoming events\, etc)
 &lt;/p&gt;
END:VEVENT
END:VCALENDAR

