BEGIN:VCALENDAR
VERSION:2.0
PRODID:IEEE vTools.Events//EN
CALSCALE:GREGORIAN
BEGIN:VTIMEZONE
TZID:America/New_York
BEGIN:DAYLIGHT
DTSTART:20220313T030000
TZOFFSETFROM:-0500
TZOFFSETTO:-0400
RRULE:FREQ=YEARLY;BYDAY=2SU;BYMONTH=3
TZNAME:EDT
END:DAYLIGHT
BEGIN:STANDARD
DTSTART:20221106T010000
TZOFFSETFROM:-0400
TZOFFSETTO:-0500
RRULE:FREQ=YEARLY;BYDAY=1SU;BYMONTH=11
TZNAME:EST
END:STANDARD
END:VTIMEZONE
BEGIN:VEVENT
DTSTAMP:20221025T005515Z
UID:3778837A-2718-4CD1-A4AF-D22DB7F3F0F3
DTSTART;TZID=America/New_York:20221022T090000
DTEND;TZID=America/New_York:20221022T170000
DESCRIPTION:Overview: The one day training course will introduce the studen
 t to the Object-Oriented Systems Engineering Method (OOSEM) and the System
 s Modeling Language (SYSML)\, which OOSEM uses to capture stakeholder need
 s\, and system requirements\, structure\, and behavior. Upon completion of
  this tutorial\, the student will have an appreciation of the capabilities
  of the method and the modeling language. This tutorial cites the book tit
 led\, A Practical Guide to SysML\, by Alan Moore\, Rick Steiner\, and Sanf
 ord Friedenthal.\n\nCo-sponsored by: DC-NOVA EMBS Chapter\, Baltimore\, NJ
  Coast\, NOVA\, Austin JT\, DC JT COMSOC Chapters\, DC-NOVA Computer Chapt
 er\, &amp; NOVA WIE Affinity Group\n\nSpeaker(s): Mr. Howard Lykins\, \n\nAgen
 da: \n09:00 AM Overview SYSML &amp; OOSEM\n\n10:30 -10:45 AM Break\n\n10:45 AM
  OOSEM Analyze System Requirements /Define Logical Architecture\n\n12:00-0
 1:30 PM Lunch\n\n01:30 -03:00 PM OOSEM Synthesize Candidate Physical Archi
 tectures\n\n03:00-03:45 PM Break\n\n03:45 PM OOSEM Manage Requirements Tra
 ceability and Integrate -Verify System\n\n04:45 PM Wrap Up\n\n05:00 PM End
 \n\nBldg: University Center room #310\, University of Maryland Baltimore C
 ounty \, 1000 Hilltop Circle\, Baltimore\, Maryland\, United States\, 2125
 0\, Virtual: https://events.vtools.ieee.org/m/326882
LOCATION:Bldg: University Center room #310\, University of Maryland Baltimo
 re County \, 1000 Hilltop Circle\, Baltimore\, Maryland\, United States\, 
 21250\, Virtual: https://events.vtools.ieee.org/m/326882
ORGANIZER:siering@ieee.org
SEQUENCE:29
SUMMARY:Sat 10-22-2022 9-5 INTRO OOSEM &amp; SysML Course 
URL;VALUE=URI:https://events.vtools.ieee.org/m/326882
X-ALT-DESC:Description: &lt;br /&gt;&lt;p&gt;&lt;span style=&quot;font-family: &#39;times new roman
 &#39;\, times\, serif\;&quot;&gt;&lt;strong&gt;Overview:&lt;/strong&gt; The one day training cours
 e will introduce the student to the Object-Oriented Systems Engineering Me
 thod (OOSEM) and the Systems Modeling Language (SYSML)\, which OOSEM uses 
 to capture stakeholder needs\, and system requirements\, structure\, and b
 ehavior. Upon completion of this tutorial\, the student will have an appre
 ciation of the capabilities of the method and the modeling language. This 
 tutorial cites the book titled\, A Practical Guide to SysML\, by Alan Moor
 e\, Rick Steiner\, and Sanford Friedenthal.&lt;/span&gt;&lt;/p&gt;&lt;br /&gt;&lt;br /&gt;Agenda: 
 &lt;br /&gt;&lt;p&gt;&lt;span style=&quot;font-family: &#39;times new roman&#39;\, times\, serif\;&quot;&gt;09
 :00 AM Overview SYSML &amp;amp\; OOSEM&lt;/span&gt;&lt;/p&gt;\n&lt;p&gt;&lt;span style=&quot;font-family
 : &#39;times new roman&#39;\, times\, serif\;&quot;&gt;10:30 -10:45 AM Break&lt;/span&gt;&lt;/p&gt;\n&lt;
 p&gt;&lt;span style=&quot;font-family: &#39;times new roman&#39;\, times\, serif\;&quot;&gt;10:45 AM 
 OOSEM Analyze System Requirements /Define Logical Architecture&lt;/span&gt;&lt;/p&gt;\
 n&lt;p&gt;&lt;span style=&quot;font-family: &#39;times new roman&#39;\, times\, serif\;&quot;&gt;12:00-0
 1:30 PM Lunch&lt;/span&gt;&lt;/p&gt;\n&lt;p&gt;&lt;span style=&quot;font-family: &#39;times new roman&#39;\,
  times\, serif\;&quot;&gt;01:30 -03:00 PM OOSEM Synthesize Candidate Physical Arch
 itectures&lt;/span&gt;&lt;/p&gt;\n&lt;p&gt;&lt;span style=&quot;font-family: &#39;times new roman&#39;\, tim
 es\, serif\;&quot;&gt;03:00-03:45 PM Break&lt;/span&gt;&lt;/p&gt;\n&lt;p&gt;&lt;span style=&quot;font-family
 : &#39;times new roman&#39;\, times\, serif\;&quot;&gt;03:45 PM OOSEM Manage Requirements 
 Traceability and Integrate -Verify System&lt;/span&gt;&lt;/p&gt;\n&lt;p&gt;&lt;span style=&quot;font
 -family: &#39;times new roman&#39;\, times\, serif\;&quot;&gt;04:45 PM Wrap Up&lt;/span&gt;&lt;/p&gt;\
 n&lt;p&gt;&lt;span style=&quot;font-family: &#39;times new roman&#39;\, times\, serif\;&quot;&gt;05:00 P
 M End&lt;/span&gt;&lt;/p&gt;
END:VEVENT
END:VCALENDAR

