BEGIN:VCALENDAR
VERSION:2.0
PRODID:IEEE vTools.Events//EN
CALSCALE:GREGORIAN
BEGIN:VTIMEZONE
TZID:America/Chicago
BEGIN:DAYLIGHT
DTSTART:20230312T030000
TZOFFSETFROM:-0600
TZOFFSETTO:-0500
RRULE:FREQ=YEARLY;BYDAY=2SU;BYMONTH=3
TZNAME:CDT
END:DAYLIGHT
BEGIN:STANDARD
DTSTART:20221106T010000
TZOFFSETFROM:-0500
TZOFFSETTO:-0600
RRULE:FREQ=YEARLY;BYDAY=1SU;BYMONTH=11
TZNAME:CST
END:STANDARD
END:VTIMEZONE
BEGIN:VEVENT
DTSTAMP:20221124T072312Z
UID:1D3BD450-A878-445C-BA8D-8FAC4D04F108
DTSTART;TZID=America/Chicago:20221118T090000
DTEND;TZID=America/Chicago:20221118T160000
DESCRIPTION:Welcome to the 4th Joint Annual Meeting of the IEEE Magnetics S
 ociety and IEEE Nanotechnology Council Chicago Chapters\, to be held in a 
 hybrid form (in-person plus on Zoom) with in-person venue at Northwestern 
 University on Friday\, November 18\, 2022. The meeting will provide free b
 reakfast &amp; lunch and face-to-face interaction with the best local Chicago 
 reserachers in Magnetics and Nanotechnology!\n\nThe meeting will convene l
 ocal and international academics\, professionals and students with broad i
 nterests in magnetics and nanotechnology. The meeting will provide a forum
  for highlighting the latest advances in magnetism\, spintronics\, nanotec
 hnology\, and nanoelectronics\, and will provide opportunities to facilita
 te networking and collaboration.\n\nThere are no Registration Fees\, but r
 egistration is required.\n\nZoom link for remote attendees:\n\nhttps://nor
 thwestern.zoom.us/j/99685210758?pwd=d1djM1BzbmtLUmp5eGxiV3BlQTNwdz09\n\nCo
 nfirmed Speakers:\n\n- Aurélien Manchon\, Aix-Marseille University\, Fran
 ce (IEEE Magnetics Society Distinguished Lecturer 2022)\n- Michael Flatté
 \, University of Iowa (IEEE Magnetics Society Distinguished Lecturer 2022)
 \n- Aida Todri-Sanial\, CNRS LIRMM\, France (IEEE Nanotechnology Council D
 istinguished Lecturer 2022)\n- Massimiliano Di Ventra\, University of Cali
 fornia San Diego (IEEE Nanotechnology Council Distinguished Lecturer 2022)
 \n- Amit Trivedi\, University of Illinois Chicago\n- Ted Sargent\, Northwe
 stern University\n- Koray Aydin\, Northwestern University\n- Anand Bhatach
 aya\, Argonne National Laboratory\n- Tian Zhong\, University of Chicago\n-
  Joe Heremans\, Argonne National Laboratory\n- Xianjing Zhou\, Argonne Nat
 ional Laboratory (2022 IEEE Chicago Early Career Award in Nanotechnology)\
 n- Yue Li\, Argonne National Laboratory (2022 IEEE Chicago Early Career Aw
 ard in Magnetics)\n\nAdditional Information about Sponsors of the event:\n
 \nIEEE Magnetics Society ([www.ieeemagnetics.org](https://ieeemagnetics.or
 g/)) focus is on all matters involved in the fundamental development\, des
 ign\, and application of magnetic devices\, including magnetic materials a
 nd phenomena. The society sponsors numerous conferences throughout the yea
 r.\n\nIEEE Nanotechnology Council ([www.ieeenano.org](https://ieeenano.org
 /)) is a multi-disciplinary group whose purpose is to advance and coordina
 te work in the field of Nanotechnology carried out throughout the IEEE in 
 scientific\, literary and educational areas. The Council supports the theo
 ry\, design\, and development of nanotechnology and its scientific\, engin
 eering\, and industrial applications.\n\nIEEE Nanotechnology Council Young
  Professionals (https://ieeenano.org/category/young-professionals) is a re
 presentative branch of the Young Professionals segment inside the IEEE Nan
 otechnology Council\, with the mission of promoting young professionals fo
 r academic success and professional connections.\n\nCo-sponsored by: IEEE 
 Chicago\, IEEE NTC Young Professionals\n\nAgenda: \nMeeting Agenda:\n\nAur
 élien Manchon(DL\, remote)	9:00am-9:25am	Exploring the Potentials of Spin
 -Orbitronics\nTed Sargent	9:25am-9:50am	Photon sensing and energy harvesti
 ng using semiconductors processed as inks\nAida Todri-Sanial(DL\, remote)	
 9:50am-10:15am	Can we compute with oscillators? From devices to architectu
 re to enable Edge AI\n\ncoffee break	10:15am-10:30am\n\nJoe Heremans	10:30
 am-10:55am	Engineering optically addressable spin defects for quantum appl
 ications\nAnand Bhatachaya	10:55am-11:20am\nAmit Trivedi	11:20am-11:45am	R
 obust Edge Intelligence: A Compute-in-Memory Pathway\n\nLunch\n\nMichael F
 latte(DL\, remote)	1:00pm-1:25pm	Coherent Magnonics for Quantum Informatio
 n Science\nMassimiliano Di Ventra(DL\, remote)	1:25pm-1:50pm	MemComputing:
  When memory becomes a computing tool\nYue Li	1:50pm-2:15pm	Topological st
 ability and thermal hysteresis of magnetic domains in van der Waals Fe3GeT
 e2\n\ncoffee break	2:15pm-2:30pm\n\nKoray Aydin	2:30pm-2:55pm	Optical meta
 surfaces enabled by 3D Nanoprinting and DNA Assembly of Gold Nanoparticles
 \nTian Zhong	2:55pm-3:20pm	Long-lived rare-earth qubits and memories for q
 uantum interconnect\nXianjing Zhou	3:20pm-3:45pm	Single Electrons on Solid
  Neon: A New Solid-State Qubit Platform\n\nRoom: Room 1-160\, Bldg: O. T. 
 Hogan Biological Sciences Building\, \, 2205 Tech Drive\, Evanston\, Illin
 ois\, United States\, 60208\, Virtual: https://events.vtools.ieee.org/m/32
 7048
LOCATION:Room: Room 1-160\, Bldg: O. T. Hogan Biological Sciences Building\
 , \, 2205 Tech Drive\, Evanston\, Illinois\, United States\, 60208\, Virtu
 al: https://events.vtools.ieee.org/m/327048
ORGANIZER:pedram@northwestern.edu
SEQUENCE:18
SUMMARY:4th Joint Annual Meeting\, IEEE Magnetics Society and Nanotechnolog
 y Council Chicago Chapters
URL;VALUE=URI:https://events.vtools.ieee.org/m/327048
X-ALT-DESC:Description: &lt;br /&gt;&lt;p&gt;Welcome to the 4th Joint Annual Meeting of
  the IEEE Magnetics Society and IEEE Nanotechnology Council Chicago Chapte
 rs\, to be held in a hybrid form (in-person plus on Zoom) with in-person v
 enue at Northwestern University on Friday\, November 18\, 2022. The meetin
 g will provide free breakfast &amp;amp\; lunch and face-to-face interaction wi
 th the best local Chicago reserachers in Magnetics and Nanotechnology!&lt;/p&gt;
 \n&lt;p&gt;The meeting will convene local and international academics\, professi
 onals and students with broad interests in magnetics and nanotechnology. T
 he meeting will provide a forum for highlighting the latest advances in ma
 gnetism\, spintronics\, nanotechnology\, and nanoelectronics\, and will pr
 ovide opportunities to facilitate networking and collaboration.&lt;/p&gt;\n&lt;p&gt;Th
 ere are no Registration Fees\, but registration is required.&amp;nbsp\;&lt;/p&gt;\n&lt;
 p&gt;&lt;span style=&quot;text-decoration: underline\;&quot;&gt;&lt;strong&gt;Zoom link &lt;/strong&gt;&lt;/
 span&gt;for remote attendees:&lt;/p&gt;\n&lt;p&gt;https://northwestern.zoom.us/j/99685210
 758?pwd=d1djM1BzbmtLUmp5eGxiV3BlQTNwdz09&lt;/p&gt;\n&lt;p&gt;&lt;strong&gt;&lt;span style=&quot;text
 -decoration: underline\;&quot;&gt;Confirmed Speakers:&lt;/span&gt;&lt;/strong&gt;&lt;/p&gt;\n&lt;ul&gt;\n&lt;
 li&gt;&lt;strong&gt;Aur&amp;eacute\;lien Manchon&lt;/strong&gt;\, Aix-Marseille University\, 
 France (IEEE Magnetics Society Distinguished Lecturer 2022)&lt;/li&gt;\n&lt;li&gt;&lt;str
 ong&gt;Michael Flatt&amp;eacute\;&lt;/strong&gt;\, University of Iowa (IEEE Magnetics S
 ociety Distinguished Lecturer 2022)&lt;/li&gt;\n&lt;li&gt;&lt;strong&gt;Aida Todri-Sanial&lt;/s
 trong&gt;\, CNRS LIRMM\, France (IEEE Nanotechnology Council Distinguished Le
 cturer 2022)&lt;/li&gt;\n&lt;li&gt;&lt;strong&gt;Massimiliano Di Ventra&lt;/strong&gt;\, Universit
 y of California San Diego (IEEE Nanotechnology Council Distinguished Lectu
 rer 2022)&lt;/li&gt;\n&lt;li&gt;&lt;strong&gt;Amit Trivedi&lt;/strong&gt;\, University of Illinois
  Chicago&lt;/li&gt;\n&lt;li&gt;&lt;strong&gt;Ted Sargent&lt;/strong&gt;\, Northwestern University&lt;
 /li&gt;\n&lt;li&gt;&lt;strong&gt;Koray Aydin&lt;/strong&gt;\, Northwestern University&lt;/li&gt;\n&lt;li
 &gt;&lt;strong&gt;Anand Bhatachaya&lt;/strong&gt;\, Argonne National Laboratory&lt;/li&gt;\n&lt;li
 &gt;&lt;strong&gt;Tian Zhong&lt;/strong&gt;\, University of Chicago&lt;/li&gt;\n&lt;li&gt;&lt;strong&gt;Joe
  Heremans&lt;/strong&gt;\, Argonne National Laboratory&lt;/li&gt;\n&lt;li&gt;&lt;strong&gt;Xianjin
 g Zhou&lt;/strong&gt;\, Argonne National Laboratory (2022 IEEE Chicago Early Car
 eer Award in Nanotechnology)&lt;/li&gt;\n&lt;li&gt;&lt;strong&gt;Yue Li&lt;/strong&gt;\, Argonne N
 ational Laboratory (2022 IEEE Chicago Early Career Award in Magnetics)&lt;/li
 &gt;\n&lt;/ul&gt;\n&lt;p&gt;&lt;strong&gt;Additional Information about Sponsors of the event:&lt;/
 strong&gt;&lt;/p&gt;\n&lt;p&gt;&lt;strong&gt;IEEE Magnetics Society&lt;/strong&gt;&amp;nbsp\;(&lt;a href=&quot;ht
 tps://ieeemagnetics.org/&quot;&gt;www.ieeemagnetics.org&lt;/a&gt;) focus is on all matte
 rs involved in the fundamental development\, design\, and application of m
 agnetic devices\, including magnetic materials and phenomena. The society 
 sponsors numerous conferences throughout the year.&lt;/p&gt;\n&lt;p&gt;&lt;strong&gt;IEEE Na
 notechnology Council&lt;/strong&gt;&amp;nbsp\;(&lt;a href=&quot;https://ieeenano.org/&quot;&gt;www.i
 eeenano.org&lt;/a&gt;) is a multi-disciplinary group whose purpose is to advance
  and coordinate work in the field of Nanotechnology carried out throughout
  the IEEE in scientific\, literary and educational areas. The Council supp
 orts the theory\, design\, and development of nanotechnology and its scien
 tific\, engineering\, and industrial applications.&lt;/p&gt;\n&lt;p&gt;&lt;strong&gt;IEEE Na
 notechnology Council Young Professionals&lt;/strong&gt;&amp;nbsp\;&amp;nbsp\;(&lt;a href=&quot;h
 ttps://ieeenano.org/category/young-professionals&quot; target=&quot;_blank&quot; rel=&quot;noo
 pener noreferrer&quot; data-saferedirecturl=&quot;https://www.google.com/url?q=https
 ://ieeenano.org/category/young-professionals&amp;amp\;source=gmail&amp;amp\;ust=16
 62048922766000&amp;amp\;usg=AOvVaw1IQUVd6CEhD-R1VQi45aGZ&quot;&gt;https://&lt;wbr /&gt;ieeen
 ano.org/category/young-&lt;wbr /&gt;professionals&lt;/a&gt;)&amp;nbsp\;is a representative
  branch of the Young Professionals segment inside the IEEE Nanotechnology 
 Council\, with the mission of promoting young professionals for academic s
 uccess and professional connections.&lt;/p&gt;&lt;br /&gt;&lt;br /&gt;Agenda: &lt;br /&gt;&lt;p&gt;&lt;stro
 ng&gt;&lt;span style=&quot;text-decoration: underline\;&quot;&gt;Meeting Agenda:&lt;/span&gt;&lt;/stro
 ng&gt;&lt;/p&gt;\n&lt;div&gt;\n&lt;table width=&quot;1006&quot;&gt;\n&lt;tbody&gt;\n&lt;tr&gt;\n&lt;td width=&quot;234&quot;&gt;Aur&amp;e
 acute\;lien Manchon(DL\, remote)&lt;/td&gt;\n&lt;td width=&quot;167&quot;&gt;9:00am-9:25am&lt;/td&gt;\
 n&lt;td width=&quot;605&quot;&gt;Exploring the Potentials of Spin-Orbitronics&lt;/td&gt;\n&lt;/tr&gt;\
 n&lt;tr&gt;\n&lt;td&gt;Ted Sargent&lt;/td&gt;\n&lt;td&gt;9:25am-9:50am&lt;/td&gt;\n&lt;td&gt;Photon sensing an
 d energy harvesting using semiconductors processed as inks&lt;/td&gt;\n&lt;/tr&gt;\n&lt;t
 r&gt;\n&lt;td&gt;Aida Todri-Sanial(DL\, remote)&lt;/td&gt;\n&lt;td&gt;9:50am-10:15am&lt;/td&gt;\n&lt;td&gt;
 Can we compute with oscillators? From devices to architecture to enable Ed
 ge AI&lt;/td&gt;\n&lt;/tr&gt;\n&lt;tr&gt;\n&lt;td&gt;&amp;nbsp\;&lt;/td&gt;\n&lt;td&gt;&amp;nbsp\;&lt;/td&gt;\n&lt;td&gt;&amp;nbsp\;&lt;/
 td&gt;\n&lt;/tr&gt;\n&lt;tr&gt;\n&lt;td&gt;coffee break&lt;/td&gt;\n&lt;td&gt;10:15am-10:30am&lt;/td&gt;\n&lt;td&gt;&amp;nb
 sp\;&lt;/td&gt;\n&lt;/tr&gt;\n&lt;tr&gt;\n&lt;td&gt;&amp;nbsp\;&lt;/td&gt;\n&lt;td&gt;&amp;nbsp\;&lt;/td&gt;\n&lt;td&gt;&amp;nbsp\;&lt;/t
 d&gt;\n&lt;/tr&gt;\n&lt;tr&gt;\n&lt;td&gt;Joe Heremans&lt;/td&gt;\n&lt;td&gt;10:30am-10:55am&lt;/td&gt;\n&lt;td&gt;Engi
 neering optically addressable spin defects for quantum applications&lt;/td&gt;\n
 &lt;/tr&gt;\n&lt;tr&gt;\n&lt;td&gt;Anand Bhatachaya&lt;/td&gt;\n&lt;td&gt;10:55am-11:20am&lt;/td&gt;\n&lt;td&gt;&amp;nbs
 p\;&lt;/td&gt;\n&lt;/tr&gt;\n&lt;tr&gt;\n&lt;td&gt;Amit Trivedi&lt;/td&gt;\n&lt;td&gt;11:20am-11:45am&lt;/td&gt;\n&lt;t
 d&gt;Robust Edge Intelligence: A Compute-in-Memory Pathway&lt;/td&gt;\n&lt;/tr&gt;\n&lt;tr&gt;\
 n&lt;td&gt;&amp;nbsp\;&lt;/td&gt;\n&lt;td&gt;&amp;nbsp\;&lt;/td&gt;\n&lt;td&gt;&amp;nbsp\;&lt;/td&gt;\n&lt;/tr&gt;\n&lt;tr&gt;\n&lt;td co
 lspan=&quot;2&quot;&gt;Lunch&lt;/td&gt;\n&lt;td&gt;&amp;nbsp\;&lt;/td&gt;\n&lt;/tr&gt;\n&lt;tr&gt;\n&lt;td&gt;&amp;nbsp\;&lt;/td&gt;\n&lt;td
 &gt;&amp;nbsp\;&lt;/td&gt;\n&lt;td&gt;&amp;nbsp\;&lt;/td&gt;\n&lt;/tr&gt;\n&lt;tr&gt;\n&lt;td&gt;Michael Flatte(DL\, remo
 te)&lt;/td&gt;\n&lt;td&gt;1:00pm-1:25pm&lt;/td&gt;\n&lt;td&gt;Coherent Magnonics for Quantum Infor
 mation Science&lt;/td&gt;\n&lt;/tr&gt;\n&lt;tr&gt;\n&lt;td&gt;Massimiliano Di Ventra(DL\, remote)&lt;
 /td&gt;\n&lt;td&gt;1:25pm-1:50pm&lt;/td&gt;\n&lt;td&gt;MemComputing: When memory becomes a comp
 uting tool&lt;/td&gt;\n&lt;/tr&gt;\n&lt;tr&gt;\n&lt;td&gt;Yue Li&lt;/td&gt;\n&lt;td&gt;1:50pm-2:15pm&lt;/td&gt;\n&lt;td
 &gt;Topological stability and thermal hysteresis of magnetic domains&amp;nbsp\; i
 n van der Waals Fe3GeTe2&lt;/td&gt;\n&lt;/tr&gt;\n&lt;tr&gt;\n&lt;td&gt;&amp;nbsp\;&lt;/td&gt;\n&lt;td&gt;&amp;nbsp\;&lt;
 /td&gt;\n&lt;td&gt;&amp;nbsp\;&lt;/td&gt;\n&lt;/tr&gt;\n&lt;tr&gt;\n&lt;td&gt;coffee break&lt;/td&gt;\n&lt;td&gt;2:15pm-2:3
 0pm&lt;/td&gt;\n&lt;td&gt;&amp;nbsp\;&lt;/td&gt;\n&lt;/tr&gt;\n&lt;tr&gt;\n&lt;td&gt;&amp;nbsp\;&lt;/td&gt;\n&lt;td&gt;&amp;nbsp\;&lt;/td
 &gt;\n&lt;td&gt;&amp;nbsp\;&lt;/td&gt;\n&lt;/tr&gt;\n&lt;tr&gt;\n&lt;td&gt;Koray Aydin&lt;/td&gt;\n&lt;td&gt;2:30pm-2:55pm&lt;
 /td&gt;\n&lt;td&gt;Optical metasurfaces enabled by 3D Nanoprinting and DNA Assembly
  of Gold Nanoparticles&lt;/td&gt;\n&lt;/tr&gt;\n&lt;tr&gt;\n&lt;td&gt;Tian Zhong&lt;/td&gt;\n&lt;td&gt;2:55pm-
 3:20pm&lt;/td&gt;\n&lt;td&gt;Long-lived rare-earth qubits and memories for quantum int
 erconnect&lt;/td&gt;\n&lt;/tr&gt;\n&lt;tr&gt;\n&lt;td&gt;Xianjing Zhou&lt;/td&gt;\n&lt;td&gt;3:20pm-3:45pm&lt;/td
 &gt;\n&lt;td&gt;Single Electrons on Solid Neon: A New Solid-State Qubit Platform&lt;/t
 d&gt;\n&lt;/tr&gt;\n&lt;/tbody&gt;\n&lt;/table&gt;\n&lt;/div&gt;
END:VEVENT
END:VCALENDAR

