BEGIN:VCALENDAR
VERSION:2.0
PRODID:IEEE vTools.Events//EN
CALSCALE:GREGORIAN
BEGIN:VTIMEZONE
TZID:Asia/Kolkata
BEGIN:STANDARD
DTSTART:19451014T230000
TZOFFSETFROM:+0630
TZOFFSETTO:+0530
TZNAME:IST
END:STANDARD
END:VTIMEZONE
BEGIN:VEVENT
DTSTAMP:20221017T103901Z
UID:AD9890BD-0F4F-4FB8-81E9-E65B9AA8FC2D
DTSTART;TZID=Asia/Kolkata:20221014T110000
DTEND;TZID=Asia/Kolkata:20221014T170000
DESCRIPTION:The IEEE student branch of Bangalore Institute of Technology ce
 lebrated IEEE day on\n14th October\, 2022 at the college premises. The the
 me of IEEE day celebration is\n“Leveraging technology for better tomorro
 w”. IEEE BIT\, Bangalore Student Branch\nis celebrating the IEEE day to 
 raise the awareness about IEEE. The day commemorates\nthe anniversary of t
 he meeting in Philadelphia in 1884 when members of the American\nInstitute
  of Electrical Engineers\, one of IEEE’s predecessor societies\, gathere
 d for the\nfirst time to share technical ideas. This day is celebrated wor
 ldwide every year to\ncollaborate on ideas that leverage technology for a 
 better tomorrow. These celebrations\ncreate awareness among the student me
 mbers as well as give them an opportunity to\ninteract with experts and pr
 ofessionals.\nThe program started with a welcome address by DR. Jalaja S B
 ranch Counsellor student\nBranch BIT onto the stage. Then DR. Hemanth Kuma
 r and DR. Vijay Prakash Branch\nAdvisor IEEE Student Branch BIT\, was welc
 omed on to the stage. Then Lamp lighting\nceremony of the event takes plac
 e followed by addressing the chief guests. Then\nDR.Aswath.M.U. principal 
 BIT gave a brief introduction about IEEE and the activities\nconducted by 
 the student branch over the last few years. The celebrations ended with vo
 te\nof thanks by Execom members.\n\nThe celebration continued with stand-u
 p comedy as the first event by Sagar H B with\nan interactive session with
  the participants.\n\nThe 2nd event was trolling contest about engineering
  and many students participated in\nthis particular event and gifts were i
 ssued for the winners of the events. The 3rd event was\nBoard of creativit
 y where students participated in this event and gifts were issued for the\
 nwinners of the event. The celebrations ended with vote of thanks by Execo
 m members.\nThis formation was photographed and then all the audience were
  provided with\nrefreshments and lunch\n\nBangalore\, Karnataka\, India\, 
 560004
LOCATION:Bangalore\, Karnataka\, India\, 560004
ORGANIZER:jalajas@ieee.org
SEQUENCE:4
SUMMARY:IEEE BIT Student Branch celebrate IEEE Day 2022: &quot;LEVERAGING TECHNO
 LOGY FOR A BETTER TOMORROW&quot;
URL;VALUE=URI:https://events.vtools.ieee.org/m/327457
X-ALT-DESC:Description: &lt;br /&gt;&lt;p&gt;The IEEE student branch of Bangalore Insti
 tute of Technology celebrated IEEE day on&amp;nbsp\;&lt;br /&gt;14th October\, 2022 
 at the college premises. The theme of IEEE day celebration is&amp;nbsp\;&lt;br /&gt;
 &amp;ldquo\;Leveraging technology for better tomorrow&amp;rdquo\;. IEEE BIT\, Bang
 alore Student Branch&amp;nbsp\;&lt;br /&gt;is celebrating the IEEE day to raise the 
 awareness about IEEE. The day commemorates&amp;nbsp\;&lt;br /&gt;the anniversary of 
 the meeting in Philadelphia in 1884 when members of the American&amp;nbsp\;&lt;br
  /&gt;Institute of Electrical Engineers\, one of IEEE&amp;rsquo\;s predecessor so
 cieties\, gathered for the&amp;nbsp\;&lt;br /&gt;first time to share technical ideas
 . This day is celebrated worldwide every year to&amp;nbsp\;&lt;br /&gt;collaborate o
 n ideas that leverage technology for a better tomorrow. These celebrations
 &amp;nbsp\;&lt;br /&gt;create awareness among the student members as well as give th
 em an opportunity to&amp;nbsp\;&lt;br /&gt;interact with experts and professionals.&lt;
 br /&gt;The program started with a welcome address by DR. Jalaja S Branch Cou
 nsellor student&amp;nbsp\;&lt;br /&gt;Branch BIT onto the stage. Then DR. Hemanth Ku
 mar and DR. Vijay Prakash Branch&amp;nbsp\;&lt;br /&gt;Advisor IEEE Student Branch B
 IT\, was welcomed on to the stage. Then Lamp lighting&amp;nbsp\;&lt;br /&gt;ceremony
  of the event takes place followed by addressing the chief guests. Then&amp;nb
 sp\;&lt;br /&gt;DR.Aswath.M.U. principal BIT gave a brief introduction about IEE
 E and the activities&amp;nbsp\;&lt;br /&gt;conducted by the student branch over the 
 last few years. The celebrations ended with vote&amp;nbsp\;&lt;br /&gt;of thanks by 
 Execom members.&lt;/p&gt;\n&lt;p&gt;The celebration continued with stand-up comedy as 
 the first event by Sagar H B with&amp;nbsp\;&lt;br /&gt;an interactive session with 
 the participants.&lt;/p&gt;\n&lt;p&gt;The 2nd event was trolling contest about enginee
 ring and many students participated in&amp;nbsp\;&lt;br /&gt;this particular event a
 nd gifts were issued for the winners of the events. The 3rd event was&amp;nbsp
 \;&lt;br /&gt;Board of creativity where students participated in this event and 
 gifts were issued for the&amp;nbsp\;&lt;br /&gt;winners of the event. The celebratio
 ns ended with vote of thanks by Execom members.&amp;nbsp\;&lt;br /&gt;This formation
  was photographed and then all the audience were provided with&amp;nbsp\;&lt;br /
 &gt;refreshments and lunch&lt;/p&gt;
END:VEVENT
END:VCALENDAR

