BEGIN:VCALENDAR
VERSION:2.0
PRODID:IEEE vTools.Events//EN
CALSCALE:GREGORIAN
BEGIN:VTIMEZONE
TZID:Australia/Melbourne
BEGIN:DAYLIGHT
DTSTART:20221002T030000
TZOFFSETFROM:+1000
TZOFFSETTO:+1100
RRULE:FREQ=YEARLY;BYDAY=1SU;BYMONTH=10
TZNAME:AEDT
END:DAYLIGHT
BEGIN:STANDARD
DTSTART:20230402T020000
TZOFFSETFROM:+1100
TZOFFSETTO:+1000
RRULE:FREQ=YEARLY;BYDAY=1SU;BYMONTH=4
TZNAME:AEST
END:STANDARD
END:VTIMEZONE
BEGIN:VEVENT
DTSTAMP:20221123T090430Z
UID:B1E7DE34-648D-4755-965B-FAC64E967F94
DTSTART;TZID=Australia/Melbourne:20221123T170000
DTEND;TZID=Australia/Melbourne:20221123T180000
DESCRIPTION:Title: Interplay between Decision Support Systems and Machine L
 earning: Case studies of industrial design and processing systems\nSpeaker
 : Prof Xinghuo Yu (IEEE Fellow)\, RMIT University\, Australia\nLocation: (
 Virtual Webinar) https://us06web.zoom.us/j/89112928024?pwd=S1VvUnB3cm9ERXp
 CZENPUmxGZms4QT09\nTime: 5.00 – 6.00 pm (AEST) Wednesday 23rd November 2
 022\nFor further details contact:  Malka N. Halgamuge\, Chair VIC CIS (mal
 ka_nisha@ieee.org)\nVIC CIS Chapter website: https://r10.ieee.org/victoria
 n-cis\n\nCo-sponsored by: IEEE VIC CIS Chapter\; IEEE VIC Section\n\nSpeak
 er(s): Prof Xinghuo Yu (IEEE Fellow)\, \n\nVirtual: https://events.vtools.
 ieee.org/m/327548
LOCATION:Virtual: https://events.vtools.ieee.org/m/327548
ORGANIZER:malka_nisha@ieee.org
SEQUENCE:2
SUMMARY:IEEE VIC CIS Talk on Interplay between Decision Support Systems and
  Machine Learning
URL;VALUE=URI:https://events.vtools.ieee.org/m/327548
X-ALT-DESC:Description: &lt;br /&gt;&lt;h5&gt;&lt;strong&gt;Title:&lt;/strong&gt; Interplay between
  Decision Support Systems and Machine Learning: Case studies of industrial
  design and processing systems&lt;br /&gt;&lt;strong&gt;Speaker: &amp;nbsp\;&lt;/strong&gt;Prof 
 Xinghuo Yu (IEEE Fellow)\, RMIT University\, Australia&lt;br /&gt;&lt;strong&gt;Locati
 on&lt;/strong&gt;: (Virtual Webinar) https://us06web.zoom.us/j/89112928024?pwd=S
 1VvUnB3cm9ERXpCZENPUmxGZms4QT09&lt;br /&gt;&lt;strong&gt;Time&lt;/strong&gt;: 5.00 &amp;ndash\; 
 6.00 pm (AEST) Wednesday 23rd November 2022&lt;br /&gt;&lt;strong&gt;For further detai
 ls contact: &amp;nbsp\;&lt;/strong&gt;&amp;nbsp\;Malka N. Halgamuge\, Chair VIC CIS&amp;nbsp
 \;(malka_nisha@ieee.org)&lt;br /&gt;&lt;strong&gt;VIC CIS Chapter website:&lt;/strong&gt;&amp;nb
 sp\;&amp;nbsp\;&lt;a href=&quot;https://r10.ieee.org/victorian-cis&quot;&gt;https://r10.ieee.o
 rg/victorian-cis&lt;/a&gt;&lt;/h5&gt;
END:VEVENT
END:VCALENDAR

