BEGIN:VCALENDAR
VERSION:2.0
PRODID:IEEE vTools.Events//EN
CALSCALE:GREGORIAN
BEGIN:VTIMEZONE
TZID:Europe/Zurich
BEGIN:DAYLIGHT
DTSTART:20230326T030000
TZOFFSETFROM:+0100
TZOFFSETTO:+0200
RRULE:FREQ=YEARLY;BYDAY=-1SU;BYMONTH=3
TZNAME:CEST
END:DAYLIGHT
BEGIN:STANDARD
DTSTART:20221030T020000
TZOFFSETFROM:+0200
TZOFFSETTO:+0100
RRULE:FREQ=YEARLY;BYDAY=-1SU;BYMONTH=10
TZNAME:CET
END:STANDARD
END:VTIMEZONE
BEGIN:VEVENT
DTSTAMP:20221127T105636Z
UID:F0F8C132-781C-4387-AE37-749F391C2ACB
DTSTART;TZID=Europe/Zurich:20221124T140000
DTEND;TZID=Europe/Zurich:20221124T150000
DESCRIPTION:There exists safety concern for exposure to electromagnetic fie
 lds. The adverse health effect due to electromagnetic field has been summa
 rized in documents of World Health Organization. To protect the human from
  electromagnetic fields\, a two-tier approach has then been applied in our
  daily life. First\, the exposure standards are developed based on the thr
 eshold of adverse health effect. The limit of induced physical quantities 
 in the human body\, such as induced electric field and specific absorption
  rate (SAR)\, are derived considering the reduction (safety) factor. The s
 afety of the products should be assessed following the method of product s
 tandards. In this lecture\, the relationship between these two types of st
 andards is discussed including the rationale from engineering viewpoint fr
 om extremely low frequencies to millimeter waves. Recent standardization r
 elated to 5G wireless communications system is also summarized. In additio
 n\, the research necessity in this research field is mentioned.\n\nCo-spon
 sored by: EMC Lab EPFL\n\nSpeaker(s): Prof. Akimasa Hirata\, \n\nVirtual: 
 https://events.vtools.ieee.org/m/327797
LOCATION:Virtual: https://events.vtools.ieee.org/m/327797
ORGANIZER:mohammad.azadifar@epfl.ch
SEQUENCE:4
SUMMARY:Human Safety from Electromagnetic Fields 
URL;VALUE=URI:https://events.vtools.ieee.org/m/327797
X-ALT-DESC:Description: &lt;br /&gt;&lt;p style=&quot;font-weight: 400\;&quot;&gt;There exists sa
 fety concern for exposure to electromagnetic fields. The adverse health ef
 fect due to electromagnetic field has been summarized in documents of Worl
 d Health Organization. To protect the human from electromagnetic fields\, 
 a two-tier approach has then been applied in our daily life. First\, the e
 xposure standards are developed based on the threshold of adverse health e
 ffect. The limit of induced physical quantities in the human body\, such a
 s induced electric field and specific absorption rate (SAR)\, are derived 
 considering the reduction (safety) factor. The safety of the products shou
 ld be assessed following the method of product standards. In this lecture\
 , the relationship between these two types of standards is discussed inclu
 ding the rationale from engineering viewpoint from extremely low frequenci
 es to millimeter waves. Recent standardization related to 5G wireless comm
 unications system is also summarized. In addition\, the research necessity
  in this research field is mentioned.&lt;/p&gt;
END:VEVENT
END:VCALENDAR

