BEGIN:VCALENDAR
VERSION:2.0
PRODID:IEEE vTools.Events//EN
CALSCALE:GREGORIAN
BEGIN:VTIMEZONE
TZID:America/Lima
BEGIN:DAYLIGHT
DTSTART:20380118T221407
TZOFFSETFROM:-0500
TZOFFSETTO:-0500
RRULE:FREQ=YEARLY;BYDAY=3MO;BYMONTH=1
TZNAME:-05
END:DAYLIGHT
BEGIN:STANDARD
DTSTART:19940331T230000
TZOFFSETFROM:-0400
TZOFFSETTO:-0500
RRULE:FREQ=YEARLY;BYDAY=-1TH;BYMONTH=3
TZNAME:-05
END:STANDARD
END:VTIMEZONE
BEGIN:VEVENT
DTSTAMP:20221028T180110Z
UID:6C45072E-CC01-42B8-BD32-35E599C26C49
DTSTART;TZID=America/Lima:20221021T080000
DTEND;TZID=America/Lima:20221021T170000
DESCRIPTION:Visita técnica a INDECO\n\nAv. Universitaria 583\, Cercado de 
 Lima\, Lima\, Lima\, Peru
LOCATION:Av. Universitaria 583\, Cercado de Lima\, Lima\, Lima\, Peru
ORGANIZER:manuel_2001.17@ieee.org
SEQUENCE:3
SUMMARY:Visita técnica a Indeco
URL;VALUE=URI:https://events.vtools.ieee.org/m/327972
X-ALT-DESC:Description: &lt;br /&gt;&lt;p&gt;Visita t&amp;eacute\;cnica a INDECO&lt;/p&gt;
END:VEVENT
END:VCALENDAR

