BEGIN:VCALENDAR
VERSION:2.0
PRODID:IEEE vTools.Events//EN
CALSCALE:GREGORIAN
BEGIN:VTIMEZONE
TZID:America/New_York
BEGIN:DAYLIGHT
DTSTART:20230312T030000
TZOFFSETFROM:-0500
TZOFFSETTO:-0400
RRULE:FREQ=YEARLY;BYDAY=2SU;BYMONTH=3
TZNAME:EDT
END:DAYLIGHT
BEGIN:STANDARD
DTSTART:20221106T010000
TZOFFSETFROM:-0400
TZOFFSETTO:-0500
RRULE:FREQ=YEARLY;BYDAY=1SU;BYMONTH=11
TZNAME:EST
END:STANDARD
END:VTIMEZONE
BEGIN:VEVENT
DTSTAMP:20221220T165130Z
UID:DCF66339-3CD1-43F2-AC34-867135A98703
DTSTART;TZID=America/New_York:20221216T093000
DTEND;TZID=America/New_York:20221216T103000
DESCRIPTION:A seminar by Dr. Sourav Chandra\, PhD\, Senior Postdoctoral Fel
 low at the Northwestern University.\n\nCo-sponsored by: Chronic Brain Inju
 ry Research Discovery Theme\, The Ohio State University\n\nSpeaker(s): Dr.
  Sourav Chandra\, \n\nVirtual: https://events.vtools.ieee.org/m/328081
LOCATION:Virtual: https://events.vtools.ieee.org/m/328081
ORGANIZER:lee.8763@osu.edu
SEQUENCE:5
SUMMARY:Novel tattoo electrode for HighDensity surface Electromyography
URL;VALUE=URI:https://events.vtools.ieee.org/m/328081
X-ALT-DESC:Description: &lt;br /&gt;&lt;p&gt;A seminar by Dr.&amp;nbsp\;Sourav Chandra\, Ph
 D\, Senior Postdoctoral Fellow at the Northwestern University.&amp;nbsp\;&lt;/p&gt;\
 n&lt;p&gt;&amp;nbsp\;&lt;/p&gt;
END:VEVENT
END:VCALENDAR

