BEGIN:VCALENDAR
VERSION:2.0
PRODID:IEEE vTools.Events//EN
CALSCALE:GREGORIAN
BEGIN:VTIMEZONE
TZID:Asia/Dhaka
BEGIN:DAYLIGHT
DTSTART:20380119T091407
TZOFFSETFROM:+0600
TZOFFSETTO:+0600
RRULE:FREQ=YEARLY;BYDAY=3TU;BYMONTH=1
TZNAME:+06
END:DAYLIGHT
BEGIN:STANDARD
DTSTART:20091231T230000
TZOFFSETFROM:+0700
TZOFFSETTO:+0600
RRULE:FREQ=YEARLY;BYDAY=-1TH;BYMONTH=12
TZNAME:+06
END:STANDARD
END:VTIMEZONE
BEGIN:VEVENT
DTSTAMP:20221026T143012Z
UID:87171549-93F6-4304-85F7-5689A402F69F
DTSTART;TZID=Asia/Dhaka:20221024T143000
DTEND;TZID=Asia/Dhaka:20221024T170000
DESCRIPTION:As one of the most proficient and esteemed student branches of 
 IEEE\, we are very excited to let you all know that the much anticipated I
 EEE Day of this year will be held on October 24\, 2022. This year Ratul Kh
 an will join us to conduct a lucrative session. Anyone of us who has learn
 ed from &quot;Onnorokom Pathshala&quot; has elevated him to a position of reverence.
  He has spent his entire life attempting to give quality in his teaching o
 f any subject\, from the trivial to the important\, to anyone and everyone
 . He is currently employed as a researcher for Onnorokom Biggyanbaksho&#39;s r
 esearch and development division.\nAn interactive session with the speaker
  to extract answers to our curiosities. Here the speaker will take his tim
 e to talk to us\, share his stories with us and give us walkthroughs on to
 pics we may want under his expertise.\nIEEE Day is an annual event that ce
 lebrates the first time in history when engineers worldwide gathered to sh
 are their technical ideas in 1884. One of IEEE Day’s objectives is to sh
 ow the ways IEEE members\, in local communities\, join together to collabo
 rate on ideas that leverage technology for a better tomorrow.\n\nSpeaker(s
 ): Ratul Khan\, \n\nRoom: Room No: 405\, Bldg: Science Complex Building (D
 ept. of CSE)\, Mokarram Building Area\,\, Room No: 405\, 3rd Floor\, Unive
 rsity of Dhaka\, Dhaka\, Dhaka\, Bangladesh
LOCATION:Room: Room No: 405\, Bldg: Science Complex Building (Dept. of CSE)
 \, Mokarram Building Area\,\, Room No: 405\, 3rd Floor\, University of Dha
 ka\, Dhaka\, Dhaka\, Bangladesh
ORGANIZER: contact@ieeesbdu.org
SEQUENCE:7
SUMMARY:HOW IT (REALLY) IS LIKE TO BE AN ENGINEER! (IEEEDAY 2022)
URL;VALUE=URI:https://events.vtools.ieee.org/m/328374
X-ALT-DESC:Description: &lt;br /&gt;&lt;div class=&quot;xdj266r x11i5rnm xat24cr x1mh8g0r
  x1vvkbs&quot;&gt;As one of the most proficient and esteemed student branches of I
 EEE\, we are very excited to let you all know that the much anticipated IE
 EE Day of this year will be held on October 24\, 2022. This year Ratul Kha
 n will join us to conduct a lucrative session. Anyone of us who has learne
 d from &quot;Onnorokom Pathshala&quot; has elevated him to a position of reverence. 
 He has spent his entire life attempting to give quality in his teaching of
  any subject\, from the trivial to the important\, to anyone and everyone.
  He is currently employed as a researcher for Onnorokom Biggyanbaksho&#39;s re
 search and development division.&lt;/div&gt;\n&lt;div class=&quot;x11i5rnm xat24cr x1mh8
 g0r x1vvkbs xtlvy1s&quot;&gt;An interactive session with the speaker to extract an
 swers to our curiosities. Here the speaker will take his time to talk to u
 s\, share his stories with us and give us walkthroughs on topics we may wa
 nt under his expertise.&lt;/div&gt;\n&lt;div class=&quot;x11i5rnm xat24cr x1mh8g0r x1vvk
 bs xtlvy1s&quot;&gt;IEEE Day is an annual event that celebrates the first time in 
 history when engineers worldwide gathered to share their technical ideas i
 n 1884. One of IEEE Day&amp;rsquo\;s objectives is to show the ways IEEE membe
 rs\, in local communities\, join together to collaborate on ideas that lev
 erage technology for a better tomorrow.&lt;/div&gt;
END:VEVENT
END:VCALENDAR

