BEGIN:VCALENDAR
VERSION:2.0
PRODID:IEEE vTools.Events//EN
CALSCALE:GREGORIAN
BEGIN:VTIMEZONE
TZID:Asia/Kolkata
BEGIN:STANDARD
DTSTART:19451014T230000
TZOFFSETFROM:+0630
TZOFFSETTO:+0530
TZNAME:IST
END:STANDARD
END:VTIMEZONE
BEGIN:VEVENT
DTSTAMP:20221128T051527Z
UID:73721B97-D1C4-4429-B751-F028471354A9
DTSTART;TZID=Asia/Kolkata:20221126T080000
DTEND;TZID=Asia/Kolkata:20221126T200000
DESCRIPTION:The conclave aims to exhibit the innovative\, inter-disciplinar
 y topics in the field of Computer Science &amp; Engineering. The conclave will
  host keynote lectures from renowned researchers in the field of Computer 
 Science and Engineering. The two days event\, encourages researchers to be
  passionate about their work and bring out quality research outputs. It wo
 uld be an excellent platform for them to present their research findings a
 nd to nurture the young minds towards research and innovation. Thus\, the 
 conclave is an excellent opportunity for the researchers to make themselve
 s up–to-date on cutting edge research innovations and provide a venue to
  interact with pioneer researchers in the field of Computer Science and En
 gineering.\n\nSpeaker(s): Prof Prasenjit Ghosh\, Dr. Kanad Basu\n\nAgenda:
  \nShowcasing the ongoing research activities by research scholars and fac
 ulty members.\nProviding a platform for exchange of thoughts among disting
 uished guests\, faculty members\nand scholars.\nInspiring and encouraging 
 research scholars to demonstrate innovative research work.\n\nMALNAD COLLE
 GE OF ENGINEERING \, 21\, Salagame Road\, Hassan\, Karnataka\, India\,  57
 3202
LOCATION:MALNAD COLLEGE OF ENGINEERING \, 21\, Salagame Road\, Hassan\, Kar
 nataka\, India\,  573202
ORGANIZER:ieee.cas.bangalore@gmail.com
SEQUENCE:6
SUMMARY:Research Conclave 2022
URL;VALUE=URI:https://events.vtools.ieee.org/m/328396
X-ALT-DESC:Description: &lt;br /&gt;&lt;p&gt;The conclave aims to exhibit the innovativ
 e\, inter-disciplinary topics in the field of Computer Science &amp;amp\; Engi
 neering. The conclave will host keynote lectures from renowned researchers
  in the field of Computer Science and Engineering. The two days event\, en
 courages researchers to be passionate about their work and bring out quali
 ty research outputs. It would be an excellent platform for them to present
  their research findings and to nurture the young minds towards research a
 nd innovation. Thus\, the conclave is an excellent opportunity for the res
 earchers to make themselves up&amp;ndash\;to-date on cutting edge research inn
 ovations and provide a venue to interact with pioneer researchers in the f
 ield of Computer Science and Engineering.&lt;/p&gt;&lt;br /&gt;&lt;br /&gt;Agenda: &lt;br /&gt;&lt;p&gt;
 Showcasing the ongoing research activities by research scholars and facult
 y members.&lt;br /&gt;Providing a platform for exchange of thoughts among distin
 guished guests\, faculty members&lt;br /&gt;and scholars.&lt;br /&gt;Inspiring and enc
 ouraging research scholars to demonstrate innovative research work.&lt;/p&gt;
END:VEVENT
END:VCALENDAR

