BEGIN:VCALENDAR
VERSION:2.0
PRODID:IEEE vTools.Events//EN
CALSCALE:GREGORIAN
BEGIN:VTIMEZONE
TZID:America/Santiago
BEGIN:DAYLIGHT
DTSTART:20220911T010000
TZOFFSETFROM:-0400
TZOFFSETTO:-0300
RRULE:FREQ=YEARLY;BYDAY=2SU;BYMONTH=9
TZNAME:-03
END:DAYLIGHT
BEGIN:STANDARD
DTSTART:20230401T230000
TZOFFSETFROM:-0300
TZOFFSETTO:-0400
RRULE:FREQ=YEARLY;BYDAY=1SA;BYMONTH=4
TZNAME:-04
END:STANDARD
END:VTIMEZONE
BEGIN:VEVENT
DTSTAMP:20230207T205001Z
UID:50546062-2AB0-4A04-AF2E-7ECC0174D270
DTSTART;TZID=America/Santiago:20230103T090000
DTEND;TZID=America/Santiago:20230106T180000
DESCRIPTION:The Latin American Summer School on Cognitive Robotics (LACORO)
  aims to make cutting-edge knowledge of Artificial Intelligence for Roboti
 cs Applications more accessible in the Southern Hemisphere. Moreover\, we 
 want to foster intercultural student collaboration within and outside the 
 Americas.\n\nCo-sponsored by: Centro de Innovación y Robótica \; German 
 Research Center for Artificial Intelligence \; University of New South Wal
 es Sydney \; Universidad Central\n\nUNAB Antonio Varas\, Region Metropolit
 ana\, Chile
LOCATION:UNAB Antonio Varas\, Region Metropolitana\, Chile
ORGANIZER:ras.centro@ieeechile.cl
SEQUENCE:2
SUMMARY:Latin American Summer School on Cognitive Robotics
URL;VALUE=URI:https://events.vtools.ieee.org/m/328452
X-ALT-DESC:Description: &lt;br /&gt;&lt;p&gt;The Latin American Summer School on Cognit
 ive Robotics (LACORO) aims to make cutting-edge knowledge of Artificial In
 telligence for Robotics Applications more accessible in the Southern Hemis
 phere. Moreover\, we want to foster intercultural student collaboration wi
 thin and outside the Americas.&lt;/p&gt;
END:VEVENT
END:VCALENDAR

