BEGIN:VCALENDAR
VERSION:2.0
PRODID:IEEE vTools.Events//EN
CALSCALE:GREGORIAN
BEGIN:VTIMEZONE
TZID:Asia/Tokyo
BEGIN:STANDARD
DTSTART:19510909T000000
TZOFFSETFROM:+1000
TZOFFSETTO:+0900
TZNAME:JST
END:STANDARD
END:VTIMEZONE
BEGIN:VEVENT
DTSTAMP:20221029T045326Z
UID:78945FC3-6B94-4CA5-8D82-10FD68ED5FB8
DTSTART;TZID=Asia/Tokyo:20221026T150000
DTEND;TZID=Asia/Tokyo:20221026T170000
DESCRIPTION:●開催日：2022年10月26日（水）15：00～17：00\n●
 開催場所：\n\nANA機体メンテナンスセンター\n\n〒144-0041 
 東京都大田区羽田空港3-5-4（東京モノレール 新整備場
 駅より 徒歩15分）\n\nAgenda: \n■見学会集合場所と時間\n\
 nANA機体メンテナンスセンター 3 PM\n\n〒144-0041 東京都大
 田区羽田空港3-5-4（東京モノレール 新整備場駅より 徒
 歩15分）\n\n3-5-4\, 羽田空港\, 大田区羽田空港3-5-4\, Tokyo\,
  Japan\, 〒144-0041
LOCATION:3-5-4\, 羽田空港\, 大田区羽田空港3-5-4\, Tokyo\, Japan\
 , 〒144-0041
ORGANIZER:naohisa@kmd.keio.ac.jp
SEQUENCE:3
SUMMARY:Technical Tour: ANA 機体整備工場見学会 (#10 event) 
URL;VALUE=URI:https://events.vtools.ieee.org/m/328524
X-ALT-DESC:Description: &lt;br /&gt;&lt;p&gt;●開催日：2022年10月26日（水）1
 5：00～17：00&lt;br /&gt;●開催場所：&lt;/p&gt;\n&lt;p&gt;ANA機体メンテナン
 スセンター&lt;/p&gt;\n&lt;p&gt;〒144-0041&amp;nbsp\;東京都大田区羽田空港3-
 5-4（東京モノレール 新整備場駅より 徒歩15分）&lt;/p&gt;&lt;br /&gt;
 &lt;br /&gt;Agenda: &lt;br /&gt;&lt;p&gt;■見学会集合場所と時間&lt;/p&gt;\n&lt;p&gt;ANA機体
 メンテナンスセンター 3 PM&lt;/p&gt;\n&lt;p&gt;〒144-0041&amp;nbsp\;東京都大
 田区羽田空港3-5-4（東京モノレール 新整備場駅より 徒
 歩15分）&lt;/p&gt;
END:VEVENT
END:VCALENDAR

