BEGIN:VCALENDAR
VERSION:2.0
PRODID:IEEE vTools.Events//EN
CALSCALE:GREGORIAN
BEGIN:VTIMEZONE
TZID:America/Denver
BEGIN:DAYLIGHT
DTSTART:20230312T030000
TZOFFSETFROM:-0700
TZOFFSETTO:-0600
RRULE:FREQ=YEARLY;BYDAY=2SU;BYMONTH=3
TZNAME:MDT
END:DAYLIGHT
BEGIN:STANDARD
DTSTART:20221106T010000
TZOFFSETFROM:-0600
TZOFFSETTO:-0700
RRULE:FREQ=YEARLY;BYDAY=1SU;BYMONTH=11
TZNAME:MST
END:STANDARD
END:VTIMEZONE
BEGIN:VEVENT
DTSTAMP:20221122T160220Z
UID:0491B6B4-056F-4163-83CB-E76FCBF29321
DTSTART;TZID=America/Denver:20221119T093000
DTEND;TZID=America/Denver:20221119T123000
DESCRIPTION:We will be holding the 2022 Officer Training both in-person and
  virtually. In-person attendees will be provided lunch\, and it will be he
 ld at Ulteig&#39;s Denver office in the Denver Tech Center. Virtual attendees 
 will have a WebEx call-in.\n\n2022 IEEE Denver Section Officer Training\nH
 osted by IEEE Denver Section\n\nhttps://ieeemeetings.webex.com/ieeemeeting
 s/j.php?MTID=m323319c279a61394ae7d4be3b1358cf7\nSaturday\, Nov 19\, 2022 9
 :00 am | 4 hours | (UTC-06:00) Mountain Time (US &amp; Canada)\nMeeting number
 : 2531 690 3552\nPassword: TMkvygB93Z6\n\nJoin by video system\nDial 25316
 903552@ieeemeetings.webex.com\nYou can also dial 173.243.2.68 and enter yo
 ur meeting number.\n\nJoin by phone\n+1-415-655-0002 United States Toll\n1
 -855-282-6330 United States Toll Free\n\nAccess code: 253 169 03552\n\nAge
 nda: \n9:30– 10:00 Introductions\; Introduction to Denver Section Jim Si
 pes\n10:00 – 10:30 Introduction to IEEE TBD\n10:30-11:00 Chairperson’s
  Guide Jim Sipes\n11:00 – 11:30 Secretary’s Guide Sarah Beckman\n11:30
  – 12:15 Treasurer’s Guide Avijit Saha\n12:15 – 12:30 Wrapup All\n\n
 Room: 2nd floor\, top of stairs\, Bldg: Ulteig\, 5575 DTC Parkway\, STE 20
 0\, Greenwood Village\, Colorado\, United States\, 80111\, Virtual: https:
 //events.vtools.ieee.org/m/328735
LOCATION:Room: 2nd floor\, top of stairs\, Bldg: Ulteig\, 5575 DTC Parkway\
 , STE 200\, Greenwood Village\, Colorado\, United States\, 80111\, Virtual
 : https://events.vtools.ieee.org/m/328735
ORGANIZER:sarah.beckman@ulteig.com
SEQUENCE:2
SUMMARY:2022 IEEE Denver Section Officer Training - November 19
URL;VALUE=URI:https://events.vtools.ieee.org/m/328735
X-ALT-DESC:Description: &lt;br /&gt;&lt;p&gt;We will be holding the 2022 Officer Traini
 ng both in-person and virtually. In-person attendees will be provided lunc
 h\, and it will be held at Ulteig&#39;s Denver office in the Denver Tech Cente
 r. Virtual attendees will have a WebEx call-in.&lt;/p&gt;\n&lt;p&gt;&amp;nbsp\;&lt;/p&gt;\n&lt;p&gt;20
 22 IEEE Denver Section Officer Training&lt;br /&gt;Hosted by IEEE Denver Section
 &lt;/p&gt;\n&lt;p&gt;https://ieeemeetings.webex.com/ieeemeetings/j.php?MTID=m323319c27
 9a61394ae7d4be3b1358cf7&lt;br /&gt;Saturday\, Nov 19\, 2022 9:00 am | 4 hours | 
 (UTC-06:00) Mountain Time (US &amp;amp\; Canada)&lt;br /&gt;Meeting number: 2531 690
  3552&lt;br /&gt;Password: TMkvygB93Z6&lt;/p&gt;\n&lt;p&gt;Join by video system&lt;br /&gt;Dial 25
 316903552@ieeemeetings.webex.com&lt;br /&gt;You can also dial 173.243.2.68 and e
 nter your meeting number.&lt;/p&gt;\n&lt;p&gt;Join by phone&lt;br /&gt;+1-415-655-0002 Unite
 d States Toll&lt;br /&gt;1-855-282-6330 United States Toll Free&lt;/p&gt;\n&lt;p&gt;Access c
 ode: 253 169 03552&lt;/p&gt;&lt;br /&gt;&lt;br /&gt;Agenda: &lt;br /&gt;&lt;p&gt;9:30&amp;ndash\; 10:00 Intr
 oductions\; Introduction to Denver Section&amp;nbsp\; Jim Sipes&lt;br /&gt;10:00 &amp;nd
 ash\; 10:30 Introduction to IEEE&amp;nbsp\; TBD&lt;br /&gt;10:30-11:00 Chairperson&amp;r
 squo\;s Guide&amp;nbsp\; Jim Sipes&lt;br /&gt;11:00 &amp;ndash\; 11:30 Secretary&amp;rsquo\;
 s Guide&amp;nbsp\; Sarah Beckman&lt;br /&gt;11:30 &amp;ndash\; 12:15 Treasurer&amp;rsquo\;s 
 Guide&amp;nbsp\; Avijit Saha&lt;br /&gt;12:15 &amp;ndash\; 12:30 Wrapup&amp;nbsp\; All&lt;/p&gt;
END:VEVENT
END:VCALENDAR

