BEGIN:VCALENDAR
VERSION:2.0
PRODID:IEEE vTools.Events//EN
CALSCALE:GREGORIAN
BEGIN:VTIMEZONE
TZID:Australia/Adelaide
BEGIN:DAYLIGHT
DTSTART:20221002T030000
TZOFFSETFROM:+0930
TZOFFSETTO:+1030
RRULE:FREQ=YEARLY;BYDAY=1SU;BYMONTH=10
TZNAME:ACDT
END:DAYLIGHT
BEGIN:STANDARD
DTSTART:20230402T020000
TZOFFSETFROM:+1030
TZOFFSETTO:+0930
RRULE:FREQ=YEARLY;BYDAY=1SU;BYMONTH=4
TZNAME:ACST
END:STANDARD
END:VTIMEZONE
BEGIN:VEVENT
DTSTAMP:20221121T051949Z
UID:38C8AEB6-B7B4-4A64-9774-D2AE42317B07
DTSTART;TZID=Australia/Adelaide:20221118T173000
DTEND;TZID=Australia/Adelaide:20221118T184500
DESCRIPTION:Dear members\,\n\nThe IEEE PES SA Chapter will be holding it&#39;s 
 AGM for 2022 at 5:30 pm on the 18th of November 2022.\n\nThe details can b
 e found here: https://r10.ieee.org/saus/event/ieee-sa-section-agm-and-end-
 of-year-dinner-celebration/\n\nIn this meeting\, we will be electing the n
 ew ExCom for 2023. Those are\n\n- Chair\n- Vice Chair\n- Secretary\n- Trea
 surer\n\nRegards\,\n\nJamal\n\n(on behalf of the IEEE PES SA Chapter)\n\n 
 cnr South Terrace and Peacock Road\, Adelaide\, South Australia\, Australi
 a
LOCATION: cnr South Terrace and Peacock Road\, Adelaide\, South Australia\,
  Australia
ORGANIZER:jamal.alameddine@outlook.com
SEQUENCE:3
SUMMARY:IEEE PES AGM Meeting 2022
URL;VALUE=URI:https://events.vtools.ieee.org/m/328825
X-ALT-DESC:Description: &lt;br /&gt;&lt;p&gt;Dear members\,&lt;/p&gt;\n&lt;p&gt;The IEEE PES SA Cha
 pter will be holding it&#39;s AGM for 2022 at 5:30 pm on the 18th of November 
 2022.&lt;/p&gt;\n&lt;p&gt;The details can be found here: &lt;a href=&quot;https://r10.ieee.org
 /saus/event/ieee-sa-section-agm-and-end-of-year-dinner-celebration/&quot;&gt;https
 ://r10.ieee.org/saus/event/ieee-sa-section-agm-and-end-of-year-dinner-cele
 bration/&lt;/a&gt;&lt;/p&gt;\n&lt;p&gt;In this meeting\, we will be electing the new ExCom f
 or 2023. Those are&amp;nbsp\;&lt;/p&gt;\n&lt;ul&gt;\n&lt;li&gt;Chair&lt;/li&gt;\n&lt;li&gt;Vice Chair&lt;/li&gt;\n
 &lt;li&gt;Secretary&lt;/li&gt;\n&lt;li&gt;Treasurer&lt;/li&gt;\n&lt;/ul&gt;\n&lt;p&gt;Regards\,&lt;/p&gt;\n&lt;p&gt;Jamal&lt;
 /p&gt;\n&lt;p&gt;(on behalf of the IEEE PES SA Chapter)&lt;/p&gt;\n&lt;p&gt;&amp;nbsp\;&lt;/p&gt;\n&lt;p&gt;&amp;nb
 sp\;&lt;/p&gt;
END:VEVENT
END:VCALENDAR

