BEGIN:VCALENDAR
VERSION:2.0
PRODID:IEEE vTools.Events//EN
CALSCALE:GREGORIAN
BEGIN:VTIMEZONE
TZID:America/New_York
BEGIN:DAYLIGHT
DTSTART:20220313T030000
TZOFFSETFROM:-0500
TZOFFSETTO:-0400
RRULE:FREQ=YEARLY;BYDAY=2SU;BYMONTH=3
TZNAME:EDT
END:DAYLIGHT
BEGIN:STANDARD
DTSTART:20221106T010000
TZOFFSETFROM:-0400
TZOFFSETTO:-0500
RRULE:FREQ=YEARLY;BYDAY=1SU;BYMONTH=11
TZNAME:EST
END:STANDARD
END:VTIMEZONE
BEGIN:VEVENT
DTSTAMP:20221021T184057Z
UID:632DC2C9-3A52-4B00-B9A3-F7970EA847A4
DTSTART;TZID=America/New_York:20221021T140000
DTEND;TZID=America/New_York:20221021T143000
DESCRIPTION:VM: Status on transfer of funds from EMBS to IEEE? Status on re
 imbursement for social event?\n\nDK:\nStill working on informational flyer
  for the Linkedin Officers page (Introduction to EMBS/Meet the Officers) -
  To receive headshots from Vlad and Sai (if interested)\nMake sure we tag 
 ourselves on the Linkedin when Divya has everything up and running\nVlad i
 s able to help with advertisement\n\nKS:\nReached out to a couple of stude
 nt chapters (BU\, MIT\, UMass-Amherst) - awaiting response\n(Sai recommend
 ed to not reach out to the EMBS emails\, since these could be dormant - re
 commended to reach out to BMES instead) - Kamal to send emails out to BMES
  within universities as well\n\nSai: Is the Worcester EMBS active? Unlikel
 y (Vlad)\n\nRM: Found the person for the Cybersecurity person for presenta
 tion\nTalk for this would be preferable for mid-December (week of 12th?)\n
 Attended CIC - We can have this place for free\, however we need to reserv
 e this. Maybe have an in-person seminar?\n(Vlad: There are a lot of folks 
 at WPI for the cybersecurity as well)\n\nVirtual: https://events.vtools.ie
 ee.org/m/328903
LOCATION:Virtual: https://events.vtools.ieee.org/m/328903
ORGANIZER:aseemsingh84@gmail.com
SEQUENCE:1
SUMMARY:ExCom Meeting
URL;VALUE=URI:https://events.vtools.ieee.org/m/328903
X-ALT-DESC:Description: &lt;br /&gt;&lt;p&gt;VM: Status on transfer of funds from EMBS 
 to IEEE? Status on reimbursement for social event?&lt;br /&gt;&lt;br /&gt;DK:&lt;br /&gt;Sti
 ll working on informational flyer for the Linkedin Officers page (Introduc
 tion to EMBS/Meet the Officers) - To receive headshots from Vlad and Sai (
 if interested)&lt;br /&gt;Make sure we tag ourselves on the Linkedin when Divya 
 has everything up and running&lt;br /&gt;Vlad is able to help with advertisement
 &lt;br /&gt;&lt;br /&gt;KS:&lt;br /&gt;Reached out to a couple of student chapters (BU\, MIT
 \, UMass-Amherst) - awaiting response&lt;br /&gt;(Sai recommended to not reach o
 ut to the EMBS emails\, since these could be dormant - recommended to reac
 h out to BMES instead) - Kamal to send emails out to BMES within universit
 ies as well&lt;br /&gt;&lt;br /&gt;Sai: Is the Worcester EMBS active? Unlikely (Vlad)&lt;
 br /&gt;&lt;br /&gt;RM: Found the person for the Cybersecurity person for presentat
 ion&lt;br /&gt;Talk for this would be preferable for mid-December (week of 12th?
 )&lt;br /&gt;Attended CIC - We can have this place for free\, however we need to
  reserve this. Maybe have an in-person seminar?&lt;br /&gt;(Vlad: There are a lo
 t of folks at WPI for the cybersecurity as well)&lt;/p&gt;
END:VEVENT
END:VCALENDAR

