BEGIN:VCALENDAR
VERSION:2.0
PRODID:IEEE vTools.Events//EN
CALSCALE:GREGORIAN
BEGIN:VTIMEZONE
TZID:America/Mexico_City
BEGIN:STANDARD
DTSTART:20221030T010000
TZOFFSETFROM:-0500
TZOFFSETTO:-0600
TZNAME:CST
END:STANDARD
END:VTIMEZONE
BEGIN:VEVENT
DTSTAMP:20221228T043657Z
UID:51ACDA94-99DA-406C-96FB-7ABCC9D6329C
DTSTART;TZID=America/Mexico_City:20221129T160000
DTEND;TZID=America/Mexico_City:20221129T193000
DESCRIPTION:CASS R9 has organized a series of chapter visitis on-site to pr
 omote CASS membership and technical engagement across the region partnerin
 g with the local chapters.\n\nSpeaker(s): Dr. Ricardo Reis\, Ing. José Pa
 lomino\n\nAgenda: \nAgenda:\n\n1600: Trends on Micro and Nanoelectronics -
  Ricardo Reis\n\n1645: Active and Pasive Devices for High Frequency Applic
 ations - Roberto Murphy\n\n1730: Break\n\n1745: Intel R&amp;D in Mexico - Jos
 é Palomino (Intel- Mexico)\n\n1830 : IEEE CASS: Opportunities and Interna
 tional Insertion\n\n1930: Clousure\n\nBldg: Auditorio D2\, 2do Nivel\, Edi
 ficio D\, Periférico Sur Manuel Gómez Morín #8585\, Col. ITESO \, Tlaqu
 epaque\, Jalisco\, Mexico\, 45604
LOCATION:Bldg: Auditorio D2\, 2do Nivel\, Edificio D\, Periférico Sur Manu
 el Gómez Morín #8585\, Col. ITESO \, Tlaquepaque\, Jalisco\, Mexico\, 45
 604
ORGANIZER:r.calderonr@ieee.org
SEQUENCE:4
SUMMARY:IEEE CASS Tour Mexico 2022 - ITESO
URL;VALUE=URI:https://events.vtools.ieee.org/m/328906
X-ALT-DESC:Description: &lt;br /&gt;&lt;p&gt;CASS R9 has organized a series of chapter 
 visitis on-site to promote CASS membership and technical engagement across
  the region partnering with the local chapters.&lt;/p&gt;&lt;br /&gt;&lt;br /&gt;Agenda: &lt;br
  /&gt;&lt;p&gt;Agenda:&lt;/p&gt;\n&lt;p&gt;1600: Trends on Micro and Nanoelectronics - Ricardo 
 Reis&lt;/p&gt;\n&lt;p&gt;1645: Active and Pasive Devices for High Frequency Applicatio
 ns - Roberto Murphy&lt;/p&gt;\n&lt;p&gt;1730: Break&lt;/p&gt;\n&lt;p&gt;1745: Intel R&amp;amp\;D in Me
 xico - Jos&amp;eacute\; Palomino (Intel- Mexico)&lt;/p&gt;\n&lt;p&gt;1830 : IEEE CASS: Opp
 ortunities and International Insertion&lt;/p&gt;\n&lt;p&gt;1930: Clousure&lt;/p&gt;
END:VEVENT
END:VCALENDAR

