BEGIN:VCALENDAR
VERSION:2.0
PRODID:IEEE vTools.Events//EN
CALSCALE:GREGORIAN
BEGIN:VTIMEZONE
TZID:Europe/Warsaw
BEGIN:DAYLIGHT
DTSTART:20220327T030000
TZOFFSETFROM:+0100
TZOFFSETTO:+0200
RRULE:FREQ=YEARLY;BYDAY=-1SU;BYMONTH=3
TZNAME:CEST
END:DAYLIGHT
BEGIN:STANDARD
DTSTART:20221030T020000
TZOFFSETFROM:+0200
TZOFFSETTO:+0100
RRULE:FREQ=YEARLY;BYDAY=-1SU;BYMONTH=10
TZNAME:CET
END:STANDARD
END:VTIMEZONE
BEGIN:VEVENT
DTSTAMP:20221024T100553Z
UID:89E3F830-DDB5-4969-9DD1-9DD3BF1941A5
DTSTART;TZID=Europe/Warsaw:20220915T100000
DTEND;TZID=Europe/Warsaw:20220915T150000
DESCRIPTION:Theoretical introduction and measurement demonstrations of the 
 electromagnetic compatibility testing laboratory for engineers of Office o
 f Electronic Communications of Poland.\n\nCo-sponsored by: Łukasiewcz - P
 IT\n\nSpeaker(s): Krzysztof Sieczkarek\, \n\nEstkowskiego 6\, Poznan\, Wie
 lkopolskie\, Poland\, 61-755
LOCATION:Estkowskiego 6\, Poznan\, Wielkopolskie\, Poland\, 61-755
ORGANIZER:krzysztof.sieczkarek@pit.lukasiewicz.gov.pl
SEQUENCE:0
SUMMARY:IEEE EMC-S PL reported activity no. 8/2022: “Presentation of EMC 
 laboratory to Office of Electronic Communications of Poland”
URL;VALUE=URI:https://events.vtools.ieee.org/m/329253
X-ALT-DESC:Description: &lt;br /&gt;&lt;p&gt;Theoretical introduction and measurement d
 emonstrations of the electromagnetic compatibility testing laboratory for 
 engineers of Office of Electronic Communications of Poland.&lt;/p&gt;\n&lt;p&gt;&amp;nbsp\
 ;&lt;/p&gt;
END:VEVENT
END:VCALENDAR

