BEGIN:VCALENDAR
VERSION:2.0
PRODID:IEEE vTools.Events//EN
CALSCALE:GREGORIAN
BEGIN:VTIMEZONE
TZID:America/Sao_Paulo
BEGIN:DAYLIGHT
DTSTART:20380119T001407
TZOFFSETFROM:-0300
TZOFFSETTO:-0300
RRULE:FREQ=YEARLY;BYDAY=3TU;BYMONTH=1
TZNAME:-03
END:DAYLIGHT
BEGIN:STANDARD
DTSTART:20190216T230000
TZOFFSETFROM:-0200
TZOFFSETTO:-0300
RRULE:FREQ=YEARLY;BYDAY=3SA;BYMONTH=2
TZNAME:-03
END:STANDARD
END:VTIMEZONE
BEGIN:VEVENT
DTSTAMP:20221101T172949Z
UID:F96CB710-904B-4CA5-B778-F7B4FDE76054
DTSTART;TZID=America/Sao_Paulo:20221031T180000
DTEND;TZID=America/Sao_Paulo:20221031T200000
DESCRIPTION:Um Diálogo Sobre Experiências\, Oportunidades\, e Trajetória
  à Carreira Acadêmica Internacional\, de Arthur Gonçalves Givisiez para
  estudantes dos cursos de Engenharia Elétrica da UFJF. Arthur é pesquisa
 dor (research fellow) em redes inteligentes (smart grids) e candidato ao t
 ítulo de doutorado em sistemas de potência e redes inteligentes na Unive
 rsidade de Melbourne\, Austrália. Como pesquisador\, ele é responsável 
 por um projeto que está avaliando adaptações necessárias ao conceito d
 e envelopes de operação (operating envelopes) à diferentes condições 
 técnicas existentes em toda a Austrália. Como doutorando\, ele tem inves
 tigado o uso de algoritmos de otimização distribuída aplicado a técnic
 as avançadas para controle de recursos energéticos distribuídos (DERs)\
 , focando em redes de distribuição ricas em DERs\, e com o objetivo de p
 ermitir uma coordenação rápida\, precisa\, e confiável destes recursos
 . Durante seu doutorado ele também esteve envolvido em dois projetos\, um
  relacionado a DERs e o outro à modelagem de redes de distribuição. Sua
  experiência levou a publicações de artigos em conferências e revistas
  científicas relevantes internacionalmente na área de sistemas de potên
 cia. Arthur recebeu diversas bolsas de estudo/pesquisa ao longo de sua car
 reira\, sendo CNPq\, CAPES e a Universidade de Melbourne as principais ent
 idades de apoio. Arthur é membro do IEEE desde 2011 e possui graduação 
 e mestrado em Engenharia Elétrica pela Universidade Federal de Juiz de Fo
 ra (UFJF)\, Brasil.\n\nJuiz de Fora\, Minas Gerais\, Brazil
LOCATION:Juiz de Fora\, Minas Gerais\, Brazil
ORGANIZER:leonardo.willer@ieee.org
SEQUENCE:2
SUMMARY:Um Diálogo Sobre Minhas Experiências: Oportunidades e Trajetória
  à Carreira Acadêmica Internacional
URL;VALUE=URI:https://events.vtools.ieee.org/m/329499
X-ALT-DESC:Description: &lt;br /&gt;&lt;p&gt;&amp;nbsp\;Um Di&amp;aacute\;logo Sobre Experi&amp;eci
 rc\;ncias\, Oportunidades\, e Trajet&amp;oacute\;ria &amp;agrave\; Carreira Acad&amp;e
 circ\;mica Internacional\, de Arthur Gon&amp;ccedil\;alves Givisiez para estud
 antes dos cursos de Engenharia El&amp;eacute\;trica da UFJF. Arthur &amp;eacute\; 
 pesquisador (research fellow) em redes inteligentes (smart grids) e candid
 ato ao t&amp;iacute\;tulo de doutorado em sistemas de pot&amp;ecirc\;ncia e redes 
 inteligentes na Universidade de Melbourne\, Austr&amp;aacute\;lia. Como pesqui
 sador\, ele &amp;eacute\; respons&amp;aacute\;vel por um projeto que est&amp;aacute\; 
 avaliando adapta&amp;ccedil\;&amp;otilde\;es necess&amp;aacute\;rias ao conceito de en
 velopes de opera&amp;ccedil\;&amp;atilde\;o (operating envelopes) &amp;agrave\; difere
 ntes condi&amp;ccedil\;&amp;otilde\;es t&amp;eacute\;cnicas existentes em toda a Austr
 &amp;aacute\;lia. Como doutorando\, ele tem investigado o uso de algoritmos de
  otimiza&amp;ccedil\;&amp;atilde\;o distribu&amp;iacute\;da aplicado a t&amp;eacute\;cnica
 s avan&amp;ccedil\;adas para controle de recursos energ&amp;eacute\;ticos distribu
 &amp;iacute\;dos (DERs)\, focando em redes de distribui&amp;ccedil\;&amp;atilde\;o ric
 as em DERs\, e com o objetivo de permitir uma coordena&amp;ccedil\;&amp;atilde\;o 
 r&amp;aacute\;pida\, precisa\, e confi&amp;aacute\;vel destes recursos. Durante se
 u doutorado ele tamb&amp;eacute\;m esteve envolvido em dois projetos\, um rela
 cionado a DERs e o outro &amp;agrave\; modelagem de redes de distribui&amp;ccedil\
 ;&amp;atilde\;o. Sua experi&amp;ecirc\;ncia levou a publica&amp;ccedil\;&amp;otilde\;es de
  artigos em confer&amp;ecirc\;ncias e revistas cient&amp;iacute\;ficas relevantes 
 internacionalmente na &amp;aacute\;rea de sistemas de pot&amp;ecirc\;ncia. Arthur 
 recebeu diversas bolsas de estudo/pesquisa ao longo de sua carreira\, send
 o CNPq\, CAPES e a Universidade de Melbourne as principais entidades de ap
 oio. Arthur &amp;eacute\; membro do IEEE desde 2011 e possui gradua&amp;ccedil\;&amp;a
 tilde\;o e mestrado em Engenharia El&amp;eacute\;trica pela Universidade Feder
 al de Juiz de Fora (UFJF)\, Brasil.&lt;/p&gt;
END:VEVENT
END:VCALENDAR

