BEGIN:VCALENDAR
VERSION:2.0
PRODID:IEEE vTools.Events//EN
CALSCALE:GREGORIAN
BEGIN:VTIMEZONE
TZID:America/Los_Angeles
BEGIN:DAYLIGHT
DTSTART:20230312T030000
TZOFFSETFROM:-0800
TZOFFSETTO:-0700
RRULE:FREQ=YEARLY;BYDAY=2SU;BYMONTH=3
TZNAME:PDT
END:DAYLIGHT
BEGIN:STANDARD
DTSTART:20221106T010000
TZOFFSETFROM:-0700
TZOFFSETTO:-0800
RRULE:FREQ=YEARLY;BYDAY=1SU;BYMONTH=11
TZNAME:PST
END:STANDARD
END:VTIMEZONE
BEGIN:VEVENT
DTSTAMP:20221218T001132Z
UID:B74E4700-E7FA-4B98-A56B-E0B58BF11393
DTSTART;TZID=America/Los_Angeles:20221214T180000
DTEND;TZID=America/Los_Angeles:20221214T193000
DESCRIPTION:Join us for the End of the Year Celebration honoring all our co
 nsultants. Find out more on how you can join the IEEE Consultant Network S
 eattle. List your name in our directory\, attend our National and local co
 nferences at reduce costs. Get connected with our over 420\,000 members. B
 e a sponsor of one of our events. Give back to the young professionals and
  share your knowledge. Attend Seattle Mariners\, Sounders\, Rain\, Storm a
 nd Kraken games. Keep abreast of the cutting edge of City of Bellevue Seat
 tle and beyond. Wine\, cheese and crackers will be served. Meet your new I
 EEE 2023 Seattle Section President Sanjay Samuel.\n\nCo-sponsored by: IEEE
  Power and Energy Society PES\n\nSpeaker(s): President Elect Seattle Secti
 on\, \n\nAgenda: \n6:00 pm IEEE Announcements\n6:15 pm IEEE Section Sectio
 n President-elect 2023 Sanjay Samuel - &#39;IEEE Outlook for 2023&#39;\n6:30 pm IE
 EE Honor our Consultant Network Consultants - Slide Presentation\n6:45 pm 
 IEEE Cheese\, Krakers and Wine - IEEE Prize Pack give away Kraken Tickets\
 , Seattle Thunderbirds Tickets\, $50 Gift Cards from our sponsors\n7:30 pm
  IEEE Conclusion - Festive Holiday Music\, Special Guest with IEEE Token G
 ifts for 2023\n\n50 116th Avenue SE #211\, Bellevue \, Washington\, United
  States\, 98004
LOCATION:50 116th Avenue SE #211\, Bellevue \, Washington\, United States\,
  98004
ORGANIZER:mike.brisbois@ieee.org
SEQUENCE:18
SUMMARY:IEEE Holiday Networking Event
URL;VALUE=URI:https://events.vtools.ieee.org/m/329801
X-ALT-DESC:Description: &lt;br /&gt;&lt;p&gt;Join us for the End of the Year Celebratio
 n honoring all our consultants. Find out more on how you can join the IEEE
  Consultant Network Seattle. List your name in our directory\, attend our 
 National and local conferences at reduce costs. Get connected with our ove
 r 420\,000 members. Be a sponsor of one of our events. Give back to the yo
 ung professionals and share your knowledge. Attend Seattle Mariners\, Soun
 ders\, Rain\, Storm and Kraken games. Keep abreast of the cutting edge of 
 City of Bellevue Seattle and beyond. Wine\, cheese and crackers will be se
 rved. Meet your new IEEE 2023 Seattle Section President Sanjay Samuel.&lt;/p&gt;
 &lt;br /&gt;&lt;br /&gt;Agenda: &lt;br /&gt;&lt;p&gt;6:00 pm IEEE Announcements&lt;br /&gt;6:15 pm IEEE 
 Section Section President-elect 2023 Sanjay Samuel - &#39;IEEE Outlook for 202
 3&#39;&lt;br /&gt;6:30 pm IEEE Honor our Consultant Network Consultants - Slide Pres
 entation&lt;br /&gt;6:45 pm IEEE Cheese\, Krakers and Wine - IEEE Prize Pack giv
 e away Kraken Tickets\, Seattle Thunderbirds Tickets\, $50 Gift Cards from
  our sponsors&lt;br /&gt;7:30 pm IEEE Conclusion - Festive Holiday Music\, Speci
 al Guest with IEEE Token Gifts for 2023&lt;/p&gt;
END:VEVENT
END:VCALENDAR

