BEGIN:VCALENDAR
VERSION:2.0
PRODID:IEEE vTools.Events//EN
CALSCALE:GREGORIAN
BEGIN:VTIMEZONE
TZID:Asia/Kolkata
BEGIN:STANDARD
DTSTART:19451014T230000
TZOFFSETFROM:+0630
TZOFFSETTO:+0530
TZNAME:IST
END:STANDARD
END:VTIMEZONE
BEGIN:VEVENT
DTSTAMP:20221031T173455Z
UID:99647208-38C9-4C5A-ABD4-21ED8C2E8452
DTSTART;TZID=Asia/Kolkata:20220626T100000
DTEND;TZID=Asia/Kolkata:20220626T140000
DESCRIPTION:In this fast-changing world where we need to drive sustainable 
 development\, professionals need to plan their own career paths and develo
 pment. This workshop was aimed at getting a view of how Digital is transfo
 rming India and the tremendous opportunities that are ahead of us. With it
 s mission to &quot;Advancing Technology for Humanity&quot;\, IEEE can contribute in 
 a big way in this journey. The Objective of this workshop was that Each of
  the participants of this workshop can chalk out a roadmap for themselves 
 and identify opportunities where they can add value. About 22 participants
  benefited from this workshop.\n\nSpeaker(s): Mr DINANATH KHOLKAR\, \n\nPu
 ne\, Maharashtra\, India\, 411007
LOCATION:Pune\, Maharashtra\, India\, 411007
ORGANIZER:prashant.joshi@ieee.org
SEQUENCE:0
SUMMARY:Workshop on Managing Your Professional Development 
URL;VALUE=URI:https://events.vtools.ieee.org/m/330594
X-ALT-DESC:Description: &lt;br /&gt;&lt;p&gt;In this fast-changing world where we need 
 to drive sustainable development\, professionals need to plan their own ca
 reer paths and development. This workshop was aimed at getting &amp;nbsp\;a vi
 ew of how Digital is transforming India and the tremendous opportunities t
 hat are ahead of us. With its mission to &quot;Advancing Technology for Humanit
 y&quot;\, IEEE can contribute in a big way in this journey. The Objective of th
 is workshop was that Each of the participants of this workshop can chalk o
 ut a roadmap for themselves and identify opportunities where they can add 
 value. About 22 participants benefited from this workshop.&amp;nbsp\;&lt;/p&gt;
END:VEVENT
END:VCALENDAR

