BEGIN:VCALENDAR
VERSION:2.0
PRODID:IEEE vTools.Events//EN
CALSCALE:GREGORIAN
BEGIN:VTIMEZONE
TZID:Asia/Kolkata
BEGIN:STANDARD
DTSTART:19451014T230000
TZOFFSETFROM:+0630
TZOFFSETTO:+0530
TZNAME:IST
END:STANDARD
END:VTIMEZONE
BEGIN:VEVENT
DTSTAMP:20221110T070103Z
UID:9B071D2A-191E-495D-89B6-1579658E92BE
DTSTART;TZID=Asia/Kolkata:20221103T150000
DTEND;TZID=Asia/Kolkata:20221103T160000
DESCRIPTION:Event on Authoring Quality Technical Papers for IEEE\n\nOutline
  of the Session\n\n- Free tools available on Authorship from IEEE\n- Stren
 gthening your current research and identifying new trends\n- Assisting fac
 ulty and students in finding relevant research\n- What editors look into y
 our manuscript\n- Paper structure and organization\n- Ethics and avoiding 
 misconduct pitfalls\n\nSpeaker:-Dhanukumar Pattanashett\n\nRoom No.135 GIC
 T Building\, Central Campus\, Ahmedabad\, Gujarat\, India
LOCATION:Room No.135 GICT Building\, Central Campus\, Ahmedabad\, Gujarat\,
  India
ORGANIZER:ieee.sb@ahduni.edu.in
SEQUENCE:3
SUMMARY:Authoring Quality Technical Papers for IEEE
URL;VALUE=URI:https://events.vtools.ieee.org/m/330749
X-ALT-DESC:Description: &lt;br /&gt;&lt;p&gt;&lt;em&gt;&lt;strong&gt;Event on Authoring Quality Tec
 hnical Papers for IEEE&amp;nbsp\;&lt;/strong&gt;&lt;/em&gt;&lt;/p&gt;\n&lt;p&gt;&lt;em&gt;&lt;strong&gt;Outline of
  the Session&lt;/strong&gt;&lt;br /&gt;&lt;/em&gt;&lt;/p&gt;\n&lt;ul&gt;\n&lt;li&gt;Free tools available on Au
 thorship from IEEE&lt;/li&gt;\n&lt;li&gt;Strengthening your current research and ident
 ifying new trends&lt;/li&gt;\n&lt;li&gt;Assisting faculty and students in finding rele
 vant research&amp;nbsp\;&lt;/li&gt;\n&lt;li&gt;What editors look into your manuscript&lt;/li&gt;
 \n&lt;li&gt;Paper structure and organization&lt;/li&gt;\n&lt;li&gt;Ethics and avoiding misco
 nduct pitfalls&lt;/li&gt;\n&lt;/ul&gt;\n&lt;p&gt;&amp;nbsp\;&lt;/p&gt;\n&lt;p&gt;&lt;strong&gt;Speaker:-&lt;/strong&gt;&lt;
 strong&gt;Dhanukumar&amp;nbsp\;Pattanashett&lt;/strong&gt;&lt;/p&gt;
END:VEVENT
END:VCALENDAR

