BEGIN:VCALENDAR
VERSION:2.0
PRODID:IEEE vTools.Events//EN
CALSCALE:GREGORIAN
BEGIN:VTIMEZONE
TZID:America/New_York
BEGIN:DAYLIGHT
DTSTART:20220313T030000
TZOFFSETFROM:-0500
TZOFFSETTO:-0400
RRULE:FREQ=YEARLY;BYDAY=2SU;BYMONTH=3
TZNAME:EDT
END:DAYLIGHT
BEGIN:STANDARD
DTSTART:20221106T010000
TZOFFSETFROM:-0400
TZOFFSETTO:-0500
RRULE:FREQ=YEARLY;BYDAY=1SU;BYMONTH=11
TZNAME:EST
END:STANDARD
END:VTIMEZONE
BEGIN:VEVENT
DTSTAMP:20221104T220209Z
UID:BA52C36A-3CA3-438D-AC9F-871733545BF2
DTSTART;TZID=America/New_York:20221006T143000
DTEND;TZID=America/New_York:20221006T150000
DESCRIPTION:Microwave and millimeter-wave power modules (MPMs) are complete
  microwave power amplifiers in a single housing\, and usually include a so
 lid-state driver amplifier\, a miniature traveling wave tube (TWT)\, and a
 n electronic power converter (EPC). At the time of their introduction\, MP
 Ms were hailed as “the most significant recent advancement in high power
  microwave amplifiers\,” but they have seen relatively little applicatio
 n in space\, despite extensive heritage in the ground and airborne systems
 . When combined with a linearizer they can offer the most compact and effi
 cient high-power amplification available for the higher microwave and mill
 imeter-wave bands in the 25-to-200-watt power range. New “nano” techno
 logy has further reduced the size and increased the efficiency of MPMs\, w
 hile the development of more versatile linearizers now allows their charac
 teristics to be adjusted to correct for changes in an amplifier’s nonlin
 earity. These advances allow these amazing devices to be used in space for
  shaped\, multi-beam and phased array applications.\n\nSpeaker(s): Dr. Al 
 Katz\, \n\nBldg: Hanover Manor\, 16 Eagle Rock Avenue \,  East Hanover\, N
 ew Jersey\, United States\, 07936
LOCATION:Bldg: Hanover Manor\, 16 Eagle Rock Avenue \,  East Hanover\, New 
 Jersey\, United States\, 07936
ORGANIZER:akpoddar@ieee.org
SEQUENCE:1
SUMMARY:Microwave Power Modules (MPMs) in Space 
URL;VALUE=URI:https://events.vtools.ieee.org/m/331234
X-ALT-DESC:Description: &lt;br /&gt;&lt;p&gt;Microwave and millimeter-wave power module
 s (MPMs) are complete microwave power amplifiers in a single housing\, and
  usually include a solid-state driver amplifier\, a miniature traveling wa
 ve tube (TWT)\, and an electronic power converter (EPC). At the time of th
 eir introduction\, MPMs were hailed as &amp;ldquo\;the most significant recent
  advancement in high power microwave amplifiers\,&amp;rdquo\; but they have se
 en relatively little application in space\, despite extensive heritage in 
 the ground and airborne systems. When combined with a linearizer they can 
 offer the most compact and efficient high-power amplification available fo
 r the higher microwave and millimeter-wave bands in the 25-to-200-watt pow
 er range. New &amp;ldquo\;nano&amp;rdquo\; technology has further reduced the size
  and increased the efficiency of MPMs\, while the development of more vers
 atile linearizers now allows their characteristics to be adjusted to corre
 ct for changes in an amplifier&amp;rsquo\;s nonlinearity. These advances allow
  these amazing devices to be used in space for shaped\, multi-beam and pha
 sed array applications.&amp;nbsp\;&lt;/p&gt;
END:VEVENT
END:VCALENDAR

