BEGIN:VCALENDAR
VERSION:2.0
PRODID:IEEE vTools.Events//EN
CALSCALE:GREGORIAN
BEGIN:VTIMEZONE
TZID:Africa/Nairobi
BEGIN:STANDARD
DTSTART:19420801T001500
TZOFFSETFROM:+0245
TZOFFSETTO:+0300
TZNAME:EAT
END:STANDARD
END:VTIMEZONE
BEGIN:VEVENT
DTSTAMP:20221123T123226Z
UID:66614D97-2D84-4389-B4DF-AFE9FC96F289
DTSTART;TZID=Africa/Nairobi:20221107T193000
DTEND;TZID=Africa/Nairobi:20221109T210000
DESCRIPTION:IEEE Entrepreneurship Week Training For three days.\n\nAgenda: 
 \n1. Monday 7/11/22 (TOPICS)\n\nIntroduction to IEEE Entrepreneurship (Kit
 hinji Muriungi)\n\nEntrepreneurship as a driver for innovation (Savio Wamb
 ugu)\n\nMarket research (Olufemi Balogun)\n\n2. Tueasday 8/11/22 (TOPICS)\
 n\nProject management (Olugbenga)\n\nFinancial management\n\n3. Wednesday 
 9/11/22 (Topics)\n\nMentorship and guidance (Jacqueline Kiplagat)\n\nCommu
 nication and Presentation skills (Olema Vincent)\n\nVirtual: https://event
 s.vtools.ieee.org/m/331247
LOCATION:Virtual: https://events.vtools.ieee.org/m/331247
ORGANIZER:sangkipkemboike@ieee.org
SEQUENCE:3
SUMMARY:IEEE ENTREPRENEURSHIP WEEK
URL;VALUE=URI:https://events.vtools.ieee.org/m/331247
X-ALT-DESC:Description: &lt;br /&gt;&lt;p&gt;IEEE Entrepreneurship Week Training For th
 ree days.&lt;/p&gt;\n&lt;p&gt;&amp;nbsp\;&lt;/p&gt;&lt;br /&gt;&lt;br /&gt;Agenda: &lt;br /&gt;&lt;p&gt;1. &lt;strong&gt;Monda
 y 7/11/22 (TOPICS)&lt;/strong&gt;&lt;/p&gt;\n&lt;p&gt;Introduction to IEEE Entrepreneurship 
 (Kithinji Muriungi)&lt;/p&gt;\n&lt;p&gt;&lt;span style=&quot;font-weight: 400\;&quot;&gt;Entrepreneurs
 hip as a driver for innovation (Savio Wambugu)&lt;/span&gt;&lt;/p&gt;\n&lt;p&gt;&lt;span style=
 &quot;font-weight: 400\;&quot;&gt;Market research &amp;nbsp\;(Olufemi Balogun)&lt;/span&gt;&lt;/p&gt;\n
 &lt;p&gt;&lt;span style=&quot;font-weight: 400\;&quot;&gt;2&lt;strong&gt;. Tueasday 8/11/22 (TOPICS)&lt;/
 strong&gt;&lt;/span&gt;&lt;/p&gt;\n&lt;p&gt;&lt;span style=&quot;font-weight: 400\;&quot;&gt;Project management
  (Olugbenga)&lt;/span&gt;&lt;/p&gt;\n&lt;p&gt;&lt;span style=&quot;font-weight: 400\;&quot;&gt;Financial man
 agement&lt;/span&gt;&lt;/p&gt;\n&lt;p&gt;&lt;strong&gt;3. Wednesday 9/11/22 (Topics)&lt;/strong&gt;&lt;/p&gt;\
 n&lt;p&gt;&lt;span style=&quot;font-weight: 400\;&quot;&gt;Mentorship and guidance (Jacqueline K
 iplagat)&lt;/span&gt;&lt;/p&gt;\n&lt;p&gt;&lt;span style=&quot;font-weight: 400\;&quot;&gt;Communication and
  Presentation skills (Olema Vincent)&lt;/span&gt;&lt;/p&gt;\n&lt;p&gt;&lt;span style=&quot;font-weig
 ht: 400\;&quot;&gt;&amp;nbsp\;&lt;/span&gt;&lt;/p&gt;\n&lt;p&gt;&amp;nbsp\;&lt;/p&gt;
END:VEVENT
END:VCALENDAR

