BEGIN:VCALENDAR
VERSION:2.0
PRODID:IEEE vTools.Events//EN
CALSCALE:GREGORIAN
BEGIN:VTIMEZONE
TZID:America/Chicago
BEGIN:DAYLIGHT
DTSTART:20230312T030000
TZOFFSETFROM:-0600
TZOFFSETTO:-0500
RRULE:FREQ=YEARLY;BYDAY=2SU;BYMONTH=3
TZNAME:CDT
END:DAYLIGHT
BEGIN:STANDARD
DTSTART:20221106T010000
TZOFFSETFROM:-0500
TZOFFSETTO:-0600
RRULE:FREQ=YEARLY;BYDAY=1SU;BYMONTH=11
TZNAME:CST
END:STANDARD
END:VTIMEZONE
BEGIN:VEVENT
DTSTAMP:20230119T231539Z
UID:5EDDF618-E947-4009-8F1C-B877079245E7
DTSTART;TZID=America/Chicago:20221215T120000
DTEND;TZID=America/Chicago:20221215T130000
DESCRIPTION:This presentation aims to provide visibility to some very impor
 tant updates to radio certification requirements for the US and Canada\, a
 s well as discuss the most common misconceptions we mitigate while helping
  manufacturers navigate the waters of radio regulation. With a better unde
 rstanding\, manufacturers can avoid common errors and misinterpretations t
 hat delay project timelines when performing radio certifications or integr
 ating “Pre-certified” modules into their products. Manufacturers who m
 anage radio authorizations should also be aware of several updates that ha
 ve either been implemented or are on the horizon.\n\nCo-sponsored by: Lair
 d Connectivity \n\nSpeaker(s): Ryan Urness\, \n\nAgenda: \nThis presentati
 on aims to provide visibility to some very important updates to radio cert
 ification requirements for the US and Canada\, as well as discuss the most
  common misconceptions we mitigate while helping manufacturers navigate th
 e waters of radio regulation. With a better understanding\, manufacturers 
 can avoid common errors and misinterpretations that delay project timeline
 s when performing radio certifications or integrating “Pre-certified” 
 modules into their products. Manufacturers who manage radio authorizations
  should also be aware of several updates that have either been implemented
  or are on the horizon.\n\nVirtual: https://events.vtools.ieee.org/m/33159
 0
LOCATION:Virtual: https://events.vtools.ieee.org/m/331590
ORGANIZER:oclarke@ra.rcokwell.com
SEQUENCE:9
SUMMARY:Common Misconceptions in Radio Authorizations: Removing Obstacles B
 y Understanding Requirements
URL;VALUE=URI:https://events.vtools.ieee.org/m/331590
X-ALT-DESC:Description: &lt;br /&gt;&lt;p&gt;This presentation aims to provide visibili
 ty to some very important updates to radio certification requirements for 
 the US and Canada\, as well as discuss the most common misconceptions we m
 itigate while helping manufacturers navigate the waters of radio regulatio
 n. With a better understanding\, manufacturers can avoid common errors and
  misinterpretations that delay project timelines when performing radio cer
 tifications or integrating &amp;ldquo\;Pre-certified&amp;rdquo\; modules into thei
 r products. Manufacturers who manage radio authorizations should also be a
 ware of several updates that have either been implemented or are on the ho
 rizon.&lt;/p&gt;&lt;br /&gt;&lt;br /&gt;Agenda: &lt;br /&gt;&lt;p&gt;This presentation aims to provide v
 isibility to some very important updates to radio certification requiremen
 ts for the US and Canada\, as well as discuss the most common misconceptio
 ns we mitigate while helping manufacturers navigate the waters of radio re
 gulation. With a better understanding\, manufacturers can avoid common err
 ors and misinterpretations that delay project timelines when performing ra
 dio certifications or integrating &amp;ldquo\;Pre-certified&amp;rdquo\; modules in
 to their products. Manufacturers who manage radio authorizations should al
 so be aware of several updates that have either been implemented or are on
  the horizon.&lt;/p&gt;
END:VEVENT
END:VCALENDAR

