BEGIN:VCALENDAR
VERSION:2.0
PRODID:IEEE vTools.Events//EN
CALSCALE:GREGORIAN
BEGIN:VTIMEZONE
TZID:Asia/Karachi
BEGIN:STANDARD
DTSTART:20091031T230000
TZOFFSETFROM:+0600
TZOFFSETTO:+0500
TZNAME:PKT
END:STANDARD
END:VTIMEZONE
BEGIN:VEVENT
DTSTAMP:20221214T100114Z
UID:F1DB35FA-C978-48D2-9D3B-1079A35D229F
DTSTART;TZID=Asia/Karachi:20221210T090000
DTEND;TZID=Asia/Karachi:20221211T181500
DESCRIPTION:The IEEE WIE International Leadership Summit 2022\, is the prem
 ier leadership\, entrepreneurship\, and Technical event of the year that b
 rings students and professionals a two-day catalytic experience of rich le
 arning\, new ideas\, fresh perspective\, new technology\, and insprining s
 tories from leading experts spanning a wide range of fields and background
 s. Ten WIE Summits will be conducted globally in 2022 in differnt countrie
 s.\n\nThe vision for the summit is to provide attendees with the opportuni
 ty to create communities that fuel innovation\, facilitate knowledge shari
 ng &amp; provide support through highly interactive Empowerment\, Entrepreneur
 ship\, Leadership\, E-commerce\, humanitarian\, and Emerging Technology se
 ssions.\n\nThis 2022 WIE ILS includes Keynotes\, Bootcamps\, Panel Discuss
 ions\, Talk Shows\, Hands-on Taraining\, Fireside Chats\, other technical 
 and non-technical programs such as\n\nStrategic Innovation and Entrepreneu
 rship\n\nArtificial Intelligence\, IoT &amp; Cloud\n\nBig data &amp; Data Science\
 n\nBlockchain\, Metaverse\, &amp; Web 3.0\n\nCybersecurity &amp; Networking\n\nAma
 zon Web services &amp; Dropshipping\n\nDevOps Bootcamp\n\nStartups Bootcamp\n\
 nIndustry 4.0\n\nSTEM Program\n\nContent Creation Program\n\nProfessional 
 Development Programs\n\nHealthcare &amp; Technology\n\nWomen Empowerment Track
  (In Science &amp; Technology and other fields)\n\nEffective and Ethical Leade
 rship Development Tracks\n\nCommunity Building Track\n\nCareer Counseling 
 on a Global Scale Track\n\nDiversity and Gender Equality in Global Leaders
 hip\n\nPanel Discussions\n\nFireside Chats\n\nHumanitarian Activities\n\nJ
 ob Fair\n\nGaming Competitions\n\nIndustrial Experts Meetups\n\nMusic Nigh
 t\n\nMushaira\n\nSpeaker(s): Dr. Sarah Quraishi\, \n\nBldg: OVAL Ground\, 
 Government College University\, Lahore\, Punjab\, Pakistan\, 54000
LOCATION:Bldg: OVAL Ground\, Government College University\, Lahore\, Punja
 b\, Pakistan\, 54000
ORGANIZER:safoorasaleem34@gmail.com
SEQUENCE:4
SUMMARY:IEEE WIE International Leadership Summit 2022
URL;VALUE=URI:https://events.vtools.ieee.org/m/331850
X-ALT-DESC:Description: &lt;br /&gt;&lt;div class=&quot;x11i5rnm xat24cr x1mh8g0r x1vvkbs
  xdj266r x126k92a&quot;&gt;\n&lt;div dir=&quot;auto&quot;&gt;\n&lt;p&gt;The IEEE WIE International Leade
 rship Summit 2022\, is the premier leadership\, entrepreneurship\, and Tec
 hnical event of the year that brings students and professionals a two-day 
 catalytic experience of rich learning\, new ideas\, fresh perspective\, ne
 w technology\, and insprining stories from leading experts spanning a wide
  range of fields and backgrounds. Ten WIE Summits will be conducted global
 ly in 2022 in differnt countries.&lt;/p&gt;\n&lt;p&gt;The vision for the summit is to 
 provide attendees with the opportunity to create communities that fuel inn
 ovation\, facilitate knowledge sharing &amp;amp\; provide support through high
 ly interactive Empowerment\, Entrepreneurship\, Leadership\, E-commerce\, 
 humanitarian\, and Emerging Technology sessions.&lt;/p&gt;\n&lt;p&gt;This 2022 WIE ILS
  includes Keynotes\, Bootcamps\, Panel Discussions\, Talk Shows\, Hands-on
  Taraining\, Fireside Chats\, other technical and non-technical programs s
 uch as&lt;/p&gt;\n&lt;p&gt;&lt;span style=&quot;font-family: arial\, helvetica\, sans-serif\;&quot;
 &gt;Strategic Innovation and Entrepreneurship&lt;/span&gt;&lt;/p&gt;\n&lt;p&gt;&lt;span style=&quot;fon
 t-family: arial\, helvetica\, sans-serif\;&quot;&gt;Artificial Intelligence\, IoT 
 &amp;amp\; Cloud&lt;/span&gt;&lt;/p&gt;\n&lt;p&gt;&lt;span style=&quot;font-family: arial\, helvetica\, 
 sans-serif\;&quot;&gt;Big data &amp;amp\; Data Science&lt;/span&gt;&lt;/p&gt;\n&lt;p&gt;&lt;span style=&quot;fon
 t-family: arial\, helvetica\, sans-serif\;&quot;&gt;Blockchain\, Metaverse\, &amp;amp\
 ; Web 3.0&lt;/span&gt;&lt;/p&gt;\n&lt;p&gt;&lt;span style=&quot;font-family: arial\, helvetica\, san
 s-serif\;&quot;&gt;Cybersecurity &amp;amp\; Networking&lt;/span&gt;&lt;/p&gt;\n&lt;p&gt;&lt;span style=&quot;fon
 t-family: arial\, helvetica\, sans-serif\;&quot;&gt;Amazon Web services &amp;amp\; Dro
 pshipping&lt;/span&gt;&lt;/p&gt;\n&lt;p&gt;&lt;span style=&quot;font-family: arial\, helvetica\, san
 s-serif\;&quot;&gt;DevOps Bootcamp&lt;/span&gt;&lt;/p&gt;\n&lt;p&gt;&lt;span style=&quot;font-family: arial\
 , helvetica\, sans-serif\;&quot;&gt;Startups Bootcamp&lt;/span&gt;&lt;/p&gt;\n&lt;p&gt;&lt;span style=&quot;
 font-family: arial\, helvetica\, sans-serif\;&quot;&gt;Industry 4.0&lt;/span&gt;&lt;/p&gt;\n&lt;p
 &gt;&lt;span style=&quot;font-family: arial\, helvetica\, sans-serif\;&quot;&gt;STEM Program&lt;
 /span&gt;&lt;/p&gt;\n&lt;p&gt;&lt;span style=&quot;font-family: arial\, helvetica\, sans-serif\;&quot;
 &gt;Content Creation Program&lt;/span&gt;&lt;/p&gt;\n&lt;p&gt;&lt;span style=&quot;font-family: arial\,
  helvetica\, sans-serif\;&quot;&gt;Professional Development Programs&lt;/span&gt;&lt;/p&gt;\n&lt;
 p&gt;&lt;span style=&quot;font-family: arial\, helvetica\, sans-serif\;&quot;&gt;Healthcare &amp;
 amp\; Technology&lt;/span&gt;&lt;/p&gt;\n&lt;p&gt;&lt;span style=&quot;font-family: arial\, helvetic
 a\, sans-serif\;&quot;&gt;Women Empowerment Track (In Science &amp;amp\; Technology an
 d other fields)&lt;/span&gt;&lt;/p&gt;\n&lt;p&gt;&lt;span style=&quot;font-family: arial\, helvetica
 \, sans-serif\;&quot;&gt;Effective and Ethical Leadership Development Tracks&lt;/span
 &gt;&lt;/p&gt;\n&lt;p&gt;&lt;span style=&quot;font-family: arial\, helvetica\, sans-serif\;&quot;&gt;Comm
 unity Building Track&lt;/span&gt;&lt;/p&gt;\n&lt;p&gt;&lt;span style=&quot;font-family: arial\, helv
 etica\, sans-serif\;&quot;&gt;Career Counseling on a Global Scale Track&lt;/span&gt;&lt;/p&gt;
 \n&lt;p&gt;&lt;span style=&quot;font-family: arial\, helvetica\, sans-serif\;&quot;&gt;Diversity
  and Gender Equality in Global Leadership&lt;/span&gt;&lt;/p&gt;\n&lt;p&gt;&lt;span style=&quot;font
 -family: arial\, helvetica\, sans-serif\;&quot;&gt;Panel Discussions&lt;/span&gt;&lt;/p&gt;\n&lt;
 p&gt;&lt;span style=&quot;font-family: arial\, helvetica\, sans-serif\;&quot;&gt;Fireside Cha
 ts&lt;/span&gt;&lt;/p&gt;\n&lt;p&gt;&lt;span style=&quot;font-family: arial\, helvetica\, sans-serif
 \;&quot;&gt;Humanitarian Activities&lt;/span&gt;&lt;/p&gt;\n&lt;p&gt;&lt;span style=&quot;font-family: arial
 \, helvetica\, sans-serif\;&quot;&gt;Job Fair&lt;/span&gt;&lt;/p&gt;\n&lt;p&gt;&lt;span style=&quot;font-fam
 ily: arial\, helvetica\, sans-serif\;&quot;&gt;Gaming Competitions&lt;/span&gt;&lt;/p&gt;\n&lt;p&gt;
 &lt;span style=&quot;font-family: arial\, helvetica\, sans-serif\;&quot;&gt;Industrial Exp
 erts Meetups&lt;/span&gt;&lt;/p&gt;\n&lt;p&gt;&lt;span style=&quot;font-family: arial\, helvetica\, 
 sans-serif\;&quot;&gt;Music Night&lt;/span&gt;&lt;/p&gt;\n&lt;p&gt;&lt;span style=&quot;font-family: arial\,
  helvetica\, sans-serif\;&quot;&gt;Mushaira&lt;/span&gt;&lt;/p&gt;\n&lt;p&gt;&amp;nbsp\;&lt;/p&gt;\n&lt;/div&gt;\n&lt;/
 div&gt;
END:VEVENT
END:VCALENDAR

