BEGIN:VCALENDAR
VERSION:2.0
PRODID:IEEE vTools.Events//EN
CALSCALE:GREGORIAN
BEGIN:VTIMEZONE
TZID:Europe/Lisbon
BEGIN:DAYLIGHT
DTSTART:20230326T020000
TZOFFSETFROM:+0000
TZOFFSETTO:+0100
RRULE:FREQ=YEARLY;BYDAY=-1SU;BYMONTH=3
TZNAME:WEST
END:DAYLIGHT
BEGIN:STANDARD
DTSTART:20221030T010000
TZOFFSETFROM:+0100
TZOFFSETTO:+0000
RRULE:FREQ=YEARLY;BYDAY=-1SU;BYMONTH=10
TZNAME:WET
END:STANDARD
END:VTIMEZONE
BEGIN:VEVENT
DTSTAMP:20221220T185605Z
UID:6C7309C8-805A-4BD4-893D-30BDDE5BAFC5
DTSTART;TZID=Europe/Lisbon:20221125T140000
DTEND;TZID=Europe/Lisbon:20221125T173000
DESCRIPTION:IEEE Engineering Day is a yearly event promoted by IEEE Portuga
 l aiming to join Academia and Industry to present and discuss relevant top
 ics for the technological community.\n\nThis year in a hybrid format\, we 
 will meet at UNINOVA located on the campus of NOVA Science &amp; Technology Sc
 hool Campus in Caparica and/or online with the topic &quot;Is the Semiconductor
  Industry at a Crossroads Point?”.\n\n([https://engineeringday.ieee-pt.o
 rg](https://engineeringday.ieee-pt.org/2022/index.html)).\n\nAgenda: \n- 1
 4:00 - Welcoming and Presentation\n\n- 14:10 - The Semiconductor Technolog
 y: An history of challenges and success – Prof. Nuno Paulino (CTS-UNINOV
 A/FCT-NOVA)\n\n- 14:30 - Pandemic\, Shortages\, and Electronic Engineering
  (Prof. Salvatore Pennisi\, IEEE Fellow\, Università delgi Studi di Catan
 ia)\n\n- 15:00 - Is the Semiconductor Industry at a Crossroads Point? A ro
 undtable with representatives from:\n- European Chip Act\n- STMicroelectro
 nics\n- Synopsys.\n\n- 16:30 - Beyond CMOS: A TFT perspective – Prof. Pe
 dro Barquinha (CENIMAT)\n\n- 17:00 - IEEE Portugal Best MSc Outstanding Aw
 ards and IEE Portugal Section Awards\n\n- 17:15 - Closing Session\n\nAgend
 a: https://engineeringday.ieee-pt.org/2022/#schedule\n\nUninova - Institut
 o Desenvolvimento de Novas Tecnologias\, NOVA School of Science and Techno
 logy\, Caparica\, Lisboa\, Portugal\, 2829-516\, Virtual: https://events.v
 tools.ieee.org/m/331874
LOCATION:Uninova - Instituto Desenvolvimento de Novas Tecnologias\, NOVA Sc
 hool of Science and Technology\, Caparica\, Lisboa\, Portugal\, 2829-516\,
  Virtual: https://events.vtools.ieee.org/m/331874
ORGANIZER:excom@ieee-pt.org
SEQUENCE:23
SUMMARY:ED&#39;22 | Engineering Day 2022 | IEEE Portugal Section
URL;VALUE=URI:https://events.vtools.ieee.org/m/331874
X-ALT-DESC:Description: &lt;br /&gt;&lt;p&gt;&lt;span style=&quot;font-family: arial\, helvetic
 a\, sans-serif\;&quot;&gt;IEEE Engineering Day is a yearly event promoted by IEEE 
 Portugal aiming to join Academia and Industry to present and discuss relev
 ant topics for the technological community. &lt;/span&gt;&lt;/p&gt;\n&lt;p&gt;&lt;span style=&quot;f
 ont-family: arial\, helvetica\, sans-serif\;&quot;&gt;T&lt;/span&gt;&lt;span style=&quot;font-fa
 mily: arial\, helvetica\, sans-serif\;&quot;&gt;his year in a hybrid format\, we w
 ill meet at UNINOVA located on the campus of NOVA Science &amp;amp\; Technolog
 y School Campus in Caparica and/or online with the topic &lt;em&gt;&lt;strong&gt;&quot;Is t
 he Semiconductor Industry at a Crossroads Point?&amp;rdquo\;&lt;/strong&gt;&lt;/em&gt;&lt;spa
 n lang=&quot;PT&quot;&gt;.&lt;/span&gt; &lt;/span&gt;&lt;/p&gt;\n&lt;p&gt;&lt;span style=&quot;font-family: arial\, hel
 vetica\, sans-serif\;&quot;&gt;(&lt;a title=&quot;IEEE - PT Engineering Day 2022&quot; href=&quot;ht
 tps://engineeringday.ieee-pt.org/2022/index.html&quot; target=&quot;_blank&quot; rel=&quot;noo
 pener&quot;&gt;https://engineeringday.ieee-pt.org&lt;/a&gt;).&lt;/span&gt;&lt;/p&gt;&lt;br /&gt;&lt;br /&gt;Agen
 da: &lt;br /&gt;&lt;p&gt;&lt;span style=&quot;font-size: 10pt\;&quot;&gt;- 14:00 - Welcoming and Prese
 ntation&lt;/span&gt;&lt;/p&gt;\n&lt;p&gt;&lt;span style=&quot;font-size: 10pt\;&quot;&gt;- 14:10 - The Semic
 onductor Technology: An history of challenges and success &amp;ndash\; Prof. N
 uno Paulino (CTS-UNINOVA/FCT-NOVA)&lt;/span&gt;&lt;/p&gt;\n&lt;p&gt;&lt;span style=&quot;font-size: 
 10pt\;&quot;&gt;- 14:30 - Pandemic\, Shortages\, and Electronic Engineering (Prof.
  Salvatore Pennisi\, IEEE Fellow\, Universit&amp;agrave\; delgi Studi di Catan
 ia)&lt;/span&gt;&lt;/p&gt;\n&lt;p&gt;&lt;span style=&quot;font-size: 10pt\;&quot;&gt;- 15:00 - Is the Semico
 nductor Industry at a Crossroads Point? A roundtable with representatives 
 from: &lt;/span&gt;&lt;br /&gt;&lt;span style=&quot;font-size: 10pt\;&quot;&gt;&amp;nbsp\; &amp;nbsp\; &amp;nbsp\;
  &amp;nbsp\; &amp;nbsp\; &amp;nbsp\; &amp;nbsp\; - European Chip Act &lt;/span&gt;&lt;br /&gt;&lt;span st
 yle=&quot;font-size: 10pt\;&quot;&gt;&amp;nbsp\; &amp;nbsp\; &amp;nbsp\; &amp;nbsp\; &amp;nbsp\; &amp;nbsp\; &amp;n
 bsp\; - STMicroelectronics &lt;/span&gt;&lt;br /&gt;&lt;span style=&quot;font-size: 10pt\;&quot;&gt;&amp;n
 bsp\; &amp;nbsp\; &amp;nbsp\; &amp;nbsp\; &amp;nbsp\; &amp;nbsp\; &amp;nbsp\; - Synopsys.&lt;/span&gt;&lt;/
 p&gt;\n&lt;p&gt;&lt;span style=&quot;font-size: 10pt\;&quot;&gt;- 16:30 - Beyond CMOS: A TFT perspe
 ctive &amp;ndash\; Prof. Pedro Barquinha (CENIMAT)&lt;/span&gt;&lt;/p&gt;\n&lt;p&gt;&lt;span style=
 &quot;font-size: 10pt\;&quot;&gt;- 17:00 - IEEE Portugal Best MSc Outstanding Awards an
 d IEE Portugal Section Awards&lt;/span&gt;&lt;/p&gt;\n&lt;p&gt;&lt;span style=&quot;font-size: 10pt\
 ;&quot;&gt;- 17:15 - Closing Session&lt;/span&gt;&lt;/p&gt;\n&lt;p&gt;&lt;span style=&quot;font-family: aria
 l\, helvetica\, sans-serif\; font-size: 10pt\;&quot;&gt;Agenda: &lt;a title=&quot;Agenda -
  schedule&quot; href=&quot;https://engineeringday.ieee-pt.org/2022/#schedule&quot; target
 =&quot;_blank&quot; rel=&quot;noopener&quot;&gt;https://engineeringday.ieee-pt.org/2022/#schedule
 &lt;/a&gt;&lt;/span&gt;&lt;/p&gt;
END:VEVENT
END:VCALENDAR

