BEGIN:VCALENDAR
VERSION:2.0
PRODID:IEEE vTools.Events//EN
CALSCALE:GREGORIAN
BEGIN:VTIMEZONE
TZID:Asia/Jerusalem
BEGIN:DAYLIGHT
DTSTART:20230324T030000
TZOFFSETFROM:+0200
TZOFFSETTO:+0300
RRULE:FREQ=YEARLY;BYDAY=-1FR;BYMONTH=3
TZNAME:IDT
END:DAYLIGHT
BEGIN:STANDARD
DTSTART:20221030T010000
TZOFFSETFROM:+0300
TZOFFSETTO:+0200
RRULE:FREQ=YEARLY;BYDAY=-1SU;BYMONTH=10
TZNAME:IST
END:STANDARD
END:VTIMEZONE
BEGIN:VEVENT
DTSTAMP:20221118T120913Z
UID:ED3D49FD-2F70-4B15-B9C0-D23FCB3C02C3
DTSTART;TZID=Asia/Jerusalem:20221114T120000
DTEND;TZID=Asia/Jerusalem:20221115T180000
DESCRIPTION:By 2030\, we envision bio-convergence technologies to have a pr
 ofound impact on every person on earth. Progress in medical and biomedical
  technologies inevitably will make a remarkable impact on our society\, an
 d bring a higher quality of life to people in developed and under-develope
 d nations alike.\n\nThis 7th international meeting will host scientists\, 
 industrialists and entrepreneurs to exchange expert insights on issues rel
 ated to the meeting’s theme\, while exposing participants to state-of-th
 e-art research in the field. It will strengthen existing collaborations an
 d enable new international research partnerships on bi-national and multi-
 national levels. The conference specifically will focus on artificial inte
 lligence\, sensors and biomaterials for the future.\n\nThere also will be 
 an Leadership Panel involving academic\, government and industry leaders t
 o facilitate the discussion on disruptive technologies.\n\nProgram:\n\nhtt
 ps://biocon2030.eng.uci.edu/schedule\n\nCo-sponsored by: Natan Shaked\n\nB
 ldg: Museum of Natural Sciences \, Tel Aviv University\, \, Tel Aviv\, Tel
  Aviv District\, Israel
LOCATION:Bldg: Museum of Natural Sciences \, Tel Aviv University\, \, Tel A
 viv\, Tel Aviv District\, Israel
ORGANIZER:nshaked@tau.ac.il
SEQUENCE:3
SUMMARY:Bio-convergence 2030
URL;VALUE=URI:https://events.vtools.ieee.org/m/332087
X-ALT-DESC:Description: &lt;br /&gt;&lt;p&gt;By 2030\, we envision bio-convergence tech
 nologies to have a profound impact on every person on earth. Progress in m
 edical and biomedical technologies inevitably will make a remarkable impac
 t on our society\, and bring a higher quality of life to people in develop
 ed and under-developed nations alike.&lt;/p&gt;\n&lt;p&gt;This 7th international meeti
 ng will host scientists\, industrialists and entrepreneurs to exchange exp
 ert insights on issues related to the meeting&amp;rsquo\;s theme\, while expos
 ing participants to state-of-the-art research in the field. It will streng
 then existing collaborations and enable new international research partner
 ships on bi-national and multi-national levels. The conference specificall
 y will focus on artificial intelligence\, sensors and biomaterials for the
  future.&lt;/p&gt;\n&lt;p&gt;There also will be an Leadership Panel involving academic
 \, government and industry leaders to facilitate the discussion on disrupt
 ive technologies.&lt;/p&gt;\n&lt;p&gt;&amp;nbsp\;&lt;/p&gt;\n&lt;p&gt;Program:&lt;/p&gt;\n&lt;p&gt;https://biocon2
 030.eng.uci.edu/schedule&lt;/p&gt;\n&lt;p&gt;&amp;nbsp\;&lt;/p&gt;\n&lt;p&gt;&amp;nbsp\;&lt;/p&gt;
END:VEVENT
END:VCALENDAR

