BEGIN:VCALENDAR
VERSION:2.0
PRODID:IEEE vTools.Events//EN
CALSCALE:GREGORIAN
BEGIN:VTIMEZONE
TZID:America/New_York
BEGIN:DAYLIGHT
DTSTART:20230312T030000
TZOFFSETFROM:-0500
TZOFFSETTO:-0400
RRULE:FREQ=YEARLY;BYDAY=2SU;BYMONTH=3
TZNAME:EDT
END:DAYLIGHT
BEGIN:STANDARD
DTSTART:20221106T010000
TZOFFSETFROM:-0400
TZOFFSETTO:-0500
RRULE:FREQ=YEARLY;BYDAY=1SU;BYMONTH=11
TZNAME:EST
END:STANDARD
END:VTIMEZONE
BEGIN:VEVENT
DTSTAMP:20221220T040524Z
UID:E998763A-0103-4698-820E-2ABBE7D0EB56
DTSTART;TZID=America/New_York:20221216T084500
DTEND;TZID=America/New_York:20221216T163000
DESCRIPTION:Registration is free but required for this exciting in-person e
 vent.\n\nDetailed Agenda:\n08:45 - 09:10 Coffee\n\n09:10 - 09:15 Welcome R
 emarks: Dustin Dunwell\, Toronto SSCS Chapter Vice-Chair\n\n09:15 - 09:20 
 Opening Remarks: Ali Sheikholeslami\, SSCS VP Education\n\n09:20 - 10:20 P
 ushing the Energy Frontier in Wireline Communication - Davide Tonietto\, H
 uawei Canada\n\n10:20 - 10:40 Break\n\n10:40 - 11:20 Pushing the Data Rate
 s in Wireline Communication - Ali Sheikholeslami\, University of Toronto\,
  Canada\n\n11:20 - 12:00 Error Propagation Detection and Correction in Wir
 eline Communication - Hossein Shakiba\, Huawei Canada\n\n12:00 - 13:00 Lun
 ch\n\n13:00 - 13:40 Short Reach Interconnects for the Emerging Multi-Die S
 ystem Era - Dino Toffolon\, Synopys Canada\n\n13:40 - 14:20 Interconnect I
 P: Past\, Present\, and into the Future - Robert Wang\, Rambus Canada\n\n1
 4:20 - 14:40 Break\n\n14:40 - 15:20 Trends in Wireline Communication - Kev
 in Parker\, Marvell\n\n15:20 - 16:00 Optimization Tools for Future Wirelin
 e Transceivers - Tony Chan Carusone\, University of Toronto\, Canada\, and
  Alphawave\n\n16:00 - 16:25 Panel Discussion\, Moderated by Dustin Dunwell
 \n\n16:25 - 16:30 Concluding Remarks\, Dustin Dunwell\n\nCo-sponsored by: 
 University of Toronto\n\nRoom: SF1105\, Bldg: Sanford Fleming Building\, 1
 0 King&#39;s College Road\, University of Toronto\, Toronto\, Ontario\, Canada
 \, M5S 3G4
LOCATION:Room: SF1105\, Bldg: Sanford Fleming Building\, 10 King&#39;s College 
 Road\, University of Toronto\, Toronto\, Ontario\, Canada\, M5S 3G4
ORGANIZER:dustin.dunwell@ieee.org
SEQUENCE:11
SUMMARY:SSCS Workshop: Pushing the Frontiers in Wireline Communication
URL;VALUE=URI:https://events.vtools.ieee.org/m/332634
X-ALT-DESC:Description: &lt;br /&gt;&lt;p&gt;&lt;strong&gt;Registration is free but required 
 for this exciting in-person event.&lt;/strong&gt;&lt;/p&gt;\n&lt;p&gt;&lt;strong&gt;Detailed Agend
 a:&lt;/strong&gt;&lt;br /&gt;08:45 - 09:10 Coffee&lt;/p&gt;\n&lt;p&gt;09:10 - 09:15 Welcome Remark
 s: Dustin Dunwell\, Toronto SSCS Chapter Vice-Chair&lt;/p&gt;\n&lt;p&gt;09:15 - 09:20 
 Opening Remarks: Ali Sheikholeslami\, SSCS VP Education&lt;/p&gt;\n&lt;p&gt;09:20 - 10
 :20 Pushing the Energy Frontier in Wireline Communication - Davide Toniett
 o\, Huawei Canada&lt;/p&gt;\n&lt;p&gt;10:20 - 10:40 Break&lt;/p&gt;\n&lt;p&gt;10:40 - 11:20 Pushin
 g the Data Rates in Wireline Communication - Ali Sheikholeslami\, Universi
 ty of Toronto\, Canada&lt;/p&gt;\n&lt;p&gt;11:20 - 12:00 Error Propagation Detection a
 nd Correction in Wireline Communication - Hossein Shakiba\, Huawei Canada&lt;
 /p&gt;\n&lt;p&gt;12:00 - 13:00 Lunch&lt;/p&gt;\n&lt;p&gt;13:00 - 13:40 Short Reach Interconnect
 s for the Emerging Multi-Die System Era - Dino Toffolon\, Synopys Canada&lt;/
 p&gt;\n&lt;p&gt;13:40 - 14:20 Interconnect IP: Past\, Present\, and into the Future
  - Robert Wang\, Rambus Canada&lt;/p&gt;\n&lt;p&gt;14:20 - 14:40 Break&lt;/p&gt;\n&lt;p&gt;14:40 -
  15:20 Trends in Wireline Communication - Kevin Parker\, Marvell&lt;/p&gt;\n&lt;p&gt;1
 5:20 - 16:00 Optimization Tools for Future Wireline Transceivers - Tony Ch
 an Carusone\, University of Toronto\, Canada\, and Alphawave&lt;/p&gt;\n&lt;p&gt;16:00
  - 16:25 Panel Discussion\, Moderated by Dustin Dunwell&lt;/p&gt;\n&lt;p&gt;16:25 - 16
 :30 Concluding Remarks\, Dustin Dunwell&lt;/p&gt;
END:VEVENT
END:VCALENDAR

