BEGIN:VCALENDAR
VERSION:2.0
PRODID:IEEE vTools.Events//EN
CALSCALE:GREGORIAN
BEGIN:VTIMEZONE
TZID:America/New_York
BEGIN:DAYLIGHT
DTSTART:20230312T030000
TZOFFSETFROM:-0500
TZOFFSETTO:-0400
RRULE:FREQ=YEARLY;BYDAY=2SU;BYMONTH=3
TZNAME:EDT
END:DAYLIGHT
BEGIN:STANDARD
DTSTART:20221106T010000
TZOFFSETFROM:-0400
TZOFFSETTO:-0500
RRULE:FREQ=YEARLY;BYDAY=1SU;BYMONTH=11
TZNAME:EST
END:STANDARD
END:VTIMEZONE
BEGIN:VEVENT
DTSTAMP:20221129T221200Z
UID:BD93BCC5-FB22-45B7-B3F4-096EC8D539D0
DTSTART;TZID=America/New_York:20221122T180000
DTEND;TZID=America/New_York:20221122T210000
DESCRIPTION:Ready to take your circuit designs to the next level?\n\nIEEE C
 oncordia brings you: Printed Circuit Board Design using KiCad!\n\nWhat is 
 PCB design?\nPCB design is the placement of components and their connectio
 ns inside a delimited space using a computer-aided design software.\n\nIN 
 THIS WORKSHOP...\n- You will be provided with all the knowledge you need t
 o start passing your designs from a breadboard to an actual PCB!\n- You wi
 ll be informed where and how to print your designs.\n\n== IMPORTANT INFORM
 ATION ==\n- No previous experience required.\n- For this event\, you have 
 to bring your own laptop.\n- Download KiCad BEFORE the tutorial\, you can 
 get your free copy at https://www.kicad.org/download/\n\nTICKETS: $10 on v
 Tools\nDATE: Wednesday November 22nd\, 2022\nTIME: 6:00 PM to 9:00 PM\nLOC
 ATION: H655.3\n\nRoom: H655.3\, Bldg: Hall Building\, 1550 Boul. de Maison
 neuve Ouest\, Montreal\, Quebec\, Canada\, H3G 2E9
LOCATION:Room: H655.3\, Bldg: Hall Building\, 1550 Boul. de Maisonneuve Oue
 st\, Montreal\, Quebec\, Canada\, H3G 2E9
ORGANIZER:acadmics@ieeeconcordia.ca
SEQUENCE:4
SUMMARY:IEEE Concordia PCB Tutorial
URL;VALUE=URI:https://events.vtools.ieee.org/m/332708
X-ALT-DESC:Description: &lt;br /&gt;&lt;div class=&quot;contents-2MsGLg&quot;&gt;\n&lt;div id=&quot;messa
 ge-content-1040446335695999067&quot; class=&quot;markup-eYLPri messageContent-2t3eCI
 &quot;&gt;Ready to take your circuit designs to the next level?&lt;/div&gt;\n&lt;div class=
 &quot;markup-eYLPri messageContent-2t3eCI&quot;&gt;&amp;nbsp\;&lt;/div&gt;\n&lt;div class=&quot;markup-eY
 LPri messageContent-2t3eCI&quot;&gt;IEEE Concordia brings you: Printed Circuit Boa
 rd Design using KiCad!&lt;/div&gt;\n&lt;div class=&quot;markup-eYLPri messageContent-2t3
 eCI&quot;&gt;&amp;nbsp\;&lt;/div&gt;\n&lt;div class=&quot;markup-eYLPri messageContent-2t3eCI&quot;&gt;What 
 is PCB design?&lt;/div&gt;\n&lt;div class=&quot;markup-eYLPri messageContent-2t3eCI&quot;&gt;PCB
  design is the placement of components and their connections inside a deli
 mited space using a computer-aided design software.&lt;/div&gt;\n&lt;div class=&quot;mar
 kup-eYLPri messageContent-2t3eCI&quot;&gt;&amp;nbsp\;&lt;/div&gt;\n&lt;div class=&quot;markup-eYLPri
  messageContent-2t3eCI&quot;&gt;IN THIS WORKSHOP...&lt;/div&gt;\n&lt;div class=&quot;markup-eYLP
 ri messageContent-2t3eCI&quot;&gt;- You will be provided with all the knowledge yo
 u need to start passing your designs from a breadboard to an actual PCB!&lt;/
 div&gt;\n&lt;div class=&quot;markup-eYLPri messageContent-2t3eCI&quot;&gt;- You will be infor
 med where and how to print your designs.&lt;/div&gt;\n&lt;div class=&quot;markup-eYLPri 
 messageContent-2t3eCI&quot;&gt;&amp;nbsp\;&lt;/div&gt;\n&lt;div class=&quot;markup-eYLPri messageCon
 tent-2t3eCI&quot;&gt;== IMPORTANT INFORMATION ==&lt;/div&gt;\n&lt;div class=&quot;markup-eYLPri 
 messageContent-2t3eCI&quot;&gt;- No previous experience required.&lt;/div&gt;\n&lt;div clas
 s=&quot;markup-eYLPri messageContent-2t3eCI&quot;&gt;- For this event\, you have to bri
 ng your own laptop.&lt;/div&gt;\n&lt;div class=&quot;markup-eYLPri messageContent-2t3eCI
 &quot;&gt;- Download KiCad BEFORE the tutorial\, you can get your free copy at &lt;a 
 class=&quot;anchor-1MIwyf anchorUnderlineOnHover-2qPutX&quot; tabindex=&quot;0&quot; title=&quot;ht
 tps://www.kicad.org/download/&quot; role=&quot;button&quot; href=&quot;https://www.kicad.org/d
 ownload/&quot; target=&quot;_blank&quot; rel=&quot;noreferrer noopener&quot;&gt;https://www.kicad.org/
 download/&lt;/a&gt;&lt;/div&gt;\n&lt;div class=&quot;markup-eYLPri messageContent-2t3eCI&quot;&gt;&amp;nbs
 p\;&lt;/div&gt;\n&lt;div class=&quot;markup-eYLPri messageContent-2t3eCI&quot;&gt;TICKETS: $10 o
 n vTools&lt;/div&gt;\n&lt;div class=&quot;markup-eYLPri messageContent-2t3eCI&quot;&gt;DATE: Wed
 nesday November 22nd\, 2022&lt;/div&gt;\n&lt;div class=&quot;markup-eYLPri messageConten
 t-2t3eCI&quot;&gt;TIME: 6:00 PM to 9:00 PM&lt;/div&gt;\n&lt;div class=&quot;markup-eYLPri messag
 eContent-2t3eCI&quot;&gt;LOCATION: H655.3&lt;/div&gt;\n&lt;/div&gt;\n&lt;div id=&quot;message-accessor
 ies-1040446335695999067&quot; class=&quot;container-2sjPya&quot;&gt;\n&lt;article class=&quot;embedW
 rapper-1MtIDg embedFull-1HGV2S embed-hKpSrO markup-eYLPri&quot; aria-hidden=&quot;fa
 lse&quot;&gt;\n&lt;div class=&quot;gridContainer-1cF_Ic&quot;&gt;\n&lt;div class=&quot;grid-1aWVsE&quot;&gt;&amp;nbsp\
 ;&lt;/div&gt;\n&lt;/div&gt;\n&lt;/article&gt;\n&lt;/div&gt;
END:VEVENT
END:VCALENDAR

