BEGIN:VCALENDAR
VERSION:2.0
PRODID:IEEE vTools.Events//EN
CALSCALE:GREGORIAN
BEGIN:VTIMEZONE
TZID:America/New_York
BEGIN:DAYLIGHT
DTSTART:20230312T030000
TZOFFSETFROM:-0500
TZOFFSETTO:-0400
RRULE:FREQ=YEARLY;BYDAY=2SU;BYMONTH=3
TZNAME:EDT
END:DAYLIGHT
BEGIN:STANDARD
DTSTART:20221106T010000
TZOFFSETFROM:-0400
TZOFFSETTO:-0500
RRULE:FREQ=YEARLY;BYDAY=1SU;BYMONTH=11
TZNAME:EST
END:STANDARD
END:VTIMEZONE
BEGIN:VEVENT
DTSTAMP:20221124T013618Z
UID:36380388-8487-4C15-8E15-4B8DB96BC17E
DTSTART;TZID=America/New_York:20221123T130000
DTEND;TZID=America/New_York:20221123T150000
DESCRIPTION:Inscrivez-vous : https://etsmtl.libcal.com/event/3700644\n\n[En
 glish below]\n\nCet atelier comodal et bilingue est ouvert uniquement aux 
 participants présentant au 6th Montréal Photonics Networking Event\n\nF
 élicitations d&#39;avoir été sélectionné pour présenter vos travaux de r
 echerche pour le 6th Montréal Photonics Networking Event !\n\nSi vous sou
 haitez obtenir des commentaires pendant la préparation de votre présenta
 tion\, participez à une séance de soutien par les pairs (groupe de feedb
 ack).\n\nUne séance commencera par une petite présentation du SARA avec 
 des conseils sur les présentations orales / les affiches scientifiques. E
 nsuite\, nous vous donnerons l&#39;occasion de pratiquer votre présentation e
 t recevoir les commentaires de vos pairs. Si vous n&#39;avez pas terminé votr
 e présentation\, ne vous inquiétez pas! Venez simplement avec un brouill
 on de ce que vous voulez dire\, et obtenez des commentaires sur ce que vou
 s avez l&#39;intention de présenter.\nAu plaisir de vous rencontrer et d&#39;ente
 ndre parler de votre travail!\n\nPour présenter au 6th Montréal Photonic
 s Networking Event\, [soumettez votre résumé ici](http://ttps//forms.gle
 /hRwhvnx4nRZAzPB48)\n\nIl y aura de la nourriture\, du café et du thé gr
 atuits!\n\n----\n\nThis hybrid and bilngual workshop is only open to parti
 cpants presenting at the 6th Montréal Photonics Networking Event\n\nCongr
 atulations on having been chosen to present your work during the 6th Montr
 éal Photonics Networking Event !\n\nIf you would like some feedback while
  preparing for your presentation\, come to our peer-support session (feedb
 ack group).\n\nA session will begin with a small presentation by SARA with
  tips on scientific oral presentations / posters. Then we will give you a 
 chance to try out your presentation with feedback from your peers. If you 
 haven&#39;t finished your presentation - don&#39;t worry! Just come with a draft o
 f what you want to say\, and get some feedback on what you intend to prese
 nt.\n\nLooking forward to meeting you and hearing about your work!\n\nTo p
 resent at the 6th Montréal Photonics Networking Event\, [submit your abst
 ract here](http://ttps//forms.gle/hRwhvnx4nRZAzPB48)\n\nThere will be free
  food\, coffee\, and tea!\n\nCo-sponsored by: ETS Library\n\nSpeaker(s): P
 rasun Lala\, \n\nRoom: A-0232 \, Bldg: Pavillion A\, ETS\, Espace des cycl
 es supérieurs: Section discussion \, Montréal\, Quebec\, Canada\, Virtua
 l: https://events.vtools.ieee.org/m/332798
LOCATION:Room: A-0232 \, Bldg: Pavillion A\, ETS\, Espace des cycles supér
 ieurs: Section discussion \, Montréal\, Quebec\, Canada\, Virtual: https:
 //events.vtools.ieee.org/m/332798
ORGANIZER:matthew.t.posner@ieee.org
SEQUENCE:1
SUMMARY:SARA : 6th Montréal Photonics Networking Event - Groupe de feedbac
 k | Feedback group
URL;VALUE=URI:https://events.vtools.ieee.org/m/332798
X-ALT-DESC:Description: &lt;br /&gt;&lt;p&gt;Inscrivez-vous : https://etsmtl.libcal.com
 /event/3700644&lt;/p&gt;\n&lt;p dir=&quot;ltr&quot;&gt;[English below]&lt;/p&gt;\n&lt;p dir=&quot;ltr&quot;&gt;Cet ate
 lier comodal et bilingue est ouvert uniquement aux participants pr&amp;eacute\
 ;sentant au&amp;nbsp\;&lt;strong&gt;&lt;em&gt;6th Montr&amp;eacute\;al Photonics Networking Ev
 ent&lt;/em&gt;&lt;/strong&gt;&lt;/p&gt;\n&lt;p&gt;F&amp;eacute\;licitations d&#39;avoir &amp;eacute\;t&amp;eacute\
 ; s&amp;eacute\;lectionn&amp;eacute\; pour pr&amp;eacute\;senter vos travaux de recher
 che pour le&amp;nbsp\;&lt;strong&gt;&lt;em&gt;6th Montr&amp;eacute\;al Photonics Networking Ev
 ent&lt;/em&gt;&lt;/strong&gt;&amp;nbsp\;!&lt;/p&gt;\n&lt;p&gt;Si vous souhaitez obtenir des commentair
 es pendant la pr&amp;eacute\;paration de votre pr&amp;eacute\;sentation\, particip
 ez &amp;agrave\; une s&amp;eacute\;ance&amp;nbsp\;de soutien par les pairs (groupe de 
 feedback).&lt;/p&gt;\n&lt;p&gt;Une s&amp;eacute\;ance commencera par une petite pr&amp;eacute\
 ;sentation du SARA avec des conseils sur les pr&amp;eacute\;sentations orales 
 / les affiches scientifiques. Ensuite\, nous vous donnerons l&#39;occasion de 
 pratiquer votre pr&amp;eacute\;sentation et recevoir les commentaires de vos p
 airs. Si vous n&#39;avez pas termin&amp;eacute\; votre pr&amp;eacute\;sentation\, ne v
 ous inqui&amp;eacute\;tez pas! Venez simplement avec un brouillon de ce que vo
 us voulez dire\, et obtenez des commentaires sur ce que vous avez l&#39;intent
 ion de pr&amp;eacute\;senter.&lt;br /&gt;Au plaisir de vous rencontrer et d&#39;entendre
  parler de votre travail!&lt;/p&gt;\n&lt;p&gt;&lt;strong&gt;Pour pr&amp;eacute\;senter au&amp;nbsp\;
 &lt;em&gt;6th Montr&amp;eacute\;al Photonics Networking Event&lt;/em&gt;\,&amp;nbsp\;&lt;a href=&quot;
 http://ttps//forms.gle/hRwhvnx4nRZAzPB48&quot;&gt;soumettez votre r&amp;eacute\;sum&amp;ea
 cute\; ici&lt;/a&gt;&lt;/strong&gt;&lt;/p&gt;\n&lt;p&gt;&lt;strong&gt;Il y aura de la nourriture\, du ca
 f&amp;eacute\; et du th&amp;eacute\; gratuits!&lt;/strong&gt;&lt;/p&gt;\n&lt;p&gt;----&lt;/p&gt;\n&lt;p&gt;This 
 hybrid and bilngual workshop is only open to particpants presenting at the
 &amp;nbsp\;&lt;strong&gt;&lt;em&gt;6th Montr&amp;eacute\;al Photonics Networking Event&lt;/em&gt;&lt;/s
 trong&gt;&lt;/p&gt;\n&lt;p&gt;Congratulations on having been chosen to present your work 
 during the&amp;nbsp\;&lt;strong&gt;&lt;em&gt;6th Montr&amp;eacute\;al Photonics Networking Eve
 nt&lt;/em&gt;&lt;/strong&gt;&amp;nbsp\;!&lt;/p&gt;\n&lt;p&gt;If you would like some feedback&amp;nbsp\;whi
 le preparing for your presentation\, come to our peer-support session&amp;nbsp
 \;(feedback group).&lt;/p&gt;\n&lt;p&gt;A session will begin with a small presentation
  by SARA with tips on scientific oral presentations / posters. Then we wil
 l give you a chance to try out your presentation with feedback from&amp;nbsp\;
 your peers. If you haven&#39;t finished your presentation - don&#39;t worry! Just 
 come with a draft of what you want to say\, and get some feedback on what 
 you intend to present.&lt;/p&gt;\n&lt;p&gt;&lt;br /&gt;Looking forward to meeting you and he
 aring about your work!&lt;/p&gt;\n&lt;p&gt;&lt;strong&gt;To present at the&amp;nbsp\;&lt;em&gt;6th Mon
 tr&amp;eacute\;al Photonics Networking Event&lt;/em&gt;\,&amp;nbsp\;&lt;a href=&quot;http://ttps
 //forms.gle/hRwhvnx4nRZAzPB48&quot;&gt;submit your abstract here&lt;/a&gt;&lt;/strong&gt;&lt;/p&gt;\
 n&lt;p&gt;&lt;strong&gt;There will be free food\, coffee\, and tea!&lt;/strong&gt;&lt;/p&gt;
END:VEVENT
END:VCALENDAR

