BEGIN:VCALENDAR
VERSION:2.0
PRODID:IEEE vTools.Events//EN
CALSCALE:GREGORIAN
BEGIN:VTIMEZONE
TZID:America/New_York
BEGIN:DAYLIGHT
DTSTART:20230312T030000
TZOFFSETFROM:-0500
TZOFFSETTO:-0400
RRULE:FREQ=YEARLY;BYDAY=2SU;BYMONTH=3
TZNAME:EDT
END:DAYLIGHT
BEGIN:STANDARD
DTSTART:20221106T010000
TZOFFSETFROM:-0400
TZOFFSETTO:-0500
RRULE:FREQ=YEARLY;BYDAY=1SU;BYMONTH=11
TZNAME:EST
END:STANDARD
END:VTIMEZONE
BEGIN:VEVENT
DTSTAMP:20221116T231212Z
UID:7921F3AA-4D88-437B-A5C0-8418899970F9
DTSTART;TZID=America/New_York:20221116T130000
DTEND;TZID=America/New_York:20221116T140000
DESCRIPTION:The event begins with a brief professional organization houseke
 eping for all the members that attended\, which includes updates on upcomi
 ng events for our members. Once that is done\, the research panel begins. 
 TCNJ full time ECE faculty were invited to give a brief introduction and d
 iscussion of the research they perform with students. TCNJ IEEE Student Me
 mbers who are all involved in undergraduate research were invited to parti
 cipate in a panel discussion to introduce the concept of research to under
 classmen. Each student explained the lab where they work and break down on
 e of their projects that is currently being worked on. Due to the fact tha
 t undergraduate research is a very uncommon opportunity\, we want to allow
  these members to learn about the different ways they can get involved and
  what they would be getting involved with.There are a lot of ways to get i
 nvolved with a lot of different professors\, so it is important to allow t
 he future engineers to have as many tools at their disposal as possible.\n
 \nCo-sponsored by: WECEE and HKN\n\nSpeaker(s): Samantha Potomic\, \n\nAge
 nda: \n1. ECE Research Professor Introduction\n\n2. Research Panel with EC
 E students\n\n3. About Research opportunities\n\n4. Q/A Session\n\nRoom: 1
 36\, Bldg: Armstrong Hall\, 2000 Pennington Road\, Ewing\, New Jersey\, Un
 ited States\, 08638
LOCATION:Room: 136\, Bldg: Armstrong Hall\, 2000 Pennington Road\, Ewing\, 
 New Jersey\, United States\, 08638
ORGANIZER:potomis1@tcnj.edu
SEQUENCE:0
SUMMARY:IEEE Research Track Panel
URL;VALUE=URI:https://events.vtools.ieee.org/m/332857
X-ALT-DESC:Description: &lt;br /&gt;&lt;p&gt;&lt;span style=&quot;font-weight: 400\;&quot;&gt;The event
  begins with a brief professional organization housekeeping for all the me
 mbers that attended\, which includes updates on upcoming events for our me
 mbers. Once that is done\, the research panel begins. TCNJ full time ECE f
 aculty were invited to give a brief introduction and discussion of the res
 earch they perform with students. TCNJ IEEE Student Members who are all in
 volved in undergraduate research were invited to participate in a panel di
 scussion to introduce the concept of research to underclassmen. Each stude
 nt explained the lab where they work and break down one of their projects 
 that is currently being worked on. Due to the fact that undergraduate rese
 arch is a very uncommon opportunity\, we want to allow these members to le
 arn about the different ways they can get involved and what they would be 
 getting involved with.There are a lot of ways to get involved with a lot o
 f different professors\, so it is important to allow the future engineers 
 to have as many tools at their disposal as possible.&lt;/span&gt;&lt;/p&gt;&lt;br /&gt;&lt;br /
 &gt;Agenda: &lt;br /&gt;&lt;p&gt;1. ECE Research Professor Introduction&lt;/p&gt;\n&lt;p&gt;2. Resear
 ch Panel with ECE students&lt;/p&gt;\n&lt;p&gt;3. About Research opportunities&amp;nbsp\;&lt;
 /p&gt;\n&lt;p&gt;4. Q/A Session&lt;/p&gt;
END:VEVENT
END:VCALENDAR

